BEGIN:VCALENDAR
VERSION:2.0
PRODID:-//Cultura Río Cuarto - ECPv6.15.20//NONSGML v1.0//EN
CALSCALE:GREGORIAN
METHOD:PUBLISH
X-WR-CALNAME:Cultura Río Cuarto
X-ORIGINAL-URL:https://cultura.riocuarto.gob.ar
X-WR-CALDESC:Eventos para Cultura Río Cuarto
REFRESH-INTERVAL;VALUE=DURATION:PT1H
X-Robots-Tag:noindex
X-PUBLISHED-TTL:PT1H
BEGIN:VTIMEZONE
TZID:America/Argentina/Cordoba
BEGIN:STANDARD
TZOFFSETFROM:-0300
TZOFFSETTO:-0300
TZNAME:-03
DTSTART:20240101T000000
END:STANDARD
END:VTIMEZONE
BEGIN:VEVENT
DTSTART;VALUE=DATE:20250704
DTEND;VALUE=DATE:20250705
DTSTAMP:20260425T123231
CREATED:20250702T005205Z
LAST-MODIFIED:20250702T005205Z
UID:7353-1751587200-1751673599@cultura.riocuarto.gob.ar
SUMMARY:Presentación de libro: 𝙀𝙨𝙥𝙖𝙘𝙞𝙤\, 𝙩𝙞𝙚𝙢𝙥𝙤 𝙮 𝙚𝙣𝙜𝙖𝙣̃𝙤. 𝙍𝙚𝙡𝙖𝙩𝙤𝙨 𝙙𝙚 𝙝𝙚𝙘𝙝𝙤𝙨 𝙦𝙪𝙚 𝙨𝙞́ 𝙨𝙪𝙘𝙚𝙙𝙞𝙚𝙧𝙤𝙣.
DESCRIPTION:VIERNES 4 de JULIO\n \n📖 𝘑𝘶𝘢𝘯𝘫𝘰 𝘔𝘪𝘳𝘢𝘴 𝘱𝘳𝘦𝘴𝘦𝘯𝘵𝘢 𝘴𝘶 𝘱𝘳𝘪𝘮𝘦𝘳 𝘭𝘪𝘣𝘳𝘰: 𝙀𝙨𝙥𝙖𝙘𝙞𝙤\, 𝙩𝙞𝙚𝙢𝙥𝙤 𝙮 𝙚𝙣𝙜𝙖𝙣̃𝙤. 𝙍𝙚𝙡𝙖𝙩𝙤𝙨 𝙙𝙚 𝙝𝙚𝙘𝙝𝙤𝙨 𝙦𝙪𝙚 𝙨𝙞́ 𝙨𝙪𝙘𝙚𝙙𝙞𝙚𝙧𝙤𝙣. \n📌 𝐕𝐢𝐞𝐫𝐧𝐞𝐬 𝟒 𝐝𝐞 𝐣𝐮𝐥𝐢𝐨\n🕣 𝟏𝟗.𝟑𝟎 𝐇𝐒\, 𝐞𝐧 𝐁𝐢𝐛𝐥𝐢𝐨𝐭𝐞𝐜𝐚 𝐏𝐨𝐩𝐮𝐥𝐚𝐫 𝐌𝐚𝐫𝐢𝐚𝐧𝐨 𝐌𝐨𝐫𝐞𝐧𝐨 (𝐒𝐨𝐛𝐫𝐞𝐦𝐨𝐧𝐭𝐞 𝟏𝟎𝟕𝟗) \n“𝘌𝘯 𝘦𝘴𝘵𝘦 𝘭𝘪𝘣𝘳𝘰\, 𝘑𝘶𝘢𝘯𝘫𝘰\, (…) 𝘴𝘦 𝘥𝘪𝘴𝘱𝘰𝘯𝘦 𝘢 𝘤𝘰𝘮𝘱𝘢𝘳𝘵𝘪𝘳 – 𝘤𝘢𝘴𝘪 𝘤o𝘮𝘰 𝘦𝘯 𝘶𝘯𝘢 𝘳𝘦𝘶𝘯𝘪𝘰́𝘯 𝘥𝘦 𝘢𝘮𝘪𝘨𝘰𝘴- 𝘴𝘶 𝘷𝘪𝘴𝘪𝘰́𝘯 𝘥𝘦 𝘭𝘢 𝘷𝘪𝘥𝘢\, 𝘴𝘶𝘴 𝘭𝘦𝘤𝘵𝘶𝘳𝘢𝘴\, 𝘴𝘶𝘴 𝘱𝘢𝘴𝘪𝘰𝘯𝘦𝘴 𝘺 𝘤𝘰𝘯 𝘦𝘭𝘭𝘰\, 𝘪𝘯𝘦𝘷𝘪𝘵𝘢𝘣𝘭𝘦𝘮𝘦𝘯𝘵𝘦\, 𝘭𝘢 𝘷𝘦𝘳𝘦𝘥𝘢 𝘲𝘶𝘦 𝘩𝘢 𝘦𝘭𝘦𝘨𝘪𝘥𝘰 𝘱𝘢𝘳𝘢 𝘵𝘳𝘢𝘯𝘴𝘪𝘵𝘢𝘳 𝘱𝘰𝘳 𝘦𝘴𝘵𝘰𝘴 𝘦𝘴𝘱𝘢𝘤𝘪𝘰𝘴\, 𝘦𝘯 𝘵𝘪𝘦𝘮𝘱𝘰𝘴 𝘥𝘰𝘯𝘥𝘦 𝘦𝘭 𝘦𝘯𝘨𝘢𝘯̃𝘰 𝘴𝘦 𝘥𝘪𝘴𝘧𝘳𝘢𝘻𝘢 𝘥𝘦 𝘤𝘰𝘳𝘥𝘦𝘳𝘰…”\n𝘉𝘢𝘤𝘩𝘪 𝘚𝘢𝘭𝘢𝘴
URL:https://cultura.riocuarto.gob.ar/event/presentacion-de-libro-%f0%9d%99%80%f0%9d%99%a8%f0%9d%99%a5%f0%9d%99%96%f0%9d%99%98%f0%9d%99%9e%f0%9d%99%a4-%f0%9d%99%a9%f0%9d%99%9e%f0%9d%99%9a%f0%9d%99%a2%f0%9d%99%a5%f0%9d%99%a4-%f0%9d%99%ae/
CATEGORIES:BIBLIOTECA POPULAR MARIANO MORENO
ATTACH;FMTTYPE=image/jpeg:https://cultura.riocuarto.gob.ar/wp-content/uploads/2025/07/4-de-julio-MIRAS-e1751417497530.jpeg
END:VEVENT
BEGIN:VEVENT
DTSTART;VALUE=DATE:20250705
DTEND;VALUE=DATE:20250706
DTSTAMP:20260425T123231
CREATED:20250702T005325Z
LAST-MODIFIED:20250702T005325Z
UID:7358-1751673600-1751759999@cultura.riocuarto.gob.ar
SUMMARY:Presentación del libro "Así éramos\, Así somos\, Así seremos: Testimonios del Rock de Río IV"
DESCRIPTION:Presentación del libro “Así éramos\, Así somos\, Así seremos: Testimonios del Rock de Río IV”\, por Fernando Aguirre y Darío Bartoccioni\n\nEl libro busca poner en valor el rock como patrimonio cultural de la ciudad.En la palabra de los protagonistas y en el ejercicio de la memoria\, el libro recopila una serie de 12 entrevistas a músicos protagonistas de las tres primeras décadas del rock tomando el punto de partida el año 64 hasta el 89. Estás tres décadas representan el nacimiento y consolidación del rock no solo como género\, si no como una manifestación cultural político y social\, estos relatos buscan exponer que el rock es una consecuencia de distintas manifestaciones a lo largo de la historia\n\n📌 Sábado 5 de julio\n🕣 𝟏𝟗 hs\, 𝐞𝐧 𝐁𝐢𝐛𝐥𝐢𝐨𝐭𝐞𝐜𝐚 𝐏𝐨𝐩𝐮𝐥𝐚𝐫 𝐌𝐚𝐫𝐢𝐚𝐧𝐨 𝐌𝐨𝐫𝐞𝐧𝐨 (𝐒𝐨𝐛𝐫𝐞𝐦𝐨𝐧𝐭𝐞 𝟏𝟎𝟕𝟗)
URL:https://cultura.riocuarto.gob.ar/event/presentacion-del-libro-asi-eramos-asi-somos-asi-seremos-testimonios-del-rock-de-rio-iv/
CATEGORIES:BIBLIOTECA POPULAR MARIANO MORENO
ATTACH;FMTTYPE=image/jpeg:https://cultura.riocuarto.gob.ar/wp-content/uploads/2025/07/5-de-julio-Aguirre-Bartoccini.jpeg
END:VEVENT
BEGIN:VEVENT
DTSTART;VALUE=DATE:20250709
DTEND;VALUE=DATE:20250715
DTSTAMP:20260425T123231
CREATED:20250701T233550Z
LAST-MODIFIED:20250702T000502Z
UID:7312-1752019200-1752537599@cultura.riocuarto.gob.ar
SUMMARY:*PEQUITAS Y PIPO EN VACACIONES *
DESCRIPTION:MIÉRCOLES 9 DE JULIO\nDOS FUNCIONES:\n15 y 17hs.\nBiblioteca Popular Mariano Moreno (Sobremonte 1079). Entrada General: $6.000. Reserva de entradas con anticipación al 358 4294619.\nPequitas estrena obra junto a su títere estrella\, Pipo. En esta obra para toda la familia denominada “Pequitas\, Pipo y algo debajo de la cama” la payasa tendrá que ayudar a Pipo a develar el misterio que se esconde debajo de su cama. Podrán?\nRepite\nLUNES 14 DE JULIO 15hs ( única función)
URL:https://cultura.riocuarto.gob.ar/event/pequitas-y-pipo-en-vacaciones/
CATEGORIES:BIBLIOTECA POPULAR MARIANO MORENO
ATTACH;FMTTYPE=image/jpeg:https://cultura.riocuarto.gob.ar/wp-content/uploads/2025/07/Imagen-de-WhatsApp-2025-07-01-a-las-18.57.03_bde762b7-e1751412312592.jpg
END:VEVENT
END:VCALENDAR