BEGIN:VCALENDAR
VERSION:2.0
PRODID:-//Cultura Río Cuarto - ECPv6.15.20//NONSGML v1.0//EN
CALSCALE:GREGORIAN
METHOD:PUBLISH
X-WR-CALNAME:Cultura Río Cuarto
X-ORIGINAL-URL:https://cultura.riocuarto.gob.ar
X-WR-CALDESC:Eventos para Cultura Río Cuarto
REFRESH-INTERVAL;VALUE=DURATION:PT1H
X-Robots-Tag:noindex
X-PUBLISHED-TTL:PT1H
BEGIN:VTIMEZONE
TZID:America/Argentina/Cordoba
BEGIN:STANDARD
TZOFFSETFROM:-0300
TZOFFSETTO:-0300
TZNAME:-03
DTSTART:20240101T000000
END:STANDARD
END:VTIMEZONE
BEGIN:VEVENT
DTSTART;VALUE=DATE:20250709
DTEND;VALUE=DATE:20250715
DTSTAMP:20260425T123707
CREATED:20250701T233550Z
LAST-MODIFIED:20250702T000502Z
UID:7312-1752019200-1752537599@cultura.riocuarto.gob.ar
SUMMARY:*PEQUITAS Y PIPO EN VACACIONES *
DESCRIPTION:MIÉRCOLES 9 DE JULIO\nDOS FUNCIONES:\n15 y 17hs.\nBiblioteca Popular Mariano Moreno (Sobremonte 1079). Entrada General: $6.000. Reserva de entradas con anticipación al 358 4294619.\nPequitas estrena obra junto a su títere estrella\, Pipo. En esta obra para toda la familia denominada “Pequitas\, Pipo y algo debajo de la cama” la payasa tendrá que ayudar a Pipo a develar el misterio que se esconde debajo de su cama. Podrán?\nRepite\nLUNES 14 DE JULIO 15hs ( única función)
URL:https://cultura.riocuarto.gob.ar/event/pequitas-y-pipo-en-vacaciones/
CATEGORIES:BIBLIOTECA POPULAR MARIANO MORENO
ATTACH;FMTTYPE=image/jpeg:https://cultura.riocuarto.gob.ar/wp-content/uploads/2025/07/Imagen-de-WhatsApp-2025-07-01-a-las-18.57.03_bde762b7-e1751412312592.jpg
END:VEVENT
END:VCALENDAR