BEGIN:VCALENDAR
VERSION:2.0
PRODID:-//Cultura Río Cuarto - ECPv6.15.20//NONSGML v1.0//EN
CALSCALE:GREGORIAN
METHOD:PUBLISH
X-ORIGINAL-URL:https://cultura.riocuarto.gob.ar
X-WR-CALDESC:Eventos para Cultura Río Cuarto
REFRESH-INTERVAL;VALUE=DURATION:PT1H
X-Robots-Tag:noindex
X-PUBLISHED-TTL:PT1H
BEGIN:VTIMEZONE
TZID:America/Argentina/Cordoba
BEGIN:STANDARD
TZOFFSETFROM:-0300
TZOFFSETTO:-0300
TZNAME:-03
DTSTART:20240101T000000
END:STANDARD
END:VTIMEZONE
BEGIN:VEVENT
DTSTART;VALUE=DATE:20250806
DTEND;VALUE=DATE:20250807
DTSTAMP:20260425T124326
CREATED:20250806T143019Z
LAST-MODIFIED:20250806T143019Z
UID:8288-1754438400-1754524799@cultura.riocuarto.gob.ar
SUMMARY:CINE EN LA MORENO
DESCRIPTION:Miércoles 6 de agosto. 20.30 hs. Biblioteca Popular Mariano Moreno. \nCine en la Moreno. Todos los miércoles de agosto a las 20:30hs con entrada libre y gratuita.  Homenaje a Cecilia Roth. \n1ra entrega:  Entre tinieblas\, de Pedro Almodóvar\, una película sumamente loca\, excéntrica\, divertida\, para reírse y disfrutar muchísimo.
URL:https://cultura.riocuarto.gob.ar/event/cine-en-la-moreno/
CATEGORIES:BIBLIOTECA POPULAR MARIANO MORENO
ATTACH;FMTTYPE=image/jpeg:https://cultura.riocuarto.gob.ar/wp-content/uploads/2025/08/Entre-Tinieblas-miercoles-6-e1754490613979.jpeg
END:VEVENT
END:VCALENDAR