BEGIN:VCALENDAR
VERSION:2.0
PRODID:-//Cultura Río Cuarto - ECPv6.15.20//NONSGML v1.0//EN
CALSCALE:GREGORIAN
METHOD:PUBLISH
X-WR-CALNAME:Cultura Río Cuarto
X-ORIGINAL-URL:https://cultura.riocuarto.gob.ar
X-WR-CALDESC:Eventos para Cultura Río Cuarto
REFRESH-INTERVAL;VALUE=DURATION:PT1H
X-Robots-Tag:noindex
X-PUBLISHED-TTL:PT1H
BEGIN:VTIMEZONE
TZID:America/Argentina/Cordoba
BEGIN:STANDARD
TZOFFSETFROM:-0300
TZOFFSETTO:-0300
TZNAME:-03
DTSTART:20240101T000000
END:STANDARD
END:VTIMEZONE
BEGIN:VEVENT
DTSTART;VALUE=DATE:20250909
DTEND;VALUE=DATE:20250910
DTSTAMP:20260421T081714
CREATED:20250829T123713Z
LAST-MODIFIED:20250829T123713Z
UID:8611-1757376000-1757462399@cultura.riocuarto.gob.ar
SUMMARY:TALLER DE AUTORRETRATO
DESCRIPTION:Martes 9 de septiembre. Casa de Poesía Betty Medina Cabral (Echeverría 897). 17.30hs. \nComienza el taller de autorretrato Captar el alma. Costo inscripción: $5000. Costo mensual: $20000 (incluye material). Inscripciones: casadepoesia.bmc@gmail.com. Martes de 15.30 a 17.30.
URL:https://cultura.riocuarto.gob.ar/event/taller-de-autorretrato/
CATEGORIES:CASA DE LA POESÍA
ATTACH;FMTTYPE=image/jpeg:https://cultura.riocuarto.gob.ar/wp-content/uploads/2025/08/TALLER-CAPTAR-EL-ALMA-scaled-e1756471023221.jpg
END:VEVENT
BEGIN:VEVENT
DTSTART;VALUE=DATE:20250920
DTEND;VALUE=DATE:20250921
DTSTAMP:20260421T081714
CREATED:20250911T134530Z
LAST-MODIFIED:20250911T134530Z
UID:8955-1758326400-1758412799@cultura.riocuarto.gob.ar
SUMMARY:TALLER: PAISAJE INTERIOR
DESCRIPTION:Sábado 20 de septiembre. Casa de la Poesía-Museo Betty Medina Cabral. 9.30hs. \nSe realiza el taller Paisaje interior. Arancelado-Cupos limitados. Inscripciones e informes:   Silvina de la Cruz: 3584367906. \nEn este taller la propuesta es trazar un camino sensorial a través de fotografías\, poesía\, hilos y puntadas. Estos materiales se convierten en un lenguaje que nos lleva mucho más allá de lo que podemos ver y nos abre a un mundo donde la memoria\, las emociones y el arte se unen. La invitación es a crear una composición visual\, estética y poética interviniendo las fotografías a través del bordado. Iniciaremos el proceso creativo con la lectura de algunos poemas que nos ayuden a crear con hilos y puntadas nuestro propio universo poético. En el encuentro vamos a aprender algunas puntadas básicas y la técnica para bordar nuestras fotos. No hace falta experiencia de ningún tipo. \nMateriales sugeridos para traer al encuentro: cuaderno o libreta para tomar nota\, tijera\, fotografía o imagen que quieran intervenir. Importante: todos los materiales para crear están incluidos (diferentes tipos de hilos\, agujas\, papel para soporte\, papel para hacer muestrario de puntos e imágenes para quien no tenga)
URL:https://cultura.riocuarto.gob.ar/event/taller-paisaje-interior/
CATEGORIES:CASA DE LA POESÍA
ATTACH;FMTTYPE=image/jpeg:https://cultura.riocuarto.gob.ar/wp-content/uploads/2025/09/Paisaje-interior-scaled-e1757598313754.jpg
END:VEVENT
END:VCALENDAR