BEGIN:VCALENDAR
VERSION:2.0
PRODID:-//Cultura Río Cuarto - ECPv6.15.20//NONSGML v1.0//EN
CALSCALE:GREGORIAN
METHOD:PUBLISH
X-WR-CALNAME:Cultura Río Cuarto
X-ORIGINAL-URL:https://cultura.riocuarto.gob.ar
X-WR-CALDESC:Eventos para Cultura Río Cuarto
REFRESH-INTERVAL;VALUE=DURATION:PT1H
X-Robots-Tag:noindex
X-PUBLISHED-TTL:PT1H
BEGIN:VTIMEZONE
TZID:America/Argentina/Cordoba
BEGIN:STANDARD
TZOFFSETFROM:-0300
TZOFFSETTO:-0300
TZNAME:-03
DTSTART:20240101T000000
END:STANDARD
END:VTIMEZONE
BEGIN:VEVENT
DTSTART;VALUE=DATE:20251018
DTEND;VALUE=DATE:20251019
DTSTAMP:20260421T182630
CREATED:20251014T151232Z
LAST-MODIFIED:20251014T151232Z
UID:9468-1760745600-1760831999@cultura.riocuarto.gob.ar
SUMMARY:TALLER: DÍA ESPECIAL PARA UNA PERSONA ESPECIAL
DESCRIPTION:Sábado 18 de octubre. Biblioteca Vagón Reino del Revés del Andino. 15.30hs. \nSe realiza el taller gratuito\, en el que se realizarán hermosas manualidades para regalar a esa mujer especial. Destinado a niños de 4 a 12 años. Asistir con un adulto. Se suspende por lluvia.
URL:https://cultura.riocuarto.gob.ar/event/taller-dia-especial-para-una-persona-especial/
CATEGORIES:BIBLIOTECA VAGÓN REINO DEL REVÉS. C.C. ANDINO
ATTACH;FMTTYPE=image/png:https://cultura.riocuarto.gob.ar/wp-content/uploads/2025/10/BIBLIO_MADRE-e1760454734946.png
END:VEVENT
END:VCALENDAR