BEGIN:VCALENDAR
VERSION:2.0
PRODID:-//Cultura Río Cuarto - ECPv6.15.20//NONSGML v1.0//EN
CALSCALE:GREGORIAN
METHOD:PUBLISH
X-WR-CALNAME:Cultura Río Cuarto
X-ORIGINAL-URL:https://cultura.riocuarto.gob.ar
X-WR-CALDESC:Eventos para Cultura Río Cuarto
REFRESH-INTERVAL;VALUE=DURATION:PT1H
X-Robots-Tag:noindex
X-PUBLISHED-TTL:PT1H
BEGIN:VTIMEZONE
TZID:America/Argentina/Cordoba
BEGIN:STANDARD
TZOFFSETFROM:-0300
TZOFFSETTO:-0300
TZNAME:-03
DTSTART:20230101T000000
END:STANDARD
END:VTIMEZONE
BEGIN:VEVENT
DTSTART;VALUE=DATE:20241130
DTEND;VALUE=DATE:20241201
DTSTAMP:20260422T010849
CREATED:20241128T120440Z
LAST-MODIFIED:20241128T164643Z
UID:1769-1732924800-1733011199@cultura.riocuarto.gob.ar
SUMMARY:TANGO EN EL PALACIO
DESCRIPTION:Este sábado 30 de noviembre\, de 10 a 13hs. y en el marco de la apertura del ExPalacio de Justicia (Alvear 635) se lleva a cabo la Clase gratuita abierta y práctica libre de tango. Info: 3585063033.
URL:https://cultura.riocuarto.gob.ar/event/tango-en-el-palacio/
CATEGORIES:EX PALACIO DE JUSTICIA
ATTACH;FMTTYPE=image/jpeg:https://cultura.riocuarto.gob.ar/wp-content/uploads/Tango-en-el-palacio-e1732795461649.jpeg
END:VEVENT
END:VCALENDAR