BEGIN:VCALENDAR
VERSION:2.0
PRODID:-//Cultura Río Cuarto - ECPv6.15.20//NONSGML v1.0//EN
CALSCALE:GREGORIAN
METHOD:PUBLISH
X-ORIGINAL-URL:https://cultura.riocuarto.gob.ar
X-WR-CALDESC:Eventos para Cultura Río Cuarto
REFRESH-INTERVAL;VALUE=DURATION:PT1H
X-Robots-Tag:noindex
X-PUBLISHED-TTL:PT1H
BEGIN:VTIMEZONE
TZID:America/Argentina/Cordoba
BEGIN:STANDARD
TZOFFSETFROM:-0300
TZOFFSETTO:-0300
TZNAME:-03
DTSTART:20240101T000000
END:STANDARD
END:VTIMEZONE
BEGIN:VEVENT
DTSTART;VALUE=DATE:20250104
DTEND;VALUE=DATE:20250105
DTSTAMP:20260423T155535
CREATED:20241230T214445Z
LAST-MODIFIED:20250102T142508Z
UID:3151-1735948800-1736035199@cultura.riocuarto.gob.ar
SUMMARY:CICLO MÚSICA EN LA HERRADURA
DESCRIPTION:CICLO MÚSICA EN LA HERRADURA \nSÁBADO 04 DE ENERO 21.00HS.  HERRADURA DEL ANDINO. Entrada libre y gratuita. No se suspende por mal tiempo. \nLA PORTADA Rock & Blues \nCovers de los años 70\, 80\,90. B B King\, Deep Purple\, Queen\, Pink Floyd\,  Scorpions\,Police\, Creedence Clearwater Revival\, Audioslave\, Z Z Top\, en español Vox Dei\, Pappo\, Divididos\, Los piojos entre otros. \nIntegrantes: Facundo Martínez\, Juan Peña\, Matías Domínguez\, Héctor Furchi Anselmi. \n 
URL:https://cultura.riocuarto.gob.ar/event/ciclo-musica-en-la-herradura/
CATEGORIES:HERRADURA.C.C ANDINO
ATTACH;FMTTYPE=image/jpeg:https://cultura.riocuarto.gob.ar/wp-content/uploads/WhatsApp-Image-2024-12-30-at-3.49.03-PM3-e1735595078409.jpeg
END:VEVENT
BEGIN:VEVENT
DTSTART;VALUE=DATE:20250109
DTEND;VALUE=DATE:20250110
DTSTAMP:20260423T155535
CREATED:20250107T141419Z
LAST-MODIFIED:20250107T141419Z
UID:3214-1736380800-1736467199@cultura.riocuarto.gob.ar
SUMMARY:CICLO NOCHES DE TANGO
DESCRIPTION:JUEVES 9 DE ENERO. 20.00HS. HERRADURA DEL ANDINO. Entrada libre y gratuita. No se suspende por mal tiempo. \nVoces: Sandra Solis\, Juan Carlos Rodríguez\, Tito Cabrera\, Nino Canonero\, Eduardo Bianco y Ricardo Fernández. Músicos: Santiago Llanes en piano y Ramón Osvaldo López en bandoneón. Coordina Juan Carlos Ameri.
URL:https://cultura.riocuarto.gob.ar/event/ciclo-noches-de-tango/
CATEGORIES:HERRADURA.C.C ANDINO
ATTACH;FMTTYPE=image/png:https://cultura.riocuarto.gob.ar/wp-content/uploads/2025/01/tango_feed-e1736259246818.png
END:VEVENT
BEGIN:VEVENT
DTSTART;VALUE=DATE:20250111
DTEND;VALUE=DATE:20250112
DTSTAMP:20260423T155535
CREATED:20250107T144613Z
LAST-MODIFIED:20250107T144613Z
UID:3236-1736553600-1736639999@cultura.riocuarto.gob.ar
SUMMARY:CICLO MÚSICA EN LA HERRADURA
DESCRIPTION:SÁBADO 11 DE ENERO. 21.00HS. HERRADURA DEL ANDINO. Entrada libre y gratuita. \nSON DE PALO. Integrantes: David Giuliano\, Marcos Meroni y Santiago Cofré. \nSon De Palo es un proyecto musical creado con el ambicioso propósito de trascender con nuestros conocimientos musicales\, logrando así llegar a distintos países\, culturas y costumbres. Nos proponemos llevar como bandera la representación de nuestra música latinoamericana (Salsa\, Bachata\, Cumbia\, Cuarteto\, Folklore\, Tango\, etc.)
URL:https://cultura.riocuarto.gob.ar/event/ciclo-musica-en-la-herradura-2/
CATEGORIES:HERRADURA.C.C ANDINO
ATTACH;FMTTYPE=image/png:https://cultura.riocuarto.gob.ar/wp-content/uploads/2025/01/herradura_feed-e1736261145472.png
END:VEVENT
BEGIN:VEVENT
DTSTART;VALUE=DATE:20250113
DTEND;VALUE=DATE:20250224
DTSTAMP:20260423T155535
CREATED:20250113T131549Z
LAST-MODIFIED:20250225T004513Z
UID:3328-1736726400-1740355199@cultura.riocuarto.gob.ar
SUMMARY:TODOS LOS CICLOS PARA DISFRUTAR EN VERANO
DESCRIPTION:Mirá todos los ciclos para disfrutar en Verano Río Cuarto Siempre.
URL:https://cultura.riocuarto.gob.ar/event/todos-los-ciclos-para-disfrutar-en-verano/
CATEGORIES:GALPÓN BLANCO. C.C ANDINO,HERRADURA.C.C ANDINO,PARQUE SUR,PLAZA DEL PUEBLO. VIEJO MERCADO.,PLAZA ROCA
ATTACH;FMTTYPE=image/jpeg:https://cultura.riocuarto.gob.ar/wp-content/uploads/2025/01/Verano-general-e1736774113810.jpeg
END:VEVENT
BEGIN:VEVENT
DTSTART;VALUE=DATE:20250116
DTEND;VALUE=DATE:20250117
DTSTAMP:20260423T155535
CREATED:20250113T153254Z
LAST-MODIFIED:20250113T153254Z
UID:3377-1736985600-1737071999@cultura.riocuarto.gob.ar
SUMMARY:CICLO NOCHES DE TANGO
DESCRIPTION:JUEVES 16 DE ENERO. 20.30HS. HERRADURA DEL ANDINO. Entrada libre y gratuita. No se suspende por mal tiempo. \nVoces: Seide Ceresole\, Carito Gallo\, Carlos Palacio\, Jorge Sánchez\, Marcelo Griffa y Juan Megale. Músicos: Pablo Patta en piano y Juan Zabala en guitarra. Coordina: Juan Carlos Ameri.
URL:https://cultura.riocuarto.gob.ar/event/ciclo-noches-de-tango-2/
CATEGORIES:HERRADURA.C.C ANDINO
ATTACH;FMTTYPE=image/png:https://cultura.riocuarto.gob.ar/wp-content/uploads/2025/01/jueves_tango_feed-e1736782362506.png
END:VEVENT
BEGIN:VEVENT
DTSTART;VALUE=DATE:20250118
DTEND;VALUE=DATE:20250119
DTSTAMP:20260423T155535
CREATED:20250113T155829Z
LAST-MODIFIED:20250118T184957Z
UID:3398-1737158400-1737244799@cultura.riocuarto.gob.ar
SUMMARY:CICLO MÚSICA EN LA HERRADURA
DESCRIPTION:SÁBADO 18 DE ENERO. 21.00HS. HERRADURA DEL ANDINO. Entrada libre y gratuita. \nLA SKARAVANA. Banda local de Ska y Reggae. \nIntegrantes: Agustín Corral (voz líder)\, Huemul Aldasoro (saxo y coros)\, Nahuel Mansilla (guitarra y coros)\, Diego Oliva (guitarra)\, José Ricci (bajo y coros) y Santiago Suárez (batería y coros).
URL:https://cultura.riocuarto.gob.ar/event/ciclo-musica-en-la-herradura-3/
CATEGORIES:HERRADURA.C.C ANDINO
ATTACH;FMTTYPE=image/png:https://cultura.riocuarto.gob.ar/wp-content/uploads/2025/01/Captura-de-pantalla-2025-01-18-154940.png
END:VEVENT
BEGIN:VEVENT
DTSTART;VALUE=DATE:20250130
DTEND;VALUE=DATE:20250131
DTSTAMP:20260423T155535
CREATED:20250127T122850Z
LAST-MODIFIED:20250127T122850Z
UID:3766-1738195200-1738281599@cultura.riocuarto.gob.ar
SUMMARY:CICLO NOCHES DE TANGO
DESCRIPTION:JUEVES 30 DE ENERO. 20.30HS. HERRADURA DEL ANDINO. Entrada libre y gratuita. No se suspende por mal tiempo. Vení con tu reposera!!\nVoces: “Lulú” (Bs As). Carlos Gallo. Aldo Di Cola. Juan Megale. Antonio José. Mario Quiroga. Walter Mosquera. Músicos: Pablo Patta en piano. Juan C. Zabala en guitarra. Santiago Llanes en piano.
URL:https://cultura.riocuarto.gob.ar/event/ciclo-noches-de-tango-3/
CATEGORIES:EL ANDINO,HERRADURA.C.C ANDINO
ATTACH;FMTTYPE=image/jpeg:https://cultura.riocuarto.gob.ar/wp-content/uploads/2025/01/JUE-30-01-25-TANGO-FEED-scaled-e1737980898674.jpg
END:VEVENT
END:VCALENDAR