BEGIN:VCALENDAR
VERSION:2.0
PRODID:-//Cultura Río Cuarto - ECPv6.15.20//NONSGML v1.0//EN
CALSCALE:GREGORIAN
METHOD:PUBLISH
X-ORIGINAL-URL:https://cultura.riocuarto.gob.ar
X-WR-CALDESC:Eventos para Cultura Río Cuarto
REFRESH-INTERVAL;VALUE=DURATION:PT1H
X-Robots-Tag:noindex
X-PUBLISHED-TTL:PT1H
BEGIN:VTIMEZONE
TZID:America/Argentina/Cordoba
BEGIN:STANDARD
TZOFFSETFROM:-0300
TZOFFSETTO:-0300
TZNAME:-03
DTSTART:20240101T000000
END:STANDARD
END:VTIMEZONE
BEGIN:VEVENT
DTSTART;VALUE=DATE:20250104
DTEND;VALUE=DATE:20250105
DTSTAMP:20260422T163125
CREATED:20241230T214445Z
LAST-MODIFIED:20250102T142508Z
UID:3151-1735948800-1736035199@cultura.riocuarto.gob.ar
SUMMARY:CICLO MÚSICA EN LA HERRADURA
DESCRIPTION:CICLO MÚSICA EN LA HERRADURA \nSÁBADO 04 DE ENERO 21.00HS.  HERRADURA DEL ANDINO. Entrada libre y gratuita. No se suspende por mal tiempo. \nLA PORTADA Rock & Blues \nCovers de los años 70\, 80\,90. B B King\, Deep Purple\, Queen\, Pink Floyd\,  Scorpions\,Police\, Creedence Clearwater Revival\, Audioslave\, Z Z Top\, en español Vox Dei\, Pappo\, Divididos\, Los piojos entre otros. \nIntegrantes: Facundo Martínez\, Juan Peña\, Matías Domínguez\, Héctor Furchi Anselmi. \n 
URL:https://cultura.riocuarto.gob.ar/event/ciclo-musica-en-la-herradura/
CATEGORIES:HERRADURA.C.C ANDINO
ATTACH;FMTTYPE=image/jpeg:https://cultura.riocuarto.gob.ar/wp-content/uploads/WhatsApp-Image-2024-12-30-at-3.49.03-PM3-e1735595078409.jpeg
END:VEVENT
END:VCALENDAR