BEGIN:VCALENDAR
VERSION:2.0
PRODID:-//Cultura Río Cuarto - ECPv6.15.20//NONSGML v1.0//EN
CALSCALE:GREGORIAN
METHOD:PUBLISH
X-WR-CALNAME:Cultura Río Cuarto
X-ORIGINAL-URL:https://cultura.riocuarto.gob.ar
X-WR-CALDESC:Eventos para Cultura Río Cuarto
REFRESH-INTERVAL;VALUE=DURATION:PT1H
X-Robots-Tag:noindex
X-PUBLISHED-TTL:PT1H
BEGIN:VTIMEZONE
TZID:America/Argentina/Cordoba
BEGIN:STANDARD
TZOFFSETFROM:-0300
TZOFFSETTO:-0300
TZNAME:-03
DTSTART:20240101T000000
END:STANDARD
END:VTIMEZONE
BEGIN:VEVENT
DTSTART;VALUE=DATE:20250606
DTEND;VALUE=DATE:20250607
DTSTAMP:20260424T105416
CREATED:20250602T143441Z
LAST-MODIFIED:20250602T143441Z
UID:6680-1749168000-1749254399@cultura.riocuarto.gob.ar
SUMMARY:SE INAUGURA LA MUESTRA LA INFLUENCIA ITALIANA EN NUESTRO ARTE
DESCRIPTION:Viernes 6 de junio. Museo Municipal de Bellas Artes. C.C. Trapalanda. 20hs. \nInauguración de la muestra La influencia italiana en nuestro arte\, en el marco Día del Inmigrante Italiano en Argentina (3 de junio). En los siglos XIX y XX la corriente migratoria europea y sobre todo italiana se debió a la crítica situación económica\, la pobreza\, el desempleo y la ausencia de oportunidades que vivía Italia para ese entonces. El surgimiento del régimen Fascista y los conflictos bélicos de la l Guerra Mundial y ll Guerra Mundial aceleraron este proceso. Ya en 1853 se comienza en la argentina una política de inmigración propuesta por Juan Baustista Alberdi. Esta estrategia de “puertas abiertas”\, tenía un trasfondo de poblar el vasto y desolado territorio argentino\, a su vez\, contratar mano de obra barata para trabajar en el sector agrícola. Solo en el período comprendido entre los años 1861-1920\, el número total de personas extranjeras que arribaron a Argentina fue de 3.798.925. De ellos\, 2.270.525 eran inmigrantes italianos. Pero en sus valijas y baúles traían algo más que sus pertenencias. Artesanos\, escultores\, arquitectos\, músicos y pintores llegaron trayendo arte espléndido\, conocimiento y un oficio que enriqueció y se propagó por todo el territorio. Obras de arte\, monumentos\, jardines y diseños que hoy podemos apreciar son el resultado de sus trabajos y de sus enseñanzas\, de la transmisión de una cultura artística de siglos\, que supo llegar para enriquecernos a todos. \nOrganizado por la Società Dante Alighieri Río Cuarto\, el Colegio Dante Alighieri y la Subsecretaria de Cultura.
URL:https://cultura.riocuarto.gob.ar/event/se-inaugura-la-muestra-la-influencia-italiana-en-nuestro-arte/
CATEGORIES:MUSEO DE BELLAS ARTES
ATTACH;FMTTYPE=image/jpeg:https://cultura.riocuarto.gob.ar/wp-content/uploads/2025/06/Italiana-e1748874874984.jpg
END:VEVENT
END:VCALENDAR