BEGIN:VCALENDAR
VERSION:2.0
PRODID:-//Cultura Río Cuarto - ECPv6.15.20//NONSGML v1.0//EN
CALSCALE:GREGORIAN
METHOD:PUBLISH
X-ORIGINAL-URL:https://cultura.riocuarto.gob.ar
X-WR-CALDESC:Eventos para Cultura Río Cuarto
REFRESH-INTERVAL;VALUE=DURATION:PT1H
X-Robots-Tag:noindex
X-PUBLISHED-TTL:PT1H
BEGIN:VTIMEZONE
TZID:America/Argentina/Cordoba
BEGIN:STANDARD
TZOFFSETFROM:-0300
TZOFFSETTO:-0300
TZNAME:-03
DTSTART:20240101T000000
END:STANDARD
END:VTIMEZONE
BEGIN:VEVENT
DTSTART;VALUE=DATE:20250518
DTEND;VALUE=DATE:20250519
DTSTAMP:20260423T173406
CREATED:20250516T142333Z
LAST-MODIFIED:20250516T142333Z
UID:6465-1747526400-1747612799@cultura.riocuarto.gob.ar
SUMMARY:DÍA INTERNACIONAL DE LOS MUSEOS
DESCRIPTION:Domingo 18 de mayo. Museo Histórico Regional. De 16 a 20hs. \nEn el Día Internacional de los Museos\, la casona histórica de la ciudad\, abre sus puertas al público en general.
URL:https://cultura.riocuarto.gob.ar/event/dia-internacional-de-los-museos/
CATEGORIES:MUSEO HISTORICO
ATTACH;FMTTYPE=image/jpeg:https://cultura.riocuarto.gob.ar/wp-content/uploads/2025/05/historico_fedd-e1747405395643.jpg
END:VEVENT
END:VCALENDAR