BEGIN:VCALENDAR
VERSION:2.0
PRODID:-//Cultura Río Cuarto - ECPv6.15.20//NONSGML v1.0//EN
CALSCALE:GREGORIAN
METHOD:PUBLISH
X-ORIGINAL-URL:https://cultura.riocuarto.gob.ar
X-WR-CALDESC:Eventos para Cultura Río Cuarto
REFRESH-INTERVAL;VALUE=DURATION:PT1H
X-Robots-Tag:noindex
X-PUBLISHED-TTL:PT1H
BEGIN:VTIMEZONE
TZID:America/Argentina/Cordoba
BEGIN:STANDARD
TZOFFSETFROM:-0300
TZOFFSETTO:-0300
TZNAME:-03
DTSTART:20240101T000000
END:STANDARD
END:VTIMEZONE
BEGIN:VEVENT
DTSTART;VALUE=DATE:20250502
DTEND;VALUE=DATE:20250503
DTSTAMP:20260421T072308
CREATED:20250430T144925Z
LAST-MODIFIED:20250430T144925Z
UID:6230-1746144000-1746230399@cultura.riocuarto.gob.ar
SUMMARY:CANTERA EN OJO DE BARRO
DESCRIPTION:Viernes 2 de mayo. 21.30hs. C.C. Ojo de Barro (Bolívar 373). Anticipadas $5000. En puerta $6000. \nSe presenta\, desde Villa María\, el dúo Cantera\, integrado por Milena Lippl (ARG) en aerófonos andinos y voz\, y Sergio Guízar (MÉX) en guitarra acústica y voz. Invitada: Delfina García. \nEl conjunto se basa en la interpretación de obras tradicionales\, arreglos y composiciones originales\, explorando y celebrando la riqueza de la música latinoamericana a partir de la guitarra y los Aerófonos Andinos (quenas\, pinkuyos\, zampoñas\, etc). El encuentro surge de una profunda exploración de los elementos fundamentales de la música del continente. La propuesta presenta un repertorio colorido y variado que refleja la diversidad y complejidad del cancionero popular.  Esta se caracteriza por una travesía sonora en la que convergen diversos géneros y estilos del vasto repertorio musical popular\, destacando la mixtura y la improvisación como ejes centrales.
URL:https://cultura.riocuarto.gob.ar/event/cantera-en-ojo-de-barro/
CATEGORIES:OJO DE BARRO
ATTACH;FMTTYPE=image/jpeg:https://cultura.riocuarto.gob.ar/wp-content/uploads/2025/04/Cantera-e1746024531717.jpeg
END:VEVENT
END:VCALENDAR