BEGIN:VCALENDAR
VERSION:2.0
PRODID:-//Cultura Río Cuarto - ECPv6.15.20//NONSGML v1.0//EN
CALSCALE:GREGORIAN
METHOD:PUBLISH
X-WR-CALNAME:Cultura Río Cuarto
X-ORIGINAL-URL:https://cultura.riocuarto.gob.ar
X-WR-CALDESC:Eventos para Cultura Río Cuarto
REFRESH-INTERVAL;VALUE=DURATION:PT1H
X-Robots-Tag:noindex
X-PUBLISHED-TTL:PT1H
BEGIN:VTIMEZONE
TZID:America/Argentina/Cordoba
BEGIN:STANDARD
TZOFFSETFROM:-0300
TZOFFSETTO:-0300
TZNAME:-03
DTSTART:20240101T000000
END:STANDARD
END:VTIMEZONE
BEGIN:VEVENT
DTSTART;VALUE=DATE:20250503
DTEND;VALUE=DATE:20250504
DTSTAMP:20260419T162610
CREATED:20250430T145317Z
LAST-MODIFIED:20250430T153642Z
UID:6233-1746230400-1746316799@cultura.riocuarto.gob.ar
SUMMARY:NOCHE DE SKA EN EL OJO
DESCRIPTION:Sábado 3 de mayo. 23hs. C.C. Ojo de Barro (Bolívar 373). Anticipadas $7000. En puerta $8000. \nSe realiza el evento Noche de Ska con las actuaciones de Skamaniacs\, Cikuta y Luis Raíz.
URL:https://cultura.riocuarto.gob.ar/event/noche-de-ska-en-el-ojo/
CATEGORIES:OJO DE BARRO
ATTACH;FMTTYPE=image/jpeg:https://cultura.riocuarto.gob.ar/wp-content/uploads/2025/04/Ska-e1746024766535.jpeg
END:VEVENT
END:VCALENDAR