BEGIN:VCALENDAR
VERSION:2.0
PRODID:-//Cultura Río Cuarto - ECPv6.15.20//NONSGML v1.0//EN
CALSCALE:GREGORIAN
METHOD:PUBLISH
X-ORIGINAL-URL:https://cultura.riocuarto.gob.ar
X-WR-CALDESC:Eventos para Cultura Río Cuarto
REFRESH-INTERVAL;VALUE=DURATION:PT1H
X-Robots-Tag:noindex
X-PUBLISHED-TTL:PT1H
BEGIN:VTIMEZONE
TZID:America/Argentina/Cordoba
BEGIN:STANDARD
TZOFFSETFROM:-0300
TZOFFSETTO:-0300
TZNAME:-03
DTSTART:20240101T000000
END:STANDARD
END:VTIMEZONE
BEGIN:VEVENT
DTSTART;VALUE=DATE:20250627
DTEND;VALUE=DATE:20250629
DTSTAMP:20260419T093314
CREATED:20250625T125120Z
LAST-MODIFIED:20250626T153821Z
UID:7169-1750982400-1751155199@cultura.riocuarto.gob.ar
SUMMARY:ROCK X 2 EN EL OJO
DESCRIPTION:Este fin de semana doble jornada rockera en el C.C. Ojo de Barro (Bolívar 373). \nEste viernes 27 de junio desde las 23hs\, tocan en vivo La Sucia Perra y Basofias. Anticipadas: $6.000 | En puerta: $8.000 \nLa Sucia Perra nace en el 2003\, cuando un grupo de amigos del barrio empezaba a mamar rock nacional entre mates\, charlas y primeros acordes. Con covers prestados y guitarras mal enchufadas\, arrancaron a tocar en donde se pudiera: un día del estudiante en un colegio\, el legendario Pizza Sport\, algún restobar con más humo que luces\, viajes con demos caseros y una pausa que pareció definitiva… hasta ahora. Vuelve La Sucia Perra a ladrar con fuerza. \nJunto a ellos\, Basofias\, otra banda que no necesita presentación para quienes el punk rock no tiene fecha de vencimiento para contemplar periferias con paisajes crudos y filosos\, con riffs que no piden permiso. \n \nEste sábado 28 de junio\, desde las 23hs. con anticipadas a $5000\, sonarán las bandas Undergrones (homenaje a 7º Regimiento)\, Reyna Calavera y Vegetal.
URL:https://cultura.riocuarto.gob.ar/event/rock-x-2-en-el-ojo-3/
CATEGORIES:OJO DE BARRO
ATTACH;FMTTYPE=image/jpeg:https://cultura.riocuarto.gob.ar/wp-content/uploads/2025/06/Ojo-viernes-e1750855726648.jpeg
END:VEVENT
END:VCALENDAR