BEGIN:VCALENDAR
VERSION:2.0
PRODID:-//Cultura Río Cuarto - ECPv6.15.20//NONSGML v1.0//EN
CALSCALE:GREGORIAN
METHOD:PUBLISH
X-WR-CALNAME:Cultura Río Cuarto
X-ORIGINAL-URL:https://cultura.riocuarto.gob.ar
X-WR-CALDESC:Eventos para Cultura Río Cuarto
REFRESH-INTERVAL;VALUE=DURATION:PT1H
X-Robots-Tag:noindex
X-PUBLISHED-TTL:PT1H
BEGIN:VTIMEZONE
TZID:America/Argentina/Cordoba
BEGIN:STANDARD
TZOFFSETFROM:-0300
TZOFFSETTO:-0300
TZNAME:-03
DTSTART:20240101T000000
END:STANDARD
END:VTIMEZONE
BEGIN:VEVENT
DTSTART;VALUE=DATE:20250919
DTEND;VALUE=DATE:20250920
DTSTAMP:20260421T070123
CREATED:20250917T115822Z
LAST-MODIFIED:20250917T115822Z
UID:9038-1758240000-1758326399@cultura.riocuarto.gob.ar
SUMMARY:MÚSICA EN EL OJO
DESCRIPTION:Este viernes 19 de septiembre a las 23.30hs. en el C.C. Ojo de Barro (Bolívar 373)\, se presentan en vivo Armónicos Escénicos\, Ulcán y Ascetas.
URL:https://cultura.riocuarto.gob.ar/event/musica-en-el-ojo/
CATEGORIES:OJO DE BARRO
ATTACH;FMTTYPE=image/jpeg:https://cultura.riocuarto.gob.ar/wp-content/uploads/2025/09/Ojo-viernes-e1758110287105.jpeg
END:VEVENT
END:VCALENDAR