BEGIN:VCALENDAR
VERSION:2.0
PRODID:-//Cultura Río Cuarto - ECPv6.15.20//NONSGML v1.0//EN
CALSCALE:GREGORIAN
METHOD:PUBLISH
X-WR-CALNAME:Cultura Río Cuarto
X-ORIGINAL-URL:https://cultura.riocuarto.gob.ar
X-WR-CALDESC:Eventos para Cultura Río Cuarto
REFRESH-INTERVAL;VALUE=DURATION:PT1H
X-Robots-Tag:noindex
X-PUBLISHED-TTL:PT1H
BEGIN:VTIMEZONE
TZID:America/Argentina/Cordoba
BEGIN:STANDARD
TZOFFSETFROM:-0300
TZOFFSETTO:-0300
TZNAME:-03
DTSTART:20240101T000000
END:STANDARD
END:VTIMEZONE
BEGIN:VEVENT
DTSTART;VALUE=DATE:20251114
DTEND;VALUE=DATE:20251115
DTSTAMP:20260419T151523
CREATED:20251113T125929Z
LAST-MODIFIED:20251113T125929Z
UID:10261-1763078400-1763164799@cultura.riocuarto.gob.ar
SUMMARY:ROCK EN EL OJO
DESCRIPTION:Este viernes 14 de noviembre a las 23hs. en el C.C. Ojo de Barro (Bolívar 373)\, se realiza Entrando al abismo vol. 1 con Alma Siniestra y las bandas invitadas Harrison y Rabia Anekekea. Anticipadas: $7000. En puerta $9000.
URL:https://cultura.riocuarto.gob.ar/event/rock-en-el-ojo-10/
CATEGORIES:OJO DE BARRO
ATTACH;FMTTYPE=image/jpeg:https://cultura.riocuarto.gob.ar/wp-content/uploads/2025/11/Ojo-viernes-e1763038761730.jpeg
END:VEVENT
END:VCALENDAR