BEGIN:VCALENDAR
VERSION:2.0
PRODID:-//Cultura Río Cuarto - ECPv6.15.20//NONSGML v1.0//EN
CALSCALE:GREGORIAN
METHOD:PUBLISH
X-ORIGINAL-URL:https://cultura.riocuarto.gob.ar
X-WR-CALDESC:Eventos para Cultura Río Cuarto
REFRESH-INTERVAL;VALUE=DURATION:PT1H
X-Robots-Tag:noindex
X-PUBLISHED-TTL:PT1H
BEGIN:VTIMEZONE
TZID:America/Argentina/Cordoba
BEGIN:STANDARD
TZOFFSETFROM:-0300
TZOFFSETTO:-0300
TZNAME:-03
DTSTART:20250101T000000
END:STANDARD
END:VTIMEZONE
BEGIN:VEVENT
DTSTART;VALUE=DATE:20260107
DTEND;VALUE=DATE:20260108
DTSTAMP:20260421T103858
CREATED:20260105T121719Z
LAST-MODIFIED:20260105T121719Z
UID:11106-1767744000-1767830399@cultura.riocuarto.gob.ar
SUMMARY:CICLO CANTORAS
DESCRIPTION:MIÉRCOLES 07 DE ENERO. 20.30hs. Plaza del Pueblo. Viejo Mercado. Entrada libre y gratuita. No se suspende por lluvia. \nCICLO CANTORAS. \nVoces de Gladys Salcedo y Luciana Tomalino. Santiago Llanes. Músicos invitados.
URL:https://cultura.riocuarto.gob.ar/event/ciclo-cantoras-8/
CATEGORIES:PLAZA DEL PUEBLO. VIEJO MERCADO.
ATTACH;FMTTYPE=image/png:https://cultura.riocuarto.gob.ar/wp-content/uploads/2026/01/CANTORAS-e1767615429117.png
END:VEVENT
BEGIN:VEVENT
DTSTART;VALUE=DATE:20260109
DTEND;VALUE=DATE:20260110
DTSTAMP:20260421T103858
CREATED:20260102T152528Z
LAST-MODIFIED:20260102T152528Z
UID:11096-1767916800-1768003199@cultura.riocuarto.gob.ar
SUMMARY:CICLO MILONGA DE VERANO
DESCRIPTION:VIERNES 09 DE ENERO. 20.30hs a 24.00hs. Plaza del Pueblo. Viejo Mercado. Entrada libre y gratuita. No se suspende por lluvia. \nCICLO MILONGA DE VERANO \n20.30hs. CLASE GRATUITA para quienes se inician en la danza tango. Prof. Laureano Cobos. 21.00hs. MILONGA.  \nArtista invitada: Natalia Barraco. Tdj: Gabriel La Rosa.
URL:https://cultura.riocuarto.gob.ar/event/ciclo-milonga-de-verano-10/
CATEGORIES:PLAZA DEL PUEBLO. VIEJO MERCADO.
ATTACH;FMTTYPE=image/jpeg:https://cultura.riocuarto.gob.ar/wp-content/uploads/2026/01/Milonga-de-verano-e1767367516118.jpeg
END:VEVENT
BEGIN:VEVENT
DTSTART;VALUE=DATE:20260114
DTEND;VALUE=DATE:20260115
DTSTAMP:20260421T103858
CREATED:20260109T154345Z
LAST-MODIFIED:20260109T154406Z
UID:11118-1768348800-1768435199@cultura.riocuarto.gob.ar
SUMMARY:CICLO CANTORAS
DESCRIPTION:MIÉRCOLES 14 DE ENERO. Plaza del Pueblo. Viejo Mercado. 20.30hs. Entrada gratuita. \nCICLO CANTORAS \nContinúa el ciclo musical con las voces de Bárbara Mendoza y Flor Di Paola. Músicos invitados. \nAcompaña Subsecretaría de Género\, Diversidad y Discapacidad.
URL:https://cultura.riocuarto.gob.ar/event/ciclo-cantoras-9/
CATEGORIES:PLAZA DEL PUEBLO. VIEJO MERCADO.
ATTACH;FMTTYPE=image/jpeg:https://cultura.riocuarto.gob.ar/wp-content/uploads/2026/01/Cantoras-e1767973414668.jpg
END:VEVENT
BEGIN:VEVENT
DTSTART;VALUE=DATE:20260115
DTEND;VALUE=DATE:20260116
DTSTAMP:20260421T103858
CREATED:20260112T130858Z
LAST-MODIFIED:20260112T130858Z
UID:11123-1768435200-1768521599@cultura.riocuarto.gob.ar
SUMMARY:CICLO ARTE PARA EL PUEBLO
DESCRIPTION:JUEVES 15 DE ENERO. 20.30hs. Plaza del Pueblo. Viejo Mercado. Entrada a la gorra. \nCICLO ARTE PARA EL PUEBLO.  \nCompañía Teatral ATRÁS LA TRISTEZA presenta “PAYASOS A LA OBRA”.
URL:https://cultura.riocuarto.gob.ar/event/ciclo-arte-para-el-pueblo/
CATEGORIES:PLAZA DEL PUEBLO. VIEJO MERCADO.
ATTACH;FMTTYPE=image/png:https://cultura.riocuarto.gob.ar/wp-content/uploads/2026/01/Payasos_15-e1768223322802.png
END:VEVENT
BEGIN:VEVENT
DTSTART;VALUE=DATE:20260116
DTEND;VALUE=DATE:20260117
DTSTAMP:20260421T103858
CREATED:20260108T143116Z
LAST-MODIFIED:20260108T143116Z
UID:11112-1768521600-1768607999@cultura.riocuarto.gob.ar
SUMMARY:CICLO MILONGA DE VERANO
DESCRIPTION:VIERNES 16 DE ENERO. 20.30hs a 24.00hs. Plaza del Pueblo. Viejo Mercado. Entrada libre y gratuita. \nCICLO MILONGA DE VERANO \n20.30hs. CLASE GRATUITA para quienes se inician en la danza tango. Prof. Laureano Cobos. 21.00hs. MILONGA. Artista invitada: Luciana Tomalino. Tdj: Pablo Ponzio.
URL:https://cultura.riocuarto.gob.ar/event/ciclo-milonga-de-verano-11/
CATEGORIES:PLAZA DEL PUEBLO. VIEJO MERCADO.
ATTACH;FMTTYPE=image/png:https://cultura.riocuarto.gob.ar/wp-content/uploads/2026/01/Milonga-16-e1767882667262.png
END:VEVENT
BEGIN:VEVENT
DTSTART;VALUE=DATE:20260121
DTEND;VALUE=DATE:20260122
DTSTAMP:20260421T103858
CREATED:20260115T183838Z
LAST-MODIFIED:20260115T183838Z
UID:11265-1768953600-1769039999@cultura.riocuarto.gob.ar
SUMMARY:CICLO CANTORAS: SHIRLEY KLOSTER y ZOE AUDISIO
DESCRIPTION:MIÉRCOLES 21 DE ENERO Plaza del Pueblo. Viejo Mercado. 20.30hs. Entrada gratuita.\nCICLO CANTORAS\nVoces de SHIRLEY KLOSTER y ZOE AUDISIO. Músicos invitados.\nAcompaña: Subsecretaría de Género\, Diversidad y Discapacidad
URL:https://cultura.riocuarto.gob.ar/event/ciclo-cantoras-shirley-kloster-y-zoe-audisio/
CATEGORIES:PLAZA DEL PUEBLO. VIEJO MERCADO.
ATTACH;FMTTYPE=image/jpeg:https://cultura.riocuarto.gob.ar/wp-content/uploads/2026/01/WhatsApp-Image-2026-01-15-at-3.06.11-PM-e1768502274890.jpeg
END:VEVENT
BEGIN:VEVENT
DTSTART;VALUE=DATE:20260122
DTEND;VALUE=DATE:20260123
DTSTAMP:20260421T103858
CREATED:20260115T184028Z
LAST-MODIFIED:20260115T184028Z
UID:11268-1769040000-1769126399@cultura.riocuarto.gob.ar
SUMMARY:CICLO ARTE PARA EL PUEBLO - FLOR Y LOS MUSIPEQUES
DESCRIPTION:JUEVES 22 DE ENERO 20.30hs. Plaza del Pueblo. Viejo Mercado. Entrada a la gorra.\nCICLO ARTE PARA EL PUEBLO\nFLOR Y LOS MUSIPEQUES\nMúsica y diversión para disfrutar en familia!
URL:https://cultura.riocuarto.gob.ar/event/ciclo-arte-para-el-pueblo-flor-y-los-musipeques/
CATEGORIES:PLAZA DEL PUEBLO. VIEJO MERCADO.
ATTACH;FMTTYPE=image/jpeg:https://cultura.riocuarto.gob.ar/wp-content/uploads/2026/01/WhatsApp-Image-2026-01-15-at-3.06.21-PM.jpeg
END:VEVENT
BEGIN:VEVENT
DTSTART;VALUE=DATE:20260128
DTEND;VALUE=DATE:20260129
DTSTAMP:20260421T103858
CREATED:20260119T200504Z
LAST-MODIFIED:20260119T200504Z
UID:11363-1769558400-1769644799@cultura.riocuarto.gob.ar
SUMMARY:CICLO CANTORAS - Sabrina Cisneros y Paulina Calderón
DESCRIPTION:MIÉRCOLES 28 DE ENERO. Plaza del Pueblo. Viejo Mercado. 20.30hs. Entrada gratuita. No se suspende por lluvia.\nCICLO CANTORAS.\nContinúa el ciclo musical con las voces de Sabrina Cisneros y Paulina Calderón. Músicos invitados. Acompaña: Subsecretaría de Género\, Diversidad y Discapacidad.
URL:https://cultura.riocuarto.gob.ar/event/ciclo-cantoras-sabrina-cisneros-y-paulina-calderon/
CATEGORIES:PLAZA DEL PUEBLO. VIEJO MERCADO.
ATTACH;FMTTYPE=image/jpeg:https://cultura.riocuarto.gob.ar/wp-content/uploads/2026/01/WhatsApp-Image-2026-01-19-at-5.01.22-PM-e1768853352393.jpeg
END:VEVENT
BEGIN:VEVENT
DTSTART;VALUE=DATE:20260129
DTEND;VALUE=DATE:20260130
DTSTAMP:20260421T103858
CREATED:20260119T200711Z
LAST-MODIFIED:20260119T200711Z
UID:11369-1769644800-1769731199@cultura.riocuarto.gob.ar
SUMMARY:Noche de STAND UP en el ciclo Arte para el pueblo
DESCRIPTION:JUEVES 29 DE ENERO. 20.30hs. Plaza del Pueblo. Viejo Mercado. Entrada a la gorra.\nCICLO ARTE PARA EL PUEBLO.\nNoche de STAND UP.
URL:https://cultura.riocuarto.gob.ar/event/noche-de-stand-up-en-el-ciclo-arte-para-el-pueblo/
CATEGORIES:PLAZA DEL PUEBLO. VIEJO MERCADO.
ATTACH;FMTTYPE=image/jpeg:https://cultura.riocuarto.gob.ar/wp-content/uploads/2026/01/WhatsApp-Image-2026-01-19-at-5.01.22-PM-1-e1768853367846.jpeg
END:VEVENT
BEGIN:VEVENT
DTSTART;VALUE=DATE:20260130
DTEND;VALUE=DATE:20260131
DTSTAMP:20260421T103858
CREATED:20260119T200958Z
LAST-MODIFIED:20260119T200958Z
UID:11371-1769731200-1769817599@cultura.riocuarto.gob.ar
SUMMARY:CICLO MILONGA DE VERANO
DESCRIPTION:VIERNES 30 DE ENERO. 20.30hs a 24.00hs. Plaza del Pueblo. Viejo Mercado. Entrada libre y gratuita. No se suspende por lluvia.\nCICLO MILONGA DE VERANO\n20.30hs. CLASE GRATUITA para quienes se inician en la danza tango. Prof. Laureano Cobos. 21.00hs. MILONGA. Artistas invitados: Silvia Suzak y Andrés Nester. Tdj: Eugenia Rivarola.
URL:https://cultura.riocuarto.gob.ar/event/ciclo-milonga-de-verano-13/
CATEGORIES:PLAZA DEL PUEBLO. VIEJO MERCADO.
ATTACH;FMTTYPE=image/jpeg:https://cultura.riocuarto.gob.ar/wp-content/uploads/2026/01/WhatsApp-Image-2026-01-19-at-5.01.22-PM-2-e1768853338378.jpeg
END:VEVENT
END:VCALENDAR