BEGIN:VCALENDAR
VERSION:2.0
PRODID:-//Cultura Río Cuarto - ECPv6.15.20//NONSGML v1.0//EN
CALSCALE:GREGORIAN
METHOD:PUBLISH
X-WR-CALNAME:Cultura Río Cuarto
X-ORIGINAL-URL:https://cultura.riocuarto.gob.ar
X-WR-CALDESC:Eventos para Cultura Río Cuarto
REFRESH-INTERVAL;VALUE=DURATION:PT1H
X-Robots-Tag:noindex
X-PUBLISHED-TTL:PT1H
BEGIN:VTIMEZONE
TZID:America/Argentina/Cordoba
BEGIN:STANDARD
TZOFFSETFROM:-0300
TZOFFSETTO:-0300
TZNAME:-03
DTSTART:20240101T000000
END:STANDARD
END:VTIMEZONE
BEGIN:VEVENT
DTSTART;VALUE=DATE:20250111
DTEND;VALUE=DATE:20250112
DTSTAMP:20260423T042720
CREATED:20250107T144244Z
LAST-MODIFIED:20250107T144244Z
UID:3232-1736553600-1736639999@cultura.riocuarto.gob.ar
SUMMARY:CICLO ESCENAS PARA EL PUEBLO
DESCRIPTION:SÁBADO 11 DE ENERO. 20.00HS. PLAZA DEL PUEBLO. VIEJO MERCADO. Entrada libre y gratuita. No se suspende por mal tiempo. \nCompañía Arriba las Hu! Manos presenta UN BOTÓN EN MI CABEZA.  Obra de títeres para los más chicos. \nSinopsis… La danza de la creación\, las Manos Titiriteras dan a luz al primer títere de la obra: Clott. Una de ellas es verde\, se mueve como serpiente y no quiere que la creación viva. Entonces toma la cabeza del recién nacido y arrojándola con fuerza\, la parte por la mitad… Desde ese día un botón rojo asoma de la cabeza de Clott. Un botón que lo mantiene unido\, pero que lo hace sentir diferente. Su hermana Juana lo molesta diciéndole “Cabeza de botones”\, mientras su abuelo insiste en que su botón lo hace ser único y especial. Clott desearía ser “normal”. La Mano Verde hará lo imposible por lograr su cometido y animando a un títere Mago\, le ofrecerá a Clott cumplir todos sus deseos si se desabotona. No descansará hasta acabar con esta historia. Clott está a punto de desabotonarse. Pero… Algo mágico sucede ¿Qué planes tiene la Mano Verde para Clott y su familia? ¿Qué decisión tomará Clott? ¿Acaso se desabotonará?
URL:https://cultura.riocuarto.gob.ar/event/ciclo-escenas-para-el-pueblo/
CATEGORIES:PLAZA DEL PUEBLO. VIEJO MERCADO.
ATTACH;FMTTYPE=image/png:https://cultura.riocuarto.gob.ar/wp-content/uploads/2025/01/escenas_feed-e1736260953187.png
END:VEVENT
END:VCALENDAR