BEGIN:VCALENDAR
VERSION:2.0
PRODID:-//Cultura Río Cuarto - ECPv6.15.20//NONSGML v1.0//EN
CALSCALE:GREGORIAN
METHOD:PUBLISH
X-ORIGINAL-URL:https://cultura.riocuarto.gob.ar
X-WR-CALDESC:Eventos para Cultura Río Cuarto
REFRESH-INTERVAL;VALUE=DURATION:PT1H
X-Robots-Tag:noindex
X-PUBLISHED-TTL:PT1H
BEGIN:VTIMEZONE
TZID:America/Argentina/Cordoba
BEGIN:STANDARD
TZOFFSETFROM:-0300
TZOFFSETTO:-0300
TZNAME:-03
DTSTART:20240101T000000
END:STANDARD
END:VTIMEZONE
BEGIN:VEVENT
DTSTART;VALUE=DATE:20250606
DTEND;VALUE=DATE:20250607
DTSTAMP:20260419T145937
CREATED:20250602T142806Z
LAST-MODIFIED:20250602T142806Z
UID:6677-1749168000-1749254399@cultura.riocuarto.gob.ar
SUMMARY:SE INAUGURA LA MUESTRA LA MUESTRA MI VIDA CON LAS SIRENAS
DESCRIPTION:Viernes 6 de junio. ARP Galería de Arte del C.C. Trapalanda. 19hs. \nInauguración de la Muestra Colectiva y Arte Relacional Mi Vida con las Sirenas de la artista Adriana Clara Guezuraga\, con la participación de la profesora Elina Ariaudo y estudiantes del taller de cerámica artística Arte y Cultura-Secretaria de Extensión-UNRC y del Taller de Ceramica Artística (CAV)-ESBA Libero Pierini. Participación del Taller de Bordado de Marite Gentile y Conversatorio con psicólogos y filósofos sobre esta temática. \nLas obras de Adriana Guezuraga son técnica mixta\, objetos\, collage. Las obras de los invitados de la profesora Ariaudo: técnicas de cerámica escultórica.
URL:https://cultura.riocuarto.gob.ar/event/se-inaugura-la-muestra-la-muestra-mi-vida-con-las-sirenas/
CATEGORIES:SALA ARP
ATTACH;FMTTYPE=image/jpeg:https://cultura.riocuarto.gob.ar/wp-content/uploads/2025/06/arp-e1748874464340.jpg
END:VEVENT
END:VCALENDAR