BEGIN:VCALENDAR
VERSION:2.0
PRODID:-//Cultura Río Cuarto - ECPv6.15.20//NONSGML v1.0//EN
CALSCALE:GREGORIAN
METHOD:PUBLISH
X-WR-CALNAME:Cultura Río Cuarto
X-ORIGINAL-URL:https://cultura.riocuarto.gob.ar
X-WR-CALDESC:Eventos para Cultura Río Cuarto
REFRESH-INTERVAL;VALUE=DURATION:PT1H
X-Robots-Tag:noindex
X-PUBLISHED-TTL:PT1H
BEGIN:VTIMEZONE
TZID:America/Argentina/Cordoba
BEGIN:STANDARD
TZOFFSETFROM:-0300
TZOFFSETTO:-0300
TZNAME:-03
DTSTART:20240101T000000
END:STANDARD
END:VTIMEZONE
BEGIN:VEVENT
DTSTART;VALUE=DATE:20250801
DTEND;VALUE=DATE:20250802
DTSTAMP:20260425T082453
CREATED:20250724T130815Z
LAST-MODIFIED:20250724T130815Z
UID:7926-1754006400-1754092799@cultura.riocuarto.gob.ar
SUMMARY:SE INAUGURA LA MUESTRA PULSIÓN
DESCRIPTION:Viernes 1º de agosto. Tintorería Japonesa. 20hs. \nInauguración de la muestra Pulsión de Lucía Rosales Barbeito. Curaduría: Laró. \nPulsión no es una serie de relatos. Es un campo de encuentros. Un territorio donde se suspende el juicio\, donde se permite el temblor. La cámara no observa: escucha. El ojo no encuadra: contiene.
URL:https://cultura.riocuarto.gob.ar/event/se-inaugura-la-muestra-pulsion/
CATEGORIES:TINTORERIA JAPONESA
ATTACH;FMTTYPE=image/jpeg:https://cultura.riocuarto.gob.ar/wp-content/uploads/2025/07/Pulsion-scaled-e1753362485204.jpg
END:VEVENT
BEGIN:VEVENT
DTSTART;VALUE=DATE:20250802
DTEND;VALUE=DATE:20250803
DTSTAMP:20260425T082453
CREATED:20250725T125223Z
LAST-MODIFIED:20250725T125223Z
UID:7943-1754092800-1754179199@cultura.riocuarto.gob.ar
SUMMARY:SEMINARIO INTENSIVO DE BORDADO SOBRE PAPEL
DESCRIPTION:Sábado 2 de agosto. Tintorería Japonesa. 15hs \nSe realiza el taller a cargo de Silvina de la Cruz. Cupos limitados- Informes e inscripciones: \nSilvina de la Cruz 3584367906 – @elaltillof
URL:https://cultura.riocuarto.gob.ar/event/seminario-intensivo-de-bordado-sobre-papel/
CATEGORIES:TINTORERIA JAPONESA
ATTACH;FMTTYPE=image/jpeg:https://cultura.riocuarto.gob.ar/wp-content/uploads/2025/07/Bordado-scaled-e1753447937957.jpg
END:VEVENT
BEGIN:VEVENT
DTSTART;VALUE=DATE:20250821
DTEND;VALUE=DATE:20250822
DTSTAMP:20260425T082453
CREATED:20250813T150137Z
LAST-MODIFIED:20250813T150137Z
UID:8394-1755734400-1755820799@cultura.riocuarto.gob.ar
SUMMARY:SE INAUGURA LA MUESTRA CAMINO SIN CUENTA…
DESCRIPTION:Jueves 21 de agosto. Tintorería Japonesa. 20hs. \nInauguración de la muestra Camino sin cuenta\, en donde renazco y me canto a mí mismo del artista visual local Sergio Villar. \n“Me celebro y me canto a mí mismo. Y lo que yo diga ahora de mí\, lo digo de ti\, porque lo que yo tengo lo tienes tú y cada átomo de mi cuerpo es tuyo también. Walt Whitman. Canto a mí  mismo (fragmento).
URL:https://cultura.riocuarto.gob.ar/event/se-inaugura-la-muestra-camino-sin-cuenta/
CATEGORIES:TINTORERIA JAPONESA
ATTACH;FMTTYPE=image/jpeg:https://cultura.riocuarto.gob.ar/wp-content/uploads/2025/08/Villar-scaled-e1755097278432.jpg
END:VEVENT
BEGIN:VEVENT
DTSTART;VALUE=DATE:20250823
DTEND;VALUE=DATE:20250824
DTSTAMP:20260425T082453
CREATED:20250820T114850Z
LAST-MODIFIED:20250820T114850Z
UID:8484-1755907200-1755993599@cultura.riocuarto.gob.ar
SUMMARY:TALLER CÍRCULO DE ESCRITURA MELÓDICA
DESCRIPTION:Sábado 23 de agosto. Tintorería Japonesa. 18hs. A la gorra. \nSe realiza el taller Círculo de Escritura Melódica\, guiado por Ángel Demian de Mago´s\, escritor\, músico\, cancionista.
URL:https://cultura.riocuarto.gob.ar/event/taller-circulo-de-escritura-melodica/
CATEGORIES:TINTORERIA JAPONESA
ATTACH;FMTTYPE=image/jpeg:https://cultura.riocuarto.gob.ar/wp-content/uploads/2025/08/Circulo-de-escritura-melodica-scaled-e1755690524717.jpg
END:VEVENT
BEGIN:VEVENT
DTSTART;VALUE=DATE:20250824
DTEND;VALUE=DATE:20250825
DTSTAMP:20260425T082453
CREATED:20250820T115241Z
LAST-MODIFIED:20250820T115241Z
UID:8487-1755993600-1756079999@cultura.riocuarto.gob.ar
SUMMARY:DÍA NACIONAL DEL LECTOR/A LEEMOS LA NOCHE
DESCRIPTION:Domingo 24 de agosto. 18 a 23hs. \nEn el marco del Día Nacional del lector/a en Argentina\, por el natalicio de Jorge L. Borges se realizan las siguientes actividades: recorrido literario-lecturas-muestras-intervenciones-música en vivo. \nGrilla y espacios que forman parte del recorrido \nCasa de la Poesía \n19 a 20.30hs. Celebración aniversario: \n19hs. Homenaje a Betty Medina Cabral. Leen: Elena Berruti\, Camila Vazquez\, Melisa Gnesutta\, Melisa Álvarez y Sebastián Sosa Ojeda \n19.30hs. Concierto musical a cargo de Lucía Reinaudo y Gabriel Ashworth. \nEntrega de fanzines. \nBiblioteca Personal Juan Filloy \n20 a 23hs. \nJuan Filloy lector. \nActividades en el marco del mes de Filloy. \nEsto leí. Muestra de libros y revistas con marginalias pertenecientes a Juan Filloy. Con ellas descubriremos las formas de lecturas de Don Juan. \nDon Juan\, lector de los tres siglos. Diálogo sobre las diferentes lecturas del escritor. 21hs. \nMarcas de lectura. Actividad interactiva con el público sobre sus propias prácticas de lectura. \nBiblioteca Mariano Moreno: \n19 a 21hs. Mic Abierto; Streaming\, lecturas y música. Saldo de libros. \nTintorería Japonesa \n20 a 23hs \n20hs. Lanzamiento del Club de Lectores de historietas con Lucas Aime. \n21hs. Las Invitadas. Ronda de lectura. \n21.30hs. Concierto con Ángel Demian y lectura de poemas con Sol Sayago y Ana Ferrarese. \nIntervenciones literarias de Gaby Arias. \nGuarida: Ronda de lectura y bordado en vivo \nExpo bordado/poesía \nGuarida (Bv. Roca 944) \nDe 18 a 22hs. Propuesta con participación libre y gratuita.
URL:https://cultura.riocuarto.gob.ar/event/dia-nacional-del-lector-a-leemos-la-noche/
CATEGORIES:BIBLIOTECA PERSONAL JUAN FILLOY. C.C. TRAPALANDA,BIBLIOTECA POPULAR MARIANO MORENO,CASA DE LA POESÍA,TINTORERIA JAPONESA
ATTACH;FMTTYPE=image/jpeg:https://cultura.riocuarto.gob.ar/wp-content/uploads/2025/08/Leemos-la-noche-scaled-e1755690751363.jpg
END:VEVENT
BEGIN:VEVENT
DTSTART;VALUE=DATE:20250828
DTEND;VALUE=DATE:20250829
DTSTAMP:20260425T082453
CREATED:20250827T134913Z
LAST-MODIFIED:20250827T134913Z
UID:8573-1756339200-1756425599@cultura.riocuarto.gob.ar
SUMMARY:TALLER PENSAR-NOS SIENDO EN LO INMENSO
DESCRIPTION:Jueves 28 de agosto. Tintorería Japonesa. 19hs. \nComienza el  taller Pensar-nos siendo en lo inmenso (Una introducción a la filosofía en la ciudad).  Coordina: Juan Scarpaci. Participación gratuita. Inscripciones por mp @tintoreriajaponesa
URL:https://cultura.riocuarto.gob.ar/event/taller-pensar-nos-siendo-en-lo-inmenso/
CATEGORIES:TINTORERIA JAPONESA
ATTACH;FMTTYPE=image/jpeg:https://cultura.riocuarto.gob.ar/wp-content/uploads/2025/08/TALLER-JUEVES-FEED-scaled-e1756302545434.jpg
END:VEVENT
BEGIN:VEVENT
DTSTART;VALUE=DATE:20250829
DTEND;VALUE=DATE:20250830
DTSTAMP:20260425T082453
CREATED:20250827T142735Z
LAST-MODIFIED:20250827T142735Z
UID:8583-1756425600-1756511999@cultura.riocuarto.gob.ar
SUMMARY:TALLER INTENSIVO DE DIBUJO DE CABEZA HUMANA Y RETRATO
DESCRIPTION:Viernes 29 de agosto. Tintorería Japonesa. De 16 a 20hs. \nSe realiza el Taller Intensivo de Dibujo de Cabeza Humana y Retrato a cargo artista Sergio Villar. \nEsta propuesta tiene tres instancias: \nIntroducción a la Construcción de la Cabeza Humana. \nDos encuentros: Viernes 29/08 de 16 a 20hs y Martes 02/09 de 15 a 19hs. \nRetrato/Autoretrato \nUn encuentro: Martes 09/09 de 15 a 19hs. \nParticipación: A la Gorra Consciente. Cupos limitados \nDirigida a jóvenes y adultos \nInscripciones por mp @tintoreríajaponesa \nEn el marco de la muestra del artista Sergio Villar expuesta en nuestra sala.
URL:https://cultura.riocuarto.gob.ar/event/taller-intensivo-de-dibujo-de-cabeza-humana-y-retrato/
CATEGORIES:TINTORERIA JAPONESA
ATTACH;FMTTYPE=image/jpeg:https://cultura.riocuarto.gob.ar/wp-content/uploads/2025/08/villar-e1756304701938.jpeg
END:VEVENT
BEGIN:VEVENT
DTSTART;VALUE=DATE:20250830
DTEND;VALUE=DATE:20250831
DTSTAMP:20260425T082453
CREATED:20250827T134343Z
LAST-MODIFIED:20250827T134343Z
UID:8567-1756512000-1756598399@cultura.riocuarto.gob.ar
SUMMARY:TALLER DE ENCUADERNACIÓN ARTESANAL Y SOSTENIBLE
DESCRIPTION:Sábado 30 de agosto. Tintorería Japonesa. 18hs. Participación gratuita. \nSe realiza el taller Técnica de encuadernación sin costuras con @pocketnoe. Inscripciones: mp @tintoreriajaponesa. Un encuentro para aprender a crear cuadernos y libretas artesanales de manera sencilla y sustentable. \nNos cuenta Noe: Usaremos materiales accesibles y reciclables\, explorando una técnica práctica de encuadernación sin costuras\, ideal para principiantes. \nConoceremos una forma fácil y creativa de encuadernación artesanal y realizaremos un cuaderno propio para llevarse al finalizar el taller. \nMateriales necesarios: \nCartón tamaño A4 o dos A5 cortado desde cajas recicladas (para tapas). \nPapel o tela (que se puede pegar sin dificultad) para forrar las tapas. Cartulina u hoja canson de colores \n30 Hojas A4 blancas o recicladas (para el interior). \nLápiz. Regla. Tijera. Plasticola o pegamento en barra. \nEdades. A partir de 15 años \nCupos limitados
URL:https://cultura.riocuarto.gob.ar/event/taller-de-encuadernacion-artesanal-y-sostenible/
CATEGORIES:TINTORERIA JAPONESA
ATTACH;FMTTYPE=image/jpeg:https://cultura.riocuarto.gob.ar/wp-content/uploads/2025/08/Encuadernacion-scaled-e1756302213542.jpg
END:VEVENT
BEGIN:VEVENT
DTSTART;VALUE=DATE:20250830
DTEND;VALUE=DATE:20250831
DTSTAMP:20260425T082453
CREATED:20250827T134719Z
LAST-MODIFIED:20250827T134719Z
UID:8570-1756512000-1756598399@cultura.riocuarto.gob.ar
SUMMARY:TARDE DE SASHIKO HITOMEZASHI
DESCRIPTION:Sábado 30 de agosto. Tintorería Japonesa. 15hs. Arancelado- Cupos limitados. \nSe realiza la Tarde de Sashiko Hitomezashi. Coordina: Gaby Arias. Un encuentro para bordar\, aprender y compartir la calma del movimiento rítmico de la aguja. No requiere experiencia previa. Incluye materiales + té. Consultas e inscripciones: Wsp: 3584377387. @gabrielaarias549
URL:https://cultura.riocuarto.gob.ar/event/tarde-de-sashiko-hitomezashi/
CATEGORIES:TINTORERIA JAPONESA
ATTACH;FMTTYPE=image/jpeg:https://cultura.riocuarto.gob.ar/wp-content/uploads/2025/08/Sashiko-scaled-e1756302427695.jpg
END:VEVENT
END:VCALENDAR