BEGIN:VCALENDAR
VERSION:2.0
PRODID:-//Cultura Río Cuarto - ECPv6.15.20//NONSGML v1.0//EN
CALSCALE:GREGORIAN
METHOD:PUBLISH
X-WR-CALNAME:Cultura Río Cuarto
X-ORIGINAL-URL:https://cultura.riocuarto.gob.ar
X-WR-CALDESC:Eventos para Cultura Río Cuarto
REFRESH-INTERVAL;VALUE=DURATION:PT1H
X-Robots-Tag:noindex
X-PUBLISHED-TTL:PT1H
BEGIN:VTIMEZONE
TZID:America/Argentina/Cordoba
BEGIN:STANDARD
TZOFFSETFROM:-0300
TZOFFSETTO:-0300
TZNAME:-03
DTSTART:20240101T000000
END:STANDARD
END:VTIMEZONE
BEGIN:VEVENT
DTSTART;VALUE=DATE:20250904
DTEND;VALUE=DATE:20250906
DTSTAMP:20260423T021702
CREATED:20250902T232545Z
LAST-MODIFIED:20250902T232545Z
UID:8759-1756944000-1757116799@cultura.riocuarto.gob.ar
SUMMARY:📣 FESTEJO DEL DÍA NACIONAL DE LA HISTORIETA EN LA TINTORERÍA JAPONESA✨
DESCRIPTION:✴Jueves 04/09 y Viernes 05/09\nTe dejamos la grilla completa Actividades de participación libre y gratuita.\n\n☄Jueves 4 \n10:00 -12:00\nTaller de dibujo estilo comic y manga con Fabricio Sánchez. \n17:00 – 18:30\nClínica de producción de historietas con Gastón Pacheco. \n \n☄Viernes 5 \n16:00 – 22:00\nFeria de publicaciones y Canje de historietas \n17:00 – 18:00\nEntrevista online: De Rio cuarto para el mundo: Conversación con Nacha Vollenweider desde Angoulême.\nA cargo de Lucas L. Aime \n18:00 – 19:00\nCharla 1: “Desde la revista al webcomic: Desde la revista al webcomic: historias de publicaciones y autopublicaciones en Río cuarto”\nInvitados: Jericles (Río Revuelto)\, Ernesto Funes y Martín Alvarez (Perro Viejo)\, Marcos Lecumberry (La Mancha)\, Andru (otro día en la terraza)\, Colectivo estornudo karateka\nModeran: Juan Oviedo/ Lucas L. Aime \n19:00 – 20:00\nCharla 2: “Experiencias y procesos en la historieta”\nInvitados: Maga Lú\, Juan Oviedo\, Gastón Pacheco y Chalo Irenne\nModera: Lucas L. Aime \n20:00 – 21:00\nCharla 3: “Arte digital\, comics y mangas como profesión”\nInvitados: Karuru\, Nell\, Cristian Alaminos.\nModera: Juan Oviedo \n21:00 – 22:00\nFeria de publicaciones y Canje de historietas. \nAmig@s ahí nos vemos 👋🏼👋🏼👋🏼!!!\nTintorería Japonesa\nConstitución 947.Río Cuarto.
URL:https://cultura.riocuarto.gob.ar/event/%f0%9f%93%a3-festejo-del-dia-nacional-de-la-historieta-en-la-tintoreria-japonesa%e2%9c%a8/
CATEGORIES:TINTORERIA JAPONESA
ATTACH;FMTTYPE=image/jpeg:https://cultura.riocuarto.gob.ar/wp-content/uploads/2025/09/Imagen-de-WhatsApp-2025-09-02-a-las-20.13.45_11aefe26-e1756855538479.jpg
END:VEVENT
BEGIN:VEVENT
DTSTART;VALUE=DATE:20250906
DTEND;VALUE=DATE:20250907
DTSTAMP:20260423T021702
CREATED:20250808T143035Z
LAST-MODIFIED:20250808T143035Z
UID:8353-1757116800-1757203199@cultura.riocuarto.gob.ar
SUMMARY:TALLER DE CERÁMICA Y CESTERÍA
DESCRIPTION:Sábado 6 de septiembre. Tintorería Japonesa. 16hs \nDictado por Otoña y Mari Ferraris. Cupos limitados\, reserva con anticipación. Info e inscripciones: 3585146795
URL:https://cultura.riocuarto.gob.ar/event/taller-de-ceramica-y-cesteria/
CATEGORIES:TINTORERIA JAPONESA
ATTACH;FMTTYPE=image/jpeg:https://cultura.riocuarto.gob.ar/wp-content/uploads/2025/08/Taller-ceramica-scaled-e1754663425871.jpg
END:VEVENT
BEGIN:VEVENT
DTSTART;VALUE=DATE:20250912
DTEND;VALUE=DATE:20250913
DTSTAMP:20260423T021702
CREATED:20250910T131027Z
LAST-MODIFIED:20250910T131027Z
UID:8895-1757635200-1757721599@cultura.riocuarto.gob.ar
SUMMARY:LA MESA DE LOS VIERNES
DESCRIPTION:Viernes 12 de septiembre. Tintorería Japonesa. 21.15hs. \nEdición lanzamiento de La mesa de los viernes + Cierre de muestra de Sergio Villar. \nTema del día: La obra y el artista en el campo actual del arte. En esta ocasión comparten la mesa: Magalú\, Marcos Altamirano\, Carolina  Cáceres\, Mario Gallo\, Duham Arán\, Julia Bugiolocchi\, Mariano Cessano y Violeta Tealdi.
URL:https://cultura.riocuarto.gob.ar/event/la-mesa-de-los-viernes/
CATEGORIES:TINTORERIA JAPONESA
ATTACH;FMTTYPE=image/jpeg:https://cultura.riocuarto.gob.ar/wp-content/uploads/2025/09/Mesa-de-los-viernes-scaled-e1757509818863.jpg
END:VEVENT
BEGIN:VEVENT
DTSTART;VALUE=DATE:20250913
DTEND;VALUE=DATE:20250914
DTSTAMP:20260423T021702
CREATED:20250908T161426Z
LAST-MODIFIED:20250908T161426Z
UID:8845-1757721600-1757807999@cultura.riocuarto.gob.ar
SUMMARY:TALLER COLLAGE FICCIÓN
DESCRIPTION:Sábado 13 de septiembre. Tintorería Japonesa. 17hs. \nSe realiza el taller coordinado por Alexis Gutiérrez. Inscripciones: @alexis35007. 3584901849 \nExperiencia creativa de collage analógico que convoca para crear imágenes de ciencia ficción\, para explorar en universos oníricos y escenarios fantásticos antes los cuales accedemos a través de la imaginación y materializamos en la composición de una obra. \nArancelado/ Incluye: Revistas\, papeles\, tijeras\, cúter y adhesivo en barra. Un encuentro-  destinado a jóvenes y adultos.
URL:https://cultura.riocuarto.gob.ar/event/taller-collage-ficcion/
CATEGORIES:TINTORERIA JAPONESA
ATTACH;FMTTYPE=image/jpeg:https://cultura.riocuarto.gob.ar/wp-content/uploads/2025/09/Taller-collage-e1757348052413.jpeg
END:VEVENT
BEGIN:VEVENT
DTSTART;VALUE=DATE:20250919
DTEND;VALUE=DATE:20250920
DTSTAMP:20260423T021702
CREATED:20250915T155418Z
LAST-MODIFIED:20250915T155418Z
UID:9020-1758240000-1758326399@cultura.riocuarto.gob.ar
SUMMARY:SE INAUGURA LA MUESTRA CRÓNICA CONTEMPORÁNEA
DESCRIPTION:Viernes 19 de septiembre. Tintorería Japonesa. 20hs. \nInauguración de la muestra del Taller de Fotografía UNRC\, profesor a cargo: Lucas Ortiz. \n“Cuando la imagen es cuerpo\, cuando el cuerpo es palabra. Cuando la imagen es retrato de una época\, de todas las épocas. Cuando la imagen es el relato de los cuerpos como siluetas de papel impresas en una pausa en el incesante río del tiempo. Cuando la imagen es concepto de existencia\, oficio en lo cotidiano. Cuando la imagen es figura de resistencia y lenguaje popular\, voluntad hecha cosa habitando más allá de las fronteras que nos ciñen. Cuando la imagen es instauración del ser\, fijación de una forma delineada\, subrayada en los días vertiginosos. Cuando la imagen es propósito de instaurar presencia entre tanta ausencia. Una imagen como crónica\, cuerpo\, palabra\, quizás también\, cuota de esperanza”. Alexis Gutiérrez.
URL:https://cultura.riocuarto.gob.ar/event/se-inaugura-la-muestra-cronica-contemporanea/
CATEGORIES:TINTORERIA JAPONESA
ATTACH;FMTTYPE=image/jpeg:https://cultura.riocuarto.gob.ar/wp-content/uploads/2025/09/Cronicas-contemporaneas-scaled-e1757951647800.jpg
END:VEVENT
END:VCALENDAR