BEGIN:VCALENDAR
VERSION:2.0
PRODID:-//Cultura Río Cuarto - ECPv6.15.20//NONSGML v1.0//EN
CALSCALE:GREGORIAN
METHOD:PUBLISH
X-ORIGINAL-URL:https://cultura.riocuarto.gob.ar
X-WR-CALDESC:Eventos para Cultura Río Cuarto
REFRESH-INTERVAL;VALUE=DURATION:PT1H
X-Robots-Tag:noindex
X-PUBLISHED-TTL:PT1H
BEGIN:VTIMEZONE
TZID:America/Argentina/Cordoba
BEGIN:STANDARD
TZOFFSETFROM:-0300
TZOFFSETTO:-0300
TZNAME:-03
DTSTART:20230101T000000
END:STANDARD
END:VTIMEZONE
BEGIN:VEVENT
DTSTART;VALUE=DATE:20241220
DTEND;VALUE=DATE:20241221
DTSTAMP:20260426T005814
CREATED:20241216T142134Z
LAST-MODIFIED:20241216T142548Z
UID:2770-1734652800-1734652800@cultura.riocuarto.gob.ar
SUMMARY:INTRODUCCIÓN A LA SERIGRAFÍA
DESCRIPTION:Viernes 20 de diciembre. Tintorería Japonesa. De 10 a 13hs. Arancelado. Cupos limitados. Información e inscripción mp @azulber_ wsp 358 4186719. \nTaller a cargo de Nicolás Zulberti. Se trabajará sobre distintos soportes y cómo hacerlo con recursos alternativos. Incluye todos los materiales.
URL:https://cultura.riocuarto.gob.ar/event/introduccion-a-la-serigrafia/
CATEGORIES:TINTORERIA JAPONESA
ATTACH;FMTTYPE=image/jpeg:https://cultura.riocuarto.gob.ar/wp-content/uploads/20-12-24-feed-1.jpg
END:VEVENT
END:VCALENDAR