BEGIN:VCALENDAR
VERSION:2.0
PRODID:-//Cultura Río Cuarto - ECPv6.15.20//NONSGML v1.0//EN
CALSCALE:GREGORIAN
METHOD:PUBLISH
X-WR-CALNAME:Cultura Río Cuarto
X-ORIGINAL-URL:https://cultura.riocuarto.gob.ar
X-WR-CALDESC:Eventos para Cultura Río Cuarto
REFRESH-INTERVAL;VALUE=DURATION:PT1H
X-Robots-Tag:noindex
X-PUBLISHED-TTL:PT1H
BEGIN:VTIMEZONE
TZID:America/Argentina/Cordoba
BEGIN:STANDARD
TZOFFSETFROM:-0300
TZOFFSETTO:-0300
TZNAME:-03
DTSTART:20230101T000000
END:STANDARD
END:VTIMEZONE
BEGIN:VEVENT
DTSTART;VALUE=DATE:20241221
DTEND;VALUE=DATE:20241229
DTSTAMP:20260426T005624
CREATED:20241216T141713Z
LAST-MODIFIED:20241227T125506Z
UID:2767-1734739200-1735430399@cultura.riocuarto.gob.ar
SUMMARY:FERIA DE ARTES GRÁFICAS - EDICIÓN NAVIDAD
DESCRIPTION:Sábado 21 de diciembre. Tintorería Japonesa. De 18  a 23hs. Entrada gratuita. \nLa Tintográfica sale a la calle! Feria gráfica\, charlas\, arte en acción\, mesa abierta de procesos creativos\, talleres express\, intervenciones artística y mucho más…
URL:https://cultura.riocuarto.gob.ar/event/feria-de-artes-graficas-edicion-navidad/
CATEGORIES:TINTORERIA JAPONESA
ATTACH;FMTTYPE=image/jpeg:https://cultura.riocuarto.gob.ar/wp-content/uploads/21-12-24-FEEDD.jpg
END:VEVENT
END:VCALENDAR