BEGIN:VCALENDAR
VERSION:2.0
PRODID:-//Cultura Río Cuarto - ECPv6.15.20//NONSGML v1.0//EN
CALSCALE:GREGORIAN
METHOD:PUBLISH
X-WR-CALNAME:Cultura Río Cuarto
X-ORIGINAL-URL:https://cultura.riocuarto.gob.ar
X-WR-CALDESC:Eventos para Cultura Río Cuarto
REFRESH-INTERVAL;VALUE=DURATION:PT1H
X-Robots-Tag:noindex
X-PUBLISHED-TTL:PT1H
BEGIN:VTIMEZONE
TZID:America/Argentina/Cordoba
BEGIN:STANDARD
TZOFFSETFROM:-0300
TZOFFSETTO:-0300
TZNAME:-03
DTSTART:20240101T000000
END:STANDARD
END:VTIMEZONE
BEGIN:VEVENT
DTSTART;VALUE=DATE:20250214
DTEND;VALUE=DATE:20250215
DTSTAMP:20260426T010957
CREATED:20250214T130234Z
LAST-MODIFIED:20250214T134126Z
UID:4410-1739491200-1739577599@cultura.riocuarto.gob.ar
SUMMARY:IA: INDUSTRIA ARGENTINA
DESCRIPTION:Amig@s! Abrimos este 2025 con una cita y es este VIERNES 14 DE FEBRERO – 20 hs\nInaugurando \nIA: INDUSTRIA ARGENTINA\nDel artista Nicolás Zulberti\n@zulber_ \n⚠Tintorería Japonesa\nConstitución 947\nEntrada libre y gratuita \nSobre la muestra:\nLa intención de la misma es reivindicar la industria nacional como un valor de nuestro país\, reconocer las creaciones e inventos que han salido de ella\, defenderla ante el desmantelamiento y su destrucción. La muestra consta de grabados\, matrices\, afiches y objetos en diferentes tamaños y formatos. \n@zulber_\n.\nAhí nos vemos 👋🏼!!!
URL:https://cultura.riocuarto.gob.ar/event/ia-industria-argentina/
CATEGORIES:TINTORERIA JAPONESA
ATTACH;FMTTYPE=image/jpeg:https://cultura.riocuarto.gob.ar/wp-content/uploads/2025/02/industria-argentina.jpg
END:VEVENT
END:VCALENDAR