BEGIN:VCALENDAR
VERSION:2.0
PRODID:-//Cultura Río Cuarto - ECPv6.15.20//NONSGML v1.0//EN
CALSCALE:GREGORIAN
METHOD:PUBLISH
X-WR-CALNAME:Cultura Río Cuarto
X-ORIGINAL-URL:https://cultura.riocuarto.gob.ar
X-WR-CALDESC:Eventos para Cultura Río Cuarto
REFRESH-INTERVAL;VALUE=DURATION:PT1H
X-Robots-Tag:noindex
X-PUBLISHED-TTL:PT1H
BEGIN:VTIMEZONE
TZID:America/Argentina/Cordoba
BEGIN:STANDARD
TZOFFSETFROM:-0300
TZOFFSETTO:-0300
TZNAME:-03
DTSTART:20240101T000000
END:STANDARD
END:VTIMEZONE
BEGIN:VEVENT
DTSTART;VALUE=DATE:20250529
DTEND;VALUE=DATE:20250530
DTSTAMP:20260425T233742
CREATED:20250522T122734Z
LAST-MODIFIED:20250522T133107Z
UID:6509-1748476800-1748563199@cultura.riocuarto.gob.ar
SUMMARY:SE INAUGURA LA MUESTRA PINTAR ES URGENTE
DESCRIPTION:Jueves 29 de mayo. Tintorería Japonesa. 20hs. \nSe inaugura la muestra Pintar es urgente del artista visual Caro Antonucci. Curaduría: Mëx. \nEscribió el curador: “…una muestra honesta y profunda\, donde el hacer pictórico se manifiesta como acción directa\, como práctica íntima. Hay algo solitario en estos trabajos\, algo que sucede en silencio\, cuando el mundo queda afuera y sólo queda la pintura…”.
URL:https://cultura.riocuarto.gob.ar/event/se-inaugura-la-muestra-pintar-es-urgente/
CATEGORIES:TINTORERIA JAPONESA
ATTACH;FMTTYPE=image/jpeg:https://cultura.riocuarto.gob.ar/wp-content/uploads/2025/05/Pintar-scaled-e1747916770192.jpg
END:VEVENT
END:VCALENDAR