BEGIN:VCALENDAR
VERSION:2.0
PRODID:-//Cultura Río Cuarto - ECPv6.15.20//NONSGML v1.0//EN
CALSCALE:GREGORIAN
METHOD:PUBLISH
X-ORIGINAL-URL:https://cultura.riocuarto.gob.ar
X-WR-CALDESC:Eventos para Cultura Río Cuarto
REFRESH-INTERVAL;VALUE=DURATION:PT1H
X-Robots-Tag:noindex
X-PUBLISHED-TTL:PT1H
BEGIN:VTIMEZONE
TZID:America/Argentina/Cordoba
BEGIN:STANDARD
TZOFFSETFROM:-0300
TZOFFSETTO:-0300
TZNAME:-03
DTSTART:20250101T000000
END:STANDARD
END:VTIMEZONE
BEGIN:VEVENT
DTSTART;VALUE=DATE:20260206
DTEND;VALUE=DATE:20260207
DTSTAMP:20260422T222613
CREATED:20260206T105541Z
LAST-MODIFIED:20260206T105541Z
UID:11559-1770336000-1770422399@cultura.riocuarto.gob.ar
SUMMARY:TALLER DE CESTERÍA
DESCRIPTION:🏵TALLER de CESTERÍA🏵\nCon fibras naturales.TÉCNICA: Cocido ó Aduja. A cargo de Mariela Ferraris \n🏵 VIERNES 6 de Febrero- 9:00 hs.\nArancelado /Cupos limitados/ Inscripción previa:\n358 412-5454\n@ferrarismariela \n🏵No se necesitan conocimientos previos. Materiales incluidos. \nEl taller propone entrar en el universo de la cestería.\nAcercarse a las fibras vegetales \,\nvamos a hilar y tejer la fibra .\nAprenderemos la técnica aduja.\nCosechar en los jardines\, plazas y veredas.\nConectarse con nuestras raíces\, nuestra tradición y la naturaleza . Regalate tiempo para sentir e internalizar esta experiencia.\n.\n.\n⚠️En Tintorería Japonesa\nConstitución 947.Río IV
URL:https://cultura.riocuarto.gob.ar/event/taller-de-cesteria-2/
CATEGORIES:TINTORERIA JAPONESA
ATTACH;FMTTYPE=image/jpeg:https://cultura.riocuarto.gob.ar/wp-content/uploads/2026/02/WhatsApp-Image-2026-02-05-at-5.54.34-PM-e1770375188102.jpeg
END:VEVENT
END:VCALENDAR