BEGIN:VCALENDAR
VERSION:2.0
PRODID:-//Cultura Río Cuarto - ECPv6.15.20//NONSGML v1.0//EN
CALSCALE:GREGORIAN
METHOD:PUBLISH
X-ORIGINAL-URL:https://cultura.riocuarto.gob.ar
X-WR-CALDESC:Eventos para Cultura Río Cuarto
REFRESH-INTERVAL;VALUE=DURATION:PT1H
X-Robots-Tag:noindex
X-PUBLISHED-TTL:PT1H
BEGIN:VTIMEZONE
TZID:America/Argentina/Cordoba
BEGIN:STANDARD
TZOFFSETFROM:-0300
TZOFFSETTO:-0300
TZNAME:-03
DTSTART:20250101T000000
END:STANDARD
END:VTIMEZONE
BEGIN:VEVENT
DTSTART;VALUE=DATE:20260422
DTEND;VALUE=DATE:20260423
DTSTAMP:20260424T175637
CREATED:20260421T145713Z
LAST-MODIFIED:20260421T145713Z
UID:12087-1776816000-1776902399@cultura.riocuarto.gob.ar
SUMMARY:CONVERSACIONES DISONANTES VOL. II
DESCRIPTION:Miércoles 22 de abril. Tintorería Japonesa. 21hs. \nSe realiza la segunda edición de Conversaciones Disonantes: “Vamos a tratar el tema de los lugares para tocar música\, si faltan\, sobran\, hay menos bandas o el público ya no está interesado por la música en vivo? Y muchas más cosas para agrega. Invitados: Baltazar Gómez\, José “Pipa” Abril\, Mariano Moreno\, Migue Alonso y Julia Bugiolocchi\, Coordina: Tite Quiroz. Mini jam de música y jam de dibujo con Lo inabarcable.
URL:https://cultura.riocuarto.gob.ar/event/conversaciones-disonantes-vol-ii/
CATEGORIES:TINTORERIA JAPONESA
ATTACH;FMTTYPE=image/jpeg:https://cultura.riocuarto.gob.ar/wp-content/uploads/2026/04/Conversaciones-disonantes.jpeg
END:VEVENT
END:VCALENDAR