BEGIN:VCALENDAR
VERSION:2.0
PRODID:-//Cultura Río Cuarto - ECPv6.15.20//NONSGML v1.0//EN
CALSCALE:GREGORIAN
METHOD:PUBLISH
X-WR-CALNAME:Cultura Río Cuarto
X-ORIGINAL-URL:https://cultura.riocuarto.gob.ar
X-WR-CALDESC:Eventos para Cultura Río Cuarto
REFRESH-INTERVAL;VALUE=DURATION:PT1H
X-Robots-Tag:noindex
X-PUBLISHED-TTL:PT1H
BEGIN:VTIMEZONE
TZID:America/Argentina/Cordoba
BEGIN:STANDARD
TZOFFSETFROM:-0300
TZOFFSETTO:-0300
TZNAME:-03
DTSTART:20240101T000000
END:STANDARD
END:VTIMEZONE
BEGIN:VEVENT
DTSTART;VALUE=DATE:20250928
DTEND;VALUE=DATE:20250929
DTSTAMP:20260420T200808
CREATED:20250923T123242Z
LAST-MODIFIED:20250923T123242Z
UID:9125-1759017600-1759103999@cultura.riocuarto.gob.ar
SUMMARY:VARIETÉ PRE FESTIVAL YO ME RÍO CUARTO
DESCRIPTION:Domingo 28 de septiembre. Galpón Blanco del Andino. 17hs. Entrada a la gorra \nSe realiza una varieté como adelanto de la una nueva edición del festival circense local que se concretará el próximo mes de octubre.
URL:https://cultura.riocuarto.gob.ar/event/variete-pre-festival-yo-me-rio-cuarto/
CATEGORIES:GALPÓN BLANCO. C.C ANDINO
ATTACH;FMTTYPE=image/png:https://cultura.riocuarto.gob.ar/wp-content/uploads/2025/09/Preyomeriocuarto-e1758630634472.png
END:VEVENT
END:VCALENDAR