BEGIN:VCALENDAR
VERSION:2.0
PRODID:-//Cultura Río Cuarto - ECPv6.15.20//NONSGML v1.0//EN
CALSCALE:GREGORIAN
METHOD:PUBLISH
X-WR-CALNAME:Cultura Río Cuarto
X-ORIGINAL-URL:https://cultura.riocuarto.gob.ar
X-WR-CALDESC:Eventos para Cultura Río Cuarto
REFRESH-INTERVAL;VALUE=DURATION:PT1H
X-Robots-Tag:noindex
X-PUBLISHED-TTL:PT1H
BEGIN:VTIMEZONE
TZID:America/Argentina/Cordoba
BEGIN:STANDARD
TZOFFSETFROM:-0300
TZOFFSETTO:-0300
TZNAME:-03
DTSTART:20240101T000000
END:STANDARD
END:VTIMEZONE
BEGIN:VEVENT
DTSTART;VALUE=DATE:20251214
DTEND;VALUE=DATE:20251215
DTSTAMP:20260420T113913
CREATED:20251204T154824Z
LAST-MODIFIED:20251204T154824Z
UID:10710-1765670400-1765756799@cultura.riocuarto.gob.ar
SUMMARY:MIXTURA
DESCRIPTION:Domingo 14 de diciembre. Viejo Mercado. 20hs. Entrada gral. $15.000 \nLa escuela artística local presenta Arco iris en la noche. “Se trata de nuestra muestra de cierre de 2025\, este año se trabajó en base a los colores del arco iris y se realizarán diferentes números con la participación de todos los alumnos y de todas las edades. Nuestras disciplinas son danza aéreas\, yoga en tela\, acrobacia de suelo y yoga”.
URL:https://cultura.riocuarto.gob.ar/event/mixtura-2/
CATEGORIES:VIEJO MERCADO
ATTACH;FMTTYPE=image/png:https://cultura.riocuarto.gob.ar/wp-content/uploads/2025/12/Mixtura-e1764863291940.png
END:VEVENT
BEGIN:VEVENT
DTSTART;VALUE=DATE:20251219
DTEND;VALUE=DATE:20251220
DTSTAMP:20260420T113913
CREATED:20251215T190011Z
LAST-MODIFIED:20251215T190011Z
UID:10887-1766102400-1766188799@cultura.riocuarto.gob.ar
SUMMARY:ESPACIO VAIVEN
DESCRIPTION:Viernes 19 de diciembre. Viejo Mercado. 20hs. Entrada gral. $15.000\nSomos un espacio de acrobacias aéreas\, donde cumplimos nuestros sueños elevándonos en lo\nalto con el amor de todos los que habitamos este espacio tan acogedor.\nDeseamos cerrar el año compartiendo nuestros conocimientos adquiridos\, nuestros sueños\ncumplidos\, contando experiencias\, compartiendo nuestros valores y respeto por los demás..”
URL:https://cultura.riocuarto.gob.ar/event/espacio-vaiven/
CATEGORIES:VIEJO MERCADO
ATTACH;FMTTYPE=image/jpeg:https://cultura.riocuarto.gob.ar/wp-content/uploads/2025/12/1000606927-e1765825159774.jpg
END:VEVENT
BEGIN:VEVENT
DTSTART;VALUE=DATE:20251220
DTEND;VALUE=DATE:20251221
DTSTAMP:20260420T113913
CREATED:20251215T192956Z
LAST-MODIFIED:20251215T192956Z
UID:10897-1766188800-1766275199@cultura.riocuarto.gob.ar
SUMMARY:TEATRO: GEOGRAFÍA DE EMOCIONES
DESCRIPTION:Sábado 20 de diciembre. Teatrino de la Trapalanda. 21.15hs. Entrada gral. $5.000.\nPresentación de la obra Geografía de Emociones\, una Creación Colectiva del Taller de\nEntrenamiento Actoral\, dirigido por Argelia Neild.\nEn Geografía de Emociones dialogan como si recorrieran un mapa interior. A través de\npreguntas existenciales y reflexiones profundas\, exploran cómo cada sentimiento -la tristeza\,\nla esperanza\, el amor\, la angustia- revela algo esencial de la condición humana. Entre filosofía\ny texto\, la obra invita a comprender que sentir es existir\, y que el verdadero ejercicio de\nlibertad consiste en permitir que los sentimientos hablen. Con la actuación de: Pata Calicchio\,\nSilvina Guzmán\, Brenda Mampel\, José Torres Borda\, Jonathan Tuller\, Lorenzo Aguilera\, Genaro\nRoy Oggero. Fotografía: Andrea Cormick. Asesoramiento en vestuario José Torres Asistente:\nTiago Urrutia. Dirección: Argelia Neild
URL:https://cultura.riocuarto.gob.ar/event/teatro-geografia-de-emociones/
CATEGORIES:TEATRINO
ATTACH;FMTTYPE=image/jpeg:https://cultura.riocuarto.gob.ar/wp-content/uploads/2025/12/1000606930-e1765826920210.jpg
END:VEVENT
END:VCALENDAR