BEGIN:VCALENDAR
VERSION:2.0
PRODID:-//Cultura Río Cuarto - ECPv6.15.20//NONSGML v1.0//EN
CALSCALE:GREGORIAN
METHOD:PUBLISH
X-WR-CALNAME:Cultura Río Cuarto
X-ORIGINAL-URL:https://cultura.riocuarto.gob.ar
X-WR-CALDESC:Eventos para Cultura Río Cuarto
REFRESH-INTERVAL;VALUE=DURATION:PT1H
X-Robots-Tag:noindex
X-PUBLISHED-TTL:PT1H
BEGIN:VTIMEZONE
TZID:America/Argentina/Cordoba
BEGIN:STANDARD
TZOFFSETFROM:-0300
TZOFFSETTO:-0300
TZNAME:-03
DTSTART:20240101T000000
END:STANDARD
END:VTIMEZONE
BEGIN:VEVENT
DTSTART;VALUE=DATE:20251220
DTEND;VALUE=DATE:20251221
DTSTAMP:20260420T131614
CREATED:20251215T192956Z
LAST-MODIFIED:20251215T192956Z
UID:10897-1766188800-1766275199@cultura.riocuarto.gob.ar
SUMMARY:TEATRO: GEOGRAFÍA DE EMOCIONES
DESCRIPTION:Sábado 20 de diciembre. Teatrino de la Trapalanda. 21.15hs. Entrada gral. $5.000.\nPresentación de la obra Geografía de Emociones\, una Creación Colectiva del Taller de\nEntrenamiento Actoral\, dirigido por Argelia Neild.\nEn Geografía de Emociones dialogan como si recorrieran un mapa interior. A través de\npreguntas existenciales y reflexiones profundas\, exploran cómo cada sentimiento -la tristeza\,\nla esperanza\, el amor\, la angustia- revela algo esencial de la condición humana. Entre filosofía\ny texto\, la obra invita a comprender que sentir es existir\, y que el verdadero ejercicio de\nlibertad consiste en permitir que los sentimientos hablen. Con la actuación de: Pata Calicchio\,\nSilvina Guzmán\, Brenda Mampel\, José Torres Borda\, Jonathan Tuller\, Lorenzo Aguilera\, Genaro\nRoy Oggero. Fotografía: Andrea Cormick. Asesoramiento en vestuario José Torres Asistente:\nTiago Urrutia. Dirección: Argelia Neild
URL:https://cultura.riocuarto.gob.ar/event/teatro-geografia-de-emociones/
CATEGORIES:TEATRINO
ATTACH;FMTTYPE=image/jpeg:https://cultura.riocuarto.gob.ar/wp-content/uploads/2025/12/1000606930-e1765826920210.jpg
END:VEVENT
END:VCALENDAR