BEGIN:VCALENDAR
VERSION:2.0
PRODID:-//Cultura Río Cuarto - ECPv6.15.20//NONSGML v1.0//EN
CALSCALE:GREGORIAN
METHOD:PUBLISH
X-WR-CALNAME:Cultura Río Cuarto
X-ORIGINAL-URL:https://cultura.riocuarto.gob.ar
X-WR-CALDESC:Eventos para Cultura Río Cuarto
REFRESH-INTERVAL;VALUE=DURATION:PT1H
X-Robots-Tag:noindex
X-PUBLISHED-TTL:PT1H
BEGIN:VTIMEZONE
TZID:America/Argentina/Cordoba
BEGIN:STANDARD
TZOFFSETFROM:-0300
TZOFFSETTO:-0300
TZNAME:-03
DTSTART:20240101T000000
END:STANDARD
END:VTIMEZONE
BEGIN:VEVENT
DTSTART;VALUE=DATE:20250503
DTEND;VALUE=DATE:20250504
DTSTAMP:20260425T094314
CREATED:20250428T145902Z
LAST-MODIFIED:20250429T134332Z
UID:6118-1746230400-1746316799@cultura.riocuarto.gob.ar
SUMMARY:CICLO LA SALA
DESCRIPTION:Sábado 3 de mayo. Galpón Blanco del Andino. 21hs. Entrada gral. $6000 \nEn una nueva edición del convocante ciclo La Sala\, tocan en vivo las bandas locales Bohemios (grabación en vivo) y Son de palo. Patio gastronómico.
URL:https://cultura.riocuarto.gob.ar/event/ciclo-la-sala/
CATEGORIES:GALPÓN BLANCO. C.C ANDINO
ATTACH;FMTTYPE=image/jpeg:https://cultura.riocuarto.gob.ar/wp-content/uploads/2025/04/LaSala-e1745852303363.jpg
END:VEVENT
BEGIN:VEVENT
DTSTART;VALUE=DATE:20250516
DTEND;VALUE=DATE:20250517
DTSTAMP:20260425T094314
CREATED:20250512T160858Z
LAST-MODIFIED:20250512T160858Z
UID:6406-1747353600-1747439999@cultura.riocuarto.gob.ar
SUMMARY:CICLO DE LA RAÍZ AL CORAZÓN
DESCRIPTION:Viernes 16 de mayo. Galpón Blanco. C.C Andino. 21hs. Entrada gratuita. \nVuelve el ciclo folklórico De la Raíz al Corazón con las actuaciones de Sueño Jovial y Ballet Peñeros Libres. Invitados: Ballet Concordia.
URL:https://cultura.riocuarto.gob.ar/event/ciclo-de-la-raiz-al-corazon/
CATEGORIES:GALPÓN BLANCO. C.C ANDINO
ATTACH;FMTTYPE=image/jpeg:https://cultura.riocuarto.gob.ar/wp-content/uploads/2025/05/de-la-raiz-e1747066116957.jpg
END:VEVENT
BEGIN:VEVENT
DTSTART;VALUE=DATE:20250523
DTEND;VALUE=DATE:20250524
DTSTAMP:20260425T094314
CREATED:20250520T142314Z
LAST-MODIFIED:20250520T142314Z
UID:6482-1747958400-1748044799@cultura.riocuarto.gob.ar
SUMMARY:CICLO DE LA RAÍZ AL CORAZÓN
DESCRIPTION:Viernes 23 de  mayo. Galpón Blanco del Andino. 21hs. Entrada gratuita \nContinúa el ciclo folklórico De la raíz al corazón\, con las actuaciones del Grupo Folclórico Concordia\, Dúo Darío Aluen y Cacho Bittoco presentan “Bailanta Folklórica” y Almita Aluen.
URL:https://cultura.riocuarto.gob.ar/event/ciclo-de-la-raiz-al-corazon-2/
CATEGORIES:GALPÓN BLANCO. C.C ANDINO
ATTACH;FMTTYPE=image/jpeg:https://cultura.riocuarto.gob.ar/wp-content/uploads/2025/05/ciclo_fedd-e1747750984647.jpg
END:VEVENT
END:VCALENDAR