BEGIN:VCALENDAR
VERSION:2.0
PRODID:-//Cultura Río Cuarto - ECPv6.15.20//NONSGML v1.0//EN
CALSCALE:GREGORIAN
METHOD:PUBLISH
X-ORIGINAL-URL:https://cultura.riocuarto.gob.ar
X-WR-CALDESC:Eventos para Cultura Río Cuarto
REFRESH-INTERVAL;VALUE=DURATION:PT1H
X-Robots-Tag:noindex
X-PUBLISHED-TTL:PT1H
BEGIN:VTIMEZONE
TZID:America/Argentina/Cordoba
BEGIN:STANDARD
TZOFFSETFROM:-0300
TZOFFSETTO:-0300
TZNAME:-03
DTSTART:20240101T000000
END:STANDARD
END:VTIMEZONE
BEGIN:VEVENT
DTSTART;VALUE=DATE:20250112
DTEND;VALUE=DATE:20250113
DTSTAMP:20260426T010857
CREATED:20250107T144901Z
LAST-MODIFIED:20250107T144901Z
UID:3239-1736640000-1736726399@cultura.riocuarto.gob.ar
SUMMARY:CICLO PARQUEOKE
DESCRIPTION:DOMINGO 12 DE ENERO. A partir de las 18.00HS. PARQUE SUR. Entrada libre y gratuita. \nParqueoke! Para pasar una tarde en familia y disfrutar cantando!  Hay juegos\, música\, la calesita para los más chicos y mucho más.
URL:https://cultura.riocuarto.gob.ar/event/ciclo-parqueoke/
CATEGORIES:PARQUE SUR
ATTACH;FMTTYPE=image/png:https://cultura.riocuarto.gob.ar/wp-content/uploads/2025/01/parqueoke_feed-e1736261333370.png
END:VEVENT
BEGIN:VEVENT
DTSTART;VALUE=DATE:20250112
DTEND;VALUE=DATE:20250113
DTSTAMP:20260426T010857
CREATED:20250107T145050Z
LAST-MODIFIED:20250107T145050Z
UID:3242-1736640000-1736726399@cultura.riocuarto.gob.ar
SUMMARY:CICLO VERANO PARA LAS INFANCIAS
DESCRIPTION:DOMINGO 12 DE ENERO. 20.00HS. GALPÓN BLANCO DEL ANDINO. Entrada libre y gratuita. No se suspende por mal tiempo. \nCompañía La Curva presenta “CON ALTURA”.  \nEspectáculo de circo para niños y grandes que combina acrobacia\, danza\, malabares y humor\, llevado a cabo por dos personajes: Abedul y Ruperta. \nSinopsis… Abedul es un titiritero gigante que se jacta de ser poderoso y estar por sobre todos y de manejar a Ruperta. Ella es una titiritera que está cansada de ser manipulada por él y que quiere sentir y moverse por ella misma. A partir de que ella se revela y propone ver las cosas de otra manera\, ambos personajes se encargarán de llevar a los espectadores a transitar un viaje de risas\, sorpresas\, destrezas y diferentes emociones.
URL:https://cultura.riocuarto.gob.ar/event/ciclo-verano-para-las-infancias-2/
CATEGORIES:GALPÓN BLANCO. C.C ANDINO
ATTACH;FMTTYPE=image/png:https://cultura.riocuarto.gob.ar/wp-content/uploads/2025/01/infancias_gb_feed-e1736261439992.png
END:VEVENT
BEGIN:VEVENT
DTSTART;VALUE=DATE:20250112
DTEND;VALUE=DATE:20250113
DTSTAMP:20260426T010857
CREATED:20250110T180135Z
LAST-MODIFIED:20250110T180345Z
UID:3295-1736640000-1736726399@cultura.riocuarto.gob.ar
SUMMARY:GRUPO FOLCLÓRICO CONCORDIA
DESCRIPTION:GRUPO FOLCLÓRICO CONCORDIA \nDOMINGO 12 DE ENERO. 20.30HS. PARQUE SUR. Entrada libre y gratuita. \nPara el Grupo Folclórico Concordia un comienzo del 2025 con un gran desafío: Apertura del Pre- Cosquin del día 16 y en esta oportunidad presentaran la obra que llevaran a la  Prospero Molina en nuestra ciudad. La misma es un trabajo de investigación antropológica de nuestra región: “Los Hermanos Fruteros”\, canta autores y músicos referentes del sur cordobés. En dicha obra se resignifican letras\, costumbres y contextos de las serranías que nos rodean. El grupo cuenta para ello con un sin número de bailarines jóvenes y adultos que recrearán la propuesta el día domingo 12 a las 20:30 h en el Parque Sur. Acompañen este trabajo con su presencia: reposera\, mate….
URL:https://cultura.riocuarto.gob.ar/event/grupo-folclorico-concordia/
CATEGORIES:PARQUE SUR
ATTACH;FMTTYPE=image/jpeg:https://cultura.riocuarto.gob.ar/wp-content/uploads/2025/01/IMG-20250109-WA0093-e1736532080485.jpg
END:VEVENT
END:VCALENDAR