BEGIN:VCALENDAR
VERSION:2.0
PRODID:-//Cultura Río Cuarto - ECPv6.15.20//NONSGML v1.0//EN
CALSCALE:GREGORIAN
METHOD:PUBLISH
X-WR-CALNAME:Cultura Río Cuarto
X-ORIGINAL-URL:https://cultura.riocuarto.gob.ar
X-WR-CALDESC:Eventos para Cultura Río Cuarto
REFRESH-INTERVAL;VALUE=DURATION:PT1H
X-Robots-Tag:noindex
X-PUBLISHED-TTL:PT1H
BEGIN:VTIMEZONE
TZID:America/Argentina/Cordoba
BEGIN:STANDARD
TZOFFSETFROM:-0300
TZOFFSETTO:-0300
TZNAME:-03
DTSTART:20230101T000000
END:STANDARD
END:VTIMEZONE
BEGIN:VEVENT
DTSTART;TZID=America/Argentina/Cordoba:20241120T080000
DTEND;TZID=America/Argentina/Cordoba:20241120T170000
DTSTAMP:20260421T201821
CREATED:20241120T151356Z
LAST-MODIFIED:20241120T153811Z
UID:1321-1732089600-1732122000@cultura.riocuarto.gob.ar
SUMMARY:EL BAÑO DEL PAPA EN EL CINE EN EL TEATRINO
DESCRIPTION:Este miércoles 20 de noviembre a las 20.30hs. en el Teatrino de la Trapalanda\, con entrada\ngratuita\, en el ciclo de Cine en el Teatrino\, en el mes de Cine Latinoamericano\, se proyecta la\npelícula El baño del Papa\, dirigida por Enrique Fernández y César Charlone (Uruguay\, 2007)\,\ncon César Troncoso\, Virginia Méndez y Virginia Ruiz.\nSinopsis: En 1988 el Papa Juan Pablo II va a visitar Melo\, una pobre comunidad fronteriza de\nUruguay. Se espera a más de 50.000 visitantes. Beto tiene una idea\, construirá un baño\ndelante de su casa para alquilar… Drama\, humor\, alegría\, tristezas\, injusticias\, todos estos\ncondimentos forman parte de una película inolvidable. La ternura de este film refleja nuestra\ningenuidad y nuestra fe de que todo puede estar mejor. Es una película social que nos hará\nreflexionar\, una cinta con un potencial emocional superlativo.
URL:https://cultura.riocuarto.gob.ar/event/el-bano-del-papa-en-el-cine-en-el-teatrino/
LOCATION:teatrino de la trapalanda\, Colón 149\, Río Cuarto\, CÓRDOBA\, 5800\, Argentina
CATEGORIES:TEATRINO
ATTACH;FMTTYPE=image/jpeg:https://cultura.riocuarto.gob.ar/wp-content/uploads/el-bano-e1732117083598.jpg
END:VEVENT
END:VCALENDAR