BEGIN:VCALENDAR
VERSION:2.0
PRODID:-//Cultura Río Cuarto - ECPv6.15.20//NONSGML v1.0//EN
CALSCALE:GREGORIAN
METHOD:PUBLISH
X-ORIGINAL-URL:https://cultura.riocuarto.gob.ar
X-WR-CALDESC:Eventos para Cultura Río Cuarto
REFRESH-INTERVAL;VALUE=DURATION:PT1H
X-Robots-Tag:noindex
X-PUBLISHED-TTL:PT1H
BEGIN:VTIMEZONE
TZID:America/Argentina/Cordoba
BEGIN:STANDARD
TZOFFSETFROM:-0300
TZOFFSETTO:-0300
TZNAME:-03
DTSTART:20240101T000000
END:STANDARD
END:VTIMEZONE
BEGIN:VEVENT
DTSTART;VALUE=DATE:20250801
DTEND;VALUE=DATE:20250802
DTSTAMP:20260422T035332
CREATED:20250730T115209Z
LAST-MODIFIED:20250730T115209Z
UID:8151-1754006400-1754092799@cultura.riocuarto.gob.ar
SUMMARY:TALLER DE PINTURA CON PIGMENTOS NATURALES
DESCRIPTION:Viernes 1º de agosto. Museo Histórico Regional. 15hs. \nSe realiza el Taller de Pintura con pigmentos naturales\, a cargo de Flavia Bertolome. Inscripciones e informes: 3584293340 o IG @atardecerserrano. Contribución Voluntaria Consciente. \nA partir de pigmentos realizados de manera artesanal desarrollaremos diseños de diferentes culturas (Africanos\, hindúes\, egipcios\, precolombinos\, aztecas\, incas\, mayas\, quechuas\, mapuches\, etc.). Trabajaremos con diferentes elementos para el desarrollo del proceso creativo\, y el recurso base será papel 100% algodón. Durante 3 horas encarnaremos a chamanas/es\, guardianas/es\, pitonisas y magos despertando el poder que otorga la naturaleza cuando logramos una profunda conexión con ella. \nMateriales incluidos\, compartiremos una merienda ancestral.
URL:https://cultura.riocuarto.gob.ar/event/taller-de-pintura-con-pigmentos-naturales/
CATEGORIES:MUSEO HISTORICO
ATTACH;FMTTYPE=image/jpeg:https://cultura.riocuarto.gob.ar/wp-content/uploads/2025/07/PIGMENTOS-e1753876316265.jpg
END:VEVENT
BEGIN:VEVENT
DTSTART;VALUE=DATE:20250801
DTEND;VALUE=DATE:20250901
DTSTAMP:20260422T035332
CREATED:20250731T134729Z
LAST-MODIFIED:20250801T142540Z
UID:8192-1754006400-1756684799@cultura.riocuarto.gob.ar
SUMMARY:EXPOSICIÓN ÉRASE UNA VEZ... PARA LAS INFANCIAS
DESCRIPTION:Durante todo el mes de agosto. Museo Histórico Regional. De lunes a viernes de 8 a 12hs. y de 15 a 19 hs. Fines de semana sujeto a actividades. \nEn el marco del mes de las infancias se puede disfrutar de la exposición Érase una vez…”. El Museo te invita a vivir la niñez del siglo pasado con juguetes\, libros\, accesorios\, ropa y mucho más. Vení a descubrir la exposición en la Sala de los Inmigrantes durante el mes de agosto\, mes de las infancias. \nLa exposición se podrá disfrutar de lunes a viernes de 8 a 12hs. y de 15 a 19 hs. Fines de semana sujeto a actividades.
URL:https://cultura.riocuarto.gob.ar/event/exposicion-erase-una-vez-para-las-infancias/
CATEGORIES:MUSEO HISTORICO
ATTACH;FMTTYPE=image/jpeg:https://cultura.riocuarto.gob.ar/wp-content/uploads/2025/07/eraseunavez_fedd-e1754058314960.jpg
END:VEVENT
BEGIN:VEVENT
DTSTART;VALUE=DATE:20250808
DTEND;VALUE=DATE:20250809
DTSTAMP:20260422T035332
CREATED:20250801T131815Z
LAST-MODIFIED:20250801T131815Z
UID:8197-1754611200-1754697599@cultura.riocuarto.gob.ar
SUMMARY:SE INAUGURA LA MUESTRA EL UNIVERSO DESCONOCIDO
DESCRIPTION:Viernes 8 de agosto. Museo Municipal de Bellas Artes. C.C. Trapalanda \nEn el mes del dibujo inaugura la muestra El universo desconocido de Estratosférica y Lucas Aime. Con el dibujo como estrategia de acercamiento a la sensibilidad un Ornitólogo y una Estratosférica nos ofrecen un viaje de ida a través de sus obras. Una batalla entre manchas y papeles rayados con lápiz\, grafito\, la palabra\, el respeto y el arte. \nDurante el mes del dibujo se realizarán 3 clases magistrales a cargo de: \nJulieta Sayago: jueves 14 de 18 a 20hs. \nHeraldo Mussolini: viernes 22 de 18 a 20hs. \nGermán Ortiz: viernes 29 de 18 a 20hs.
URL:https://cultura.riocuarto.gob.ar/event/se-inaugura-la-muestra-el-universo-desconocido/
CATEGORIES:MUSEO DE BELLAS ARTES
ATTACH;FMTTYPE=image/jpeg:https://cultura.riocuarto.gob.ar/wp-content/uploads/2025/08/universo_fedd-e1754054287888.jpg
END:VEVENT
END:VCALENDAR