BEGIN:VCALENDAR
VERSION:2.0
PRODID:-//Cultura Río Cuarto - ECPv6.15.20//NONSGML v1.0//EN
CALSCALE:GREGORIAN
METHOD:PUBLISH
X-ORIGINAL-URL:https://cultura.riocuarto.gob.ar
X-WR-CALDESC:Eventos para Cultura Río Cuarto
REFRESH-INTERVAL;VALUE=DURATION:PT1H
X-Robots-Tag:noindex
X-PUBLISHED-TTL:PT1H
BEGIN:VTIMEZONE
TZID:America/Argentina/Cordoba
BEGIN:STANDARD
TZOFFSETFROM:-0300
TZOFFSETTO:-0300
TZNAME:-03
DTSTART:20240101T000000
END:STANDARD
END:VTIMEZONE
BEGIN:VEVENT
DTSTART;VALUE=DATE:20250503
DTEND;VALUE=DATE:20250505
DTSTAMP:20260422T135837
CREATED:20250428T144848Z
LAST-MODIFIED:20250428T144848Z
UID:6115-1746230400-1746403199@cultura.riocuarto.gob.ar
SUMMARY:TALLER A TODA MARCHA CON LOS JUEGOS
DESCRIPTION:Sábado 3 y domingo 4 de mayo. Museo del Riel. C.C. Andino. 16.30hs. \nSe realiza el Taller A toda marcha con los juegos. Armado de rompecabezas\, dominó\, juegos de memoria y mucho más!. Destinado a niños hasta 12 años (Acompañados por un adulto).
URL:https://cultura.riocuarto.gob.ar/event/taller-a-toda-marcha-con-los-juegos/
CATEGORIES:MUSEO DEL RIEL. C.C. ANDINO
ATTACH;FMTTYPE=image/jpeg:https://cultura.riocuarto.gob.ar/wp-content/uploads/2025/04/armado-de-rompezabeza_FEDD-e1745851720264.jpg
END:VEVENT
END:VCALENDAR