BEGIN:VCALENDAR
VERSION:2.0
PRODID:-//Cultura Río Cuarto - ECPv6.15.20//NONSGML v1.0//EN
CALSCALE:GREGORIAN
METHOD:PUBLISH
X-ORIGINAL-URL:https://cultura.riocuarto.gob.ar
X-WR-CALDESC:Eventos para Cultura Río Cuarto
REFRESH-INTERVAL;VALUE=DURATION:PT1H
X-Robots-Tag:noindex
X-PUBLISHED-TTL:PT1H
BEGIN:VTIMEZONE
TZID:America/Argentina/Cordoba
BEGIN:STANDARD
TZOFFSETFROM:-0300
TZOFFSETTO:-0300
TZNAME:-03
DTSTART:20240101T000000
END:STANDARD
END:VTIMEZONE
BEGIN:VEVENT
DTSTART;VALUE=DATE:20250517
DTEND;VALUE=DATE:20250629
DTSTAMP:20260422T135830
CREATED:20250512T140221Z
LAST-MODIFIED:20250512T140221Z
UID:6376-1747440000-1751155199@cultura.riocuarto.gob.ar
SUMMARY:VISITAS GUIADAS AL MUSEO MALVINAS
DESCRIPTION:Sábados de mayo y junio. Museo Municipal Héroes de Malvinas. 17hs. \nEn el marco del 43° aniversario de la Guerra de Malvinas continúa las visitas guiadas al museo local.
URL:https://cultura.riocuarto.gob.ar/event/visitas-guiadas-al-museo-malvinas/
CATEGORIES:Museo Héroes de Malvinas
ATTACH;FMTTYPE=image/jpeg:https://cultura.riocuarto.gob.ar/wp-content/uploads/2025/05/MALVINAS_FEDD-e1747058528521.jpg
END:VEVENT
BEGIN:VEVENT
DTSTART;VALUE=DATE:20250523
DTEND;VALUE=DATE:20250524
DTSTAMP:20260422T135830
CREATED:20250512T142328Z
LAST-MODIFIED:20250519T134720Z
UID:6385-1747958400-1748044799@cultura.riocuarto.gob.ar
SUMMARY:ENCUENTRO-TALLER DE REPUJADO KITSCH
DESCRIPTION:Viernes 23 de mayo. Museo Histórico Regional. 9hs. \nSe realiza la actividad arancelada Encuentro-Taller de repujado Kitsch. Coordina: Miss La Mega.
URL:https://cultura.riocuarto.gob.ar/event/encuentro-taller-de-repujado-kitsch/
CATEGORIES:MUSEO HISTORICO
ATTACH;FMTTYPE=image/jpeg:https://cultura.riocuarto.gob.ar/wp-content/uploads/2025/05/TALLER-e1747662429159.jpg
END:VEVENT
END:VCALENDAR