BEGIN:VCALENDAR
VERSION:2.0
PRODID:-//Cultura Río Cuarto - ECPv6.15.20//NONSGML v1.0//EN
CALSCALE:GREGORIAN
METHOD:PUBLISH
X-ORIGINAL-URL:https://cultura.riocuarto.gob.ar
X-WR-CALDESC:Eventos para Cultura Río Cuarto
REFRESH-INTERVAL;VALUE=DURATION:PT1H
X-Robots-Tag:noindex
X-PUBLISHED-TTL:PT1H
BEGIN:VTIMEZONE
TZID:America/Argentina/Cordoba
BEGIN:STANDARD
TZOFFSETFROM:-0300
TZOFFSETTO:-0300
TZNAME:-03
DTSTART:20240101T000000
END:STANDARD
END:VTIMEZONE
BEGIN:VEVENT
DTSTART;VALUE=DATE:20250708
DTEND;VALUE=DATE:20250718
DTSTAMP:20260422T065602
CREATED:20250701T223458Z
LAST-MODIFIED:20250701T223525Z
UID:7306-1751932800-1752796799@cultura.riocuarto.gob.ar
SUMMARY:✨ACTIVIDADES LÚDICAS EN EL MUSEO! LA ESTACIÓN DE LA DIVERSIÓN 🚂
DESCRIPTION:👉 Explorar el mundo del tren a través de juegos didácticos y lúdicos\, armado de locomotoras\, pintura\, collage y mucho más! 📍 MUSEO DEL RIEL. C.C ANDINO 📅 Martes 8 y 15. 📅 Jueves 10 y 17 de julio. ⏰ De 10 a 12hs y de 15 a 17hs. 👉Destinado a niños de 4 a 12 años. Asistir con un adulto. 🎟️ Actividades gratuitas. 📅 Viernes 11 y 18 de julio. De 10 a 12hs. Recorrido por el museo y sus alrededores. Vení a conocer su HISTORIA!
URL:https://cultura.riocuarto.gob.ar/event/%e2%9c%a8actividades-ludicas-en-el-museo-la-estacion-de-la-diversion-%f0%9f%9a%82/
CATEGORIES:MUSEO DEL RIEL. C.C. ANDINO
ATTACH;FMTTYPE=image/png:https://cultura.riocuarto.gob.ar/wp-content/uploads/2025/07/feed_riel_vacaciones-e1751409046351.png
END:VEVENT
BEGIN:VEVENT
DTSTART;VALUE=DATE:20250709
DTEND;VALUE=DATE:20250719
DTSTAMP:20260422T065602
CREATED:20250701T223822Z
LAST-MODIFIED:20250701T223822Z
UID:7309-1752019200-1752883199@cultura.riocuarto.gob.ar
SUMMARY:JUEGOS EN LA SALA DEL MUSEO 🎉
DESCRIPTION:🎉 📍 MUSEO MUNICIPAL HÉROES DE MALVINAS 📅 Miércoles 9 y 16 de julio. 📅 Viernes 11 y 18 de julio. ⏰ De 9 a 12hs. Te esperamos para jugar en la sala del museo! ✨ TALLER DE ARTE PARA NIÑOS 🖍️🖍️ Dibujamos y conocemos las ISLAS MALVINAS. 📅 Viernes 11 y 18 de julio. 16hs. 🎟️ Gratuito. Destinado a niños de 8 a 12 años. Info e inscripciones museoheroesdemalvinas@gmail.com
URL:https://cultura.riocuarto.gob.ar/event/juegos-en-la-sala-del-museo-%f0%9f%8e%89/
CATEGORIES:Museo Héroes de Malvinas
ATTACH;FMTTYPE=image/png:https://cultura.riocuarto.gob.ar/wp-content/uploads/2025/07/feed_malvinas-e1751409490154.png
END:VEVENT
END:VCALENDAR