BEGIN:VCALENDAR
VERSION:2.0
PRODID:-//Cultura Río Cuarto - ECPv6.15.20//NONSGML v1.0//EN
CALSCALE:GREGORIAN
METHOD:PUBLISH
X-WR-CALNAME:Cultura Río Cuarto
X-ORIGINAL-URL:https://cultura.riocuarto.gob.ar
X-WR-CALDESC:Eventos para Cultura Río Cuarto
REFRESH-INTERVAL;VALUE=DURATION:PT1H
X-Robots-Tag:noindex
X-PUBLISHED-TTL:PT1H
BEGIN:VTIMEZONE
TZID:America/Argentina/Cordoba
BEGIN:STANDARD
TZOFFSETFROM:-0300
TZOFFSETTO:-0300
TZNAME:-03
DTSTART:20230101T000000
END:STANDARD
END:VTIMEZONE
BEGIN:VEVENT
DTSTART;VALUE=DATE:20241201
DTEND;VALUE=DATE:20241202
DTSTAMP:20260424T204613
CREATED:20241128T122510Z
LAST-MODIFIED:20241128T164611Z
UID:1778-1733011200-1733097599@cultura.riocuarto.gob.ar
SUMMARY:LA ALBORADA CIERRA EL AÑO
DESCRIPTION:Domingo 1 de diciembre. 20hs. Viejo Mercado. Entrada gral. de $5.000. \nEl espacio cultural La Alborada\, presenta su espectáculo de fin de año. Se presentarán diferentes cuadros de danzas folklóricas\, todos interpretados por los alumnos del espacio y se realizará un cierre con una banda de folklore en vivo. Servicio de cantina.
URL:https://cultura.riocuarto.gob.ar/event/la-alborada-cierra-el-ano/
CATEGORIES:VIEJO MERCADO
ATTACH;FMTTYPE=image/jpeg:https://cultura.riocuarto.gob.ar/wp-content/uploads/alborada_fedd-e1732796700660.jpg
END:VEVENT
BEGIN:VEVENT
DTSTART;VALUE=DATE:20241212
DTEND;VALUE=DATE:20241214
DTSTAMP:20260424T204613
CREATED:20241203T160322Z
LAST-MODIFIED:20241203T160322Z
UID:2088-1733961600-1734134399@cultura.riocuarto.gob.ar
SUMMARY:NOTA LIBRE
DESCRIPTION:Jueves 12 y viernes 13 de diciembre. Teatrino de la Trapalanda. 20 y 21.30hs. Entrada gral. $7000. \nAudición de los alumnos de la escuela de música local. Profesor Federico Vergnano. \n 
URL:https://cultura.riocuarto.gob.ar/event/nota-libre/
CATEGORIES:TEATRINO
ATTACH;FMTTYPE=image/jpeg:https://cultura.riocuarto.gob.ar/wp-content/uploads/notalibre-e1733241794950.jpg
END:VEVENT
BEGIN:VEVENT
DTSTART;VALUE=DATE:20241212
DTEND;VALUE=DATE:20241215
DTSTAMP:20260424T204613
CREATED:20241210T141354Z
LAST-MODIFIED:20241210T141354Z
UID:2752-1733961600-1734220799@cultura.riocuarto.gob.ar
SUMMARY:OJO DE BARRO X 2
DESCRIPTION:Este fin de semana\, doble propuesta en el C.C. Ojo de Barro (Bolívar 373) \nEste jueves 12 de diciembre desde las 20.30hs. se realiza La de Quirón-Varieté!  \nA través del arte\, el humor y la música\, te invitamos a vivir una noche de mucho disfrute. Jaguar Roots acústico\, MEW\, Watta Funk\, Teatro… y un toque de poesía. Evento solidario: $5000. Contacto: 3586019203-3584829650 \nEste sábado 14 de diciembre desde las 22hs.\, se realiza la cuarta edición de Cría Quimeras\, ciclo en vivo que reúne a distintos exponentes del metal y la música pesada en todas sus variantes. Con la premisa de reunir géneros y generaciones\, cada nueva edición cruza bandas de trayectoria consolidada de todo el país\, junto a nuevas promesas locales surgidas en la ciudad de Rio Cuarto. \n \nOrganizada por Federaxion Rock y Lucifer Discos\, esta cuarta edición del Cría Quimeras presenta a Sha Fu\, una de las bandas de Córdoba capital para resonantes en la actualidad del metal progresivo. Junto a ellos\, tocaran los locales Rabia Anekekea\, Santa Hipocresía y Supay. \n\nEl encuentro comenzará desde las 22hs el próximo 14 de diciembre en el Centro Cultural Ojo de Barro. Las entradas anticipadas pueden conseguirse a $4000 con las bandas.
URL:https://cultura.riocuarto.gob.ar/event/ojo-de-barro-x-2/
CATEGORIES:OJO DE BARRO
ATTACH;FMTTYPE=image/jpeg:https://cultura.riocuarto.gob.ar/wp-content/uploads/Ojo-jueves.jpeg
END:VEVENT
BEGIN:VEVENT
DTSTART;VALUE=DATE:20241214
DTEND;VALUE=DATE:20241215
DTSTAMP:20260424T204613
CREATED:20241204T120154Z
LAST-MODIFIED:20241204T120154Z
UID:2127-1734134400-1734220799@cultura.riocuarto.gob.ar
SUMMARY:ESPACIO ARTE
DESCRIPTION:Sábado 14 de diciembre. Teatrino de la Trapalanda. 21hs. Entrada general $6500. \nLa academia de música local presenta el Acústico Fin de Año. Prof. Gustavo Paisio.
URL:https://cultura.riocuarto.gob.ar/event/espacio-arte/
CATEGORIES:TEATRINO
ATTACH;FMTTYPE=image/jpeg:https://cultura.riocuarto.gob.ar/wp-content/uploads/acustico-e1733313706978.jpg
END:VEVENT
BEGIN:VEVENT
DTSTART;VALUE=DATE:20241218
DTEND;VALUE=DATE:20241219
DTSTAMP:20260424T204613
CREATED:20241204T135750Z
LAST-MODIFIED:20241204T135750Z
UID:2243-1734480000-1734566399@cultura.riocuarto.gob.ar
SUMMARY:ESCUELA DE BATERÍA HERNÁN TENREYRO
DESCRIPTION:Miércoles 18 de diciembre. Teatrino de la Trapalanda. 21hs. Entrada gral. $6000 \nLa escuela musical local presenta la Muestra 2024.
URL:https://cultura.riocuarto.gob.ar/event/escuela-de-bateria-hernan-tenreyro/
CATEGORIES:TEATRINO
ATTACH;FMTTYPE=image/jpeg:https://cultura.riocuarto.gob.ar/wp-content/uploads/bata-e1733320662994.jpg
END:VEVENT
BEGIN:VEVENT
DTSTART;VALUE=DATE:20241220
DTEND;VALUE=DATE:20241221
DTSTAMP:20260424T204613
CREATED:20241216T150954Z
LAST-MODIFIED:20241216T150954Z
UID:2776-1734652800-1734739199@cultura.riocuarto.gob.ar
SUMMARY:OJO DE BARRO
DESCRIPTION:Viernes 20 de diciembre. C.C. Ojo de Barro (Bolívar 373) 22hs. Anticipadas $4.000. \nRock junto a … Los Elefantes Efervescentes\, La Dr y Palomar.
URL:https://cultura.riocuarto.gob.ar/event/ojo-de-barro-2/
CATEGORIES:OJO DE BARRO
ATTACH;FMTTYPE=image/jpeg:https://cultura.riocuarto.gob.ar/wp-content/uploads/IMG-20241216-WA0042-e1734361774757.jpg
END:VEVENT
BEGIN:VEVENT
DTSTART;VALUE=DATE:20241221
DTEND;VALUE=DATE:20241229
DTSTAMP:20260424T204613
CREATED:20241209T133006Z
LAST-MODIFIED:20241227T125549Z
UID:2491-1734739200-1735430399@cultura.riocuarto.gob.ar
SUMMARY:MILONGA DEL RIEL
DESCRIPTION:Sábado 21 de diciembre. Galpón Blanco. Centro Cultural  Andino. 22h. Anticipadas: 358-4187239. \nMilonga del Riel presenta a “Carito Gallo en Glorias Porteñas” junto a Pablo Patta y Juan Carlos Zabala. TDJ: Gabriel La Rosa. Organiza: Cobos Laureano.
URL:https://cultura.riocuarto.gob.ar/event/milonga-del-riel/
CATEGORIES:EL ANDINO
ATTACH;FMTTYPE=image/jpeg:https://cultura.riocuarto.gob.ar/wp-content/uploads/MILONGA.jpg
END:VEVENT
BEGIN:VEVENT
DTSTART;VALUE=DATE:20241221
DTEND;VALUE=DATE:20241229
DTSTAMP:20260424T204613
CREATED:20241216T151506Z
LAST-MODIFIED:20241227T125459Z
UID:2779-1734739200-1735430399@cultura.riocuarto.gob.ar
SUMMARY:OJO DE BARRO
DESCRIPTION:Sábado 21 de diciembre. C.C. Ojo de Barro (Bolívar 373) 21hs. Entrada $4.000. \nSe presenta en Ojo de Barro: Aragonz Experience.  Proyecto musical que interpreta composiciones sonoras inspiradas en el Rock\, soul\, jazz\, reggae etc.\, y que para esta oportunidad regresa a  Ojo de Barro despidiendo un año repleto de sensaciones mezcladas entre realidad y ficción social recargadas. Se sumarán a este evento especial un grupo de fotógrafas de Río Cuarto que aportaran su ojo artístico a la noche musical mostrando una serie de obras fotográficas de gran carácter y belleza visual.
URL:https://cultura.riocuarto.gob.ar/event/ojo-de-barro-3/
CATEGORIES:OJO DE BARRO
ATTACH;FMTTYPE=image/jpeg:https://cultura.riocuarto.gob.ar/wp-content/uploads/IMG-20241216-WA0043-e1734362093222.jpg
END:VEVENT
END:VCALENDAR