BEGIN:VCALENDAR
VERSION:2.0
PRODID:-//Cultura Río Cuarto - ECPv6.15.20//NONSGML v1.0//EN
CALSCALE:GREGORIAN
METHOD:PUBLISH
X-WR-CALNAME:Cultura Río Cuarto
X-ORIGINAL-URL:https://cultura.riocuarto.gob.ar
X-WR-CALDESC:Eventos para Cultura Río Cuarto
REFRESH-INTERVAL;VALUE=DURATION:PT1H
X-Robots-Tag:noindex
X-PUBLISHED-TTL:PT1H
BEGIN:VTIMEZONE
TZID:America/Argentina/Cordoba
BEGIN:STANDARD
TZOFFSETFROM:-0300
TZOFFSETTO:-0300
TZNAME:-03
DTSTART:20240101T000000
END:STANDARD
END:VTIMEZONE
BEGIN:VEVENT
DTSTART;VALUE=DATE:20250201
DTEND;VALUE=DATE:20250202
DTSTAMP:20260424T181523
CREATED:20250127T130005Z
LAST-MODIFIED:20250127T130025Z
UID:3793-1738368000-1738454399@cultura.riocuarto.gob.ar
SUMMARY:CICLO MÚSICA EN LA HERRADURA
DESCRIPTION:SÁBADO 01 DE FEBRERO.21.00HS. HERRADURA DEL ANDINO. Entrada libre y gratuita. No se suspende por mal tiempo. Vení con tu reposera!!\nMúsica en la Herradura X2. ZOMBIE LOCO. Fusión de Blues\, Punk\, Rock and Roll y Psychobilly. MALTHA Reggae.
URL:https://cultura.riocuarto.gob.ar/event/ciclo-musica-en-la-herradura-5/
CATEGORIES:EL ANDINO,HERRADURA.C.C ANDINO
ATTACH;FMTTYPE=image/jpeg:https://cultura.riocuarto.gob.ar/wp-content/uploads/2025/01/SAB-01-02-25-HERRADURA-FEED-scaled-e1737982814361.jpg
END:VEVENT
BEGIN:VEVENT
DTSTART;VALUE=DATE:20250202
DTEND;VALUE=DATE:20250203
DTSTAMP:20260424T181523
CREATED:20250127T130224Z
LAST-MODIFIED:20250127T130224Z
UID:3796-1738454400-1738540799@cultura.riocuarto.gob.ar
SUMMARY:CICLO PARQUEOKE
DESCRIPTION:DOMINGO 02 DE FEBRERO. A partir de las 19.00HS. PARQUE SUR. Entrada libre y gratuita.\nPARQUEOKE! Para pasar una tarde en familia y disfrutar cantando! Hay juegos\, música\, la calesita para los más chicos y mucho más! No te lo pierdas!!
URL:https://cultura.riocuarto.gob.ar/event/ciclo-parqueoke-4/
CATEGORIES:PARQUE SUR
ATTACH;FMTTYPE=image/png:https://cultura.riocuarto.gob.ar/wp-content/uploads/2025/01/DOM-e1737379233272.png
END:VEVENT
BEGIN:VEVENT
DTSTART;VALUE=DATE:20250205
DTEND;VALUE=DATE:20250206
DTSTAMP:20260424T181523
CREATED:20250203T123755Z
LAST-MODIFIED:20250203T124212Z
UID:4102-1738713600-1738799999@cultura.riocuarto.gob.ar
SUMMARY:CICLO CANTORAS
DESCRIPTION:MIÉRCOLES 05 DE FEBRERO. 21.30HS. PLAZA DEL PUEBLO. VIEJO MERCADO. Entrada libre y gratuita. No se suspende por mal tiempo. Patio Gastronómico.\nCANTORCITAS! Alma Alluen (Tropical). Luna Alanís (Melódico Pop).Valentina Gallo (Pop Latino).
URL:https://cultura.riocuarto.gob.ar/event/ciclo-cantoras-5/
CATEGORIES:PLAZA DEL PUEBLO. VIEJO MERCADO.,VIEJO MERCADO
ATTACH;FMTTYPE=image/jpeg:https://cultura.riocuarto.gob.ar/wp-content/uploads/2025/02/MIE-05-FEB-CANTORAS-FEED-scaled-e1738586229902.jpg
END:VEVENT
BEGIN:VEVENT
DTSTART;VALUE=DATE:20250206
DTEND;VALUE=DATE:20250207
DTSTAMP:20260424T181523
CREATED:20250203T194440Z
LAST-MODIFIED:20250203T194440Z
UID:4160-1738800000-1738886399@cultura.riocuarto.gob.ar
SUMMARY:CICLO NOCHES BAJO EL MISMO CIELO
DESCRIPTION:JUEVES 06 DE FEBRERO. 21.30HS. PLAZA DEL PUEBLO. VIEJO MERCADO. Entrada libre y gratuita. No se suspende por mal tiempo. Patio Gastronómico. \nCon la participación de Carito Gallo en Glorias Porteñas. Acompañan: Pablo Patta en piano y Juan Carlos Zabala en guitarra.
URL:https://cultura.riocuarto.gob.ar/event/ciclo-noches-bajo-el-mismo-cielo-5/
CATEGORIES:PLAZA DEL PUEBLO. VIEJO MERCADO.,VIEJO MERCADO
ATTACH;FMTTYPE=image/jpeg:https://cultura.riocuarto.gob.ar/wp-content/uploads/2025/02/JUE-06-FEB-NOCHES-FEED-scaled-e1738611665515.jpg
END:VEVENT
BEGIN:VEVENT
DTSTART;VALUE=DATE:20250207
DTEND;VALUE=DATE:20250208
DTSTAMP:20260424T181523
CREATED:20250203T125119Z
LAST-MODIFIED:20250203T125119Z
UID:4109-1738886400-1738972799@cultura.riocuarto.gob.ar
SUMMARY:FOLKLORE “DE LA RAÍZ AL CORAZÓN”
DESCRIPTION:VIERNES 07 DE FEBRERO. 21.00HS. GALPÓN BLANCO DEL ANDINO. Entrada libre y gratuita. No se suspende por mal tiempo. Vení con tu reposera!!\nFolklore junto a EDITH CORPOS.
URL:https://cultura.riocuarto.gob.ar/event/folklore-de-la-raiz-al-corazon-6/
CATEGORIES:EL ANDINO,GALPÓN BLANCO. C.C ANDINO
ATTACH;FMTTYPE=image/jpeg:https://cultura.riocuarto.gob.ar/wp-content/uploads/2025/02/VIE-07-FEB-NOCHES-FEED-scaled-e1738587076388.jpg
END:VEVENT
BEGIN:VEVENT
DTSTART;VALUE=DATE:20250207
DTEND;VALUE=DATE:20250208
DTSTAMP:20260424T181523
CREATED:20250203T125515Z
LAST-MODIFIED:20250203T125515Z
UID:4112-1738886400-1738972799@cultura.riocuarto.gob.ar
SUMMARY:CICLO ROCA DE MÚSICA
DESCRIPTION:VIERNES 07 DE FEBRERO. 21.00HS. PLAZA ROCA. Entrada libre y gratuita. Patio gastronómico a partir de las 19.30hs.\nMICA RIGAZZI. Acompaña EZEQUIEL “TEKI” BRITOS. Covers clásicos…
URL:https://cultura.riocuarto.gob.ar/event/ciclo-roca-de-musica-6/
CATEGORIES:PLAZA ROCA
ATTACH;FMTTYPE=image/jpeg:https://cultura.riocuarto.gob.ar/wp-content/uploads/2025/02/VIE-07-FEB-ROCA-FEED-scaled-e1738587309796.jpg
END:VEVENT
BEGIN:VEVENT
DTSTART;VALUE=DATE:20250208
DTEND;VALUE=DATE:20250209
DTSTAMP:20260424T181523
CREATED:20250203T144827Z
LAST-MODIFIED:20250203T144827Z
UID:4156-1738972800-1739059199@cultura.riocuarto.gob.ar
SUMMARY:CICLO MÚSICA EN LA HERRADURA
DESCRIPTION:SÁBADO 08 DE FEBRERO.21.00HS. HERRADURA DEL ANDINO. Entrada libre y gratuita. Vení con tu reposera!!\nTRES VENTANAS. Integrantes: Facundo Magrini en bajo\, Bruno Carena en teclados\, Marcelo Frankel en batería y Cristian Sánchez voz y guitarra.\nEspectáculo que combina potentes melodías con letras reflexivas y emotivas\, donde se intenta trasmitir y compartir una mirada sobre el transitar en este tiempo y espacio\, en un desaprender continuo y los estados de ese proceso\, todo ello envuelto en los diferentes climas trabajados en cada canción. \n 
URL:https://cultura.riocuarto.gob.ar/event/ciclo-musica-en-la-herradura-6/
CATEGORIES:EL ANDINO
ATTACH;FMTTYPE=image/jpeg:https://cultura.riocuarto.gob.ar/wp-content/uploads/2025/02/SAB-08-FEB-HERRADURA-FEED-scaled-e1738594070184.jpg
END:VEVENT
BEGIN:VEVENT
DTSTART;VALUE=DATE:20250209
DTEND;VALUE=DATE:20250210
DTSTAMP:20260424T181523
CREATED:20250203T130330Z
LAST-MODIFIED:20250203T130330Z
UID:4124-1739059200-1739145599@cultura.riocuarto.gob.ar
SUMMARY:CICLO PARQUEOKE
DESCRIPTION:DOMINGO 09 DE FEBRERO. A partir de las 19.00HS. PARQUE SUR. Entrada libre y gratuita.\nPARQUEOKE! Para pasar una tarde en familia y disfrutar cantando! Hay juegos\, música\, la calesita para los más chicos y mucho más! No te lo pierdas!! \n 
URL:https://cultura.riocuarto.gob.ar/event/ciclo-parqueoke-5/
CATEGORIES:PARQUE SUR
ATTACH;FMTTYPE=image/jpeg:https://cultura.riocuarto.gob.ar/wp-content/uploads/2025/02/DOM-09-FEB-PARKEOKE-FEED-scaled-e1738587770403.jpg
END:VEVENT
BEGIN:VEVENT
DTSTART;VALUE=DATE:20250212
DTEND;VALUE=DATE:20250213
DTSTAMP:20260424T181523
CREATED:20250210T121631Z
LAST-MODIFIED:20250210T121631Z
UID:4219-1739318400-1739404799@cultura.riocuarto.gob.ar
SUMMARY:CICLO CANTORAS - CANTORAS ENSAMBLE VOCAL FEMENINO
DESCRIPTION:MIÉRCOLES 12 DE FEBRERO. 21.30HS. PLAZA DEL PUEBLO. VIEJO MERCADO. Entrada libre y gratuita. No se suspende por mal tiempo. Patio Gastronómico.\nUNA CASA CANTORA. Espectáculo musical interpretado por CANTORAS ENSAMBLE VOCAL FEMENINO. ARTISTA INVITADA AL CICLO SHIRLEY KLOSTER.\nCantoras es un ensamble vocal de mujeres de Río Cuarto y de la región que provienen de distintas ramas artísticas como el teatro\, la danza\, la narración oral\, la música\, entre otras.\nEste ensamble pone en escena cantos y canciones del repertorio folclórico argentino\, latinoamericano y del mundo. Su repertorio se nutre e inspira de historias y temáticas que resuenan con ser mujeres y cantoras: lo femenino\, la cultura\, lo poético\, otras y diversas formas de estar en el mundo\, lo creativo\, la tierra.\nCantoras está conformado por María Altamirano\, Roxana Arbillaga\, Jimena Camporro\, Carmen Carranza\, Cecilia Córdoba\, Nancy Feller\, Belén Gamond\, María Gatica\, Flavia Oviedo\, Patricia Oyanedel Durán\, Rosana Polanco\, Romina Ponce de León\, Sofia Sbaffo\, Sandra Somadossi\, Artemia Suárez\, Guadalupe Velez\, Julieta Verón\, Dalila Viñao y Melisa Álvarez en arreglos y dirección general.\nEn esta oportunidad en que participa del prestigioso ciclo Cantoras\, traen escenas de Una casa cantora y canciones imprescindibles que las acompañan desde sus inicios. \n 
URL:https://cultura.riocuarto.gob.ar/event/ciclo-cantoras-ensamble-vocal-femenino/
CATEGORIES:PLAZA DEL PUEBLO. VIEJO MERCADO.,VIEJO MERCADO
ATTACH;FMTTYPE=image/jpeg:https://cultura.riocuarto.gob.ar/wp-content/uploads/2025/02/MIE-12.02-CANTORAS-FEED-scaled-e1739189786820.jpg
END:VEVENT
BEGIN:VEVENT
DTSTART;VALUE=DATE:20250213
DTEND;VALUE=DATE:20250214
DTSTAMP:20260424T181523
CREATED:20250210T122311Z
LAST-MODIFIED:20250210T122311Z
UID:4225-1739404800-1739491199@cultura.riocuarto.gob.ar
SUMMARY:CICLO NOCHES BAJO EL MISMO CIELO
DESCRIPTION:JUEVES 13 DE FEBRERO. 21.30HS. PLAZA DEL PUEBLO. VIEJO MERCADO. Entrada libre y gratuita. No se suspende por mal tiempo. Patio Gastronómico.\nLEONELA LIBARDI presenta “SUEÑOS DEL VIENTO”. Junto a FRANCO SUÁREZ y AMIR COLEFF.\n“Sueños del viento” es una propuesta artística que recorre las raíces del folklore argentino con una mirada sensible y renovada. Interpretada en la voz de Leonela Libardi\, junto Franco Suárez y Amir Coleff en guitarras\, la propuesta musical nos invita a viajar por paisajes sonoros que evocan la esencia de la tierra\, las historias de su gente y los sueños que de su pueblo lleva el viento. A través de diversos ritmos y especies musicales de nuestro territorio\, “Sueños del viento” celebra la tradición\, al tiempo que la conecta con nuevas narrativas\, postales y sentidos.
URL:https://cultura.riocuarto.gob.ar/event/ciclo-noches-bajo-el-mismo-cielo-6/
CATEGORIES:PLAZA DEL PUEBLO. VIEJO MERCADO.,VIEJO MERCADO
ATTACH;FMTTYPE=image/jpeg:https://cultura.riocuarto.gob.ar/wp-content/uploads/2025/02/JUE-13.02-NOCHES-FEED-scaled-e1739190153813.jpg
END:VEVENT
BEGIN:VEVENT
DTSTART;VALUE=DATE:20250214
DTEND;VALUE=DATE:20250215
DTSTAMP:20260424T181523
CREATED:20250210T122443Z
LAST-MODIFIED:20250210T122443Z
UID:4227-1739491200-1739577599@cultura.riocuarto.gob.ar
SUMMARY:FOLKLORE “DE LA RAÍZ AL CORAZÓN”
DESCRIPTION:VIERNES 14 DE FEBRERO. 21.00HS. GALPÓN BLANCO DEL ANDINO. Entrada libre y gratuita. No se suspende por mal tiempo. Vení con tu reposera!!\nFOLKLORE JUNTO A DIEGO GONZÁLEZ Y SUEÑO JOVIAL
URL:https://cultura.riocuarto.gob.ar/event/folklore-de-la-raiz-al-corazon-7/
CATEGORIES:EL ANDINO,GALPÓN BLANCO. C.C ANDINO
ATTACH;FMTTYPE=image/jpeg:https://cultura.riocuarto.gob.ar/wp-content/uploads/2025/02/VIE-14.02-FOLKLORE-FEED-scaled-e1739190260924.jpg
END:VEVENT
BEGIN:VEVENT
DTSTART;VALUE=DATE:20250214
DTEND;VALUE=DATE:20250215
DTSTAMP:20260424T181523
CREATED:20250210T122647Z
LAST-MODIFIED:20250210T122647Z
UID:4229-1739491200-1739577599@cultura.riocuarto.gob.ar
SUMMARY:CICLO ROCA DE MÚSICA
DESCRIPTION:VIERNES 14 DE FEBRERO. 21.00HS. PLAZA ROCA. Entrada libre y gratuita. Patio gastronómico desde las 19.30hs.\nSON DE PALO. Integrantes: David Giuliano. Marcos Meroni y Santiago Cofré. Lolo Pagrialicci.\nSon De Palo es un proyecto musical creado con el ambicioso propósito de trascender con nuestros conocimientos musicales\, logrando así llegar a distintos países\, culturas y costumbres. Nos proponemos llevar como bandera la representación de nuestra música latinoamericana (Salsa\, Bachata\, Cumbia\, Cuarteto\, Folklore\, Tango\, etc.)
URL:https://cultura.riocuarto.gob.ar/event/ciclo-roca-de-musica-7/
CATEGORIES:PLAZA ROCA
ATTACH;FMTTYPE=image/jpeg:https://cultura.riocuarto.gob.ar/wp-content/uploads/2025/02/VIE-14.02-ROCA-FEED-scaled-e1739190394118.jpg
END:VEVENT
BEGIN:VEVENT
DTSTART;VALUE=DATE:20250215
DTEND;VALUE=DATE:20250216
DTSTAMP:20260424T181523
CREATED:20250210T123514Z
LAST-MODIFIED:20250210T123514Z
UID:4237-1739577600-1739663999@cultura.riocuarto.gob.ar
SUMMARY:CICLO MÚSICA EN LA HERRADURA
DESCRIPTION:SÁBADO 15 DE FEBRERO.21.00HS. HERRADURA DEL ANDINO. Entrada libre y gratuita. Vení con tu reposera!!\nJAGUAR ROOTS.\nDistintas vertientes creativas\, tanto en las letras de las canciones como en la búsqueda musical\, en las cuales se reflejan las influencias de diferentes estilos y géneros como el rock\, reggae\, funk\, hip-hop y ritmos latinos.\nIntegrantes: Dianela Tenreyro. Melisa Giglio. Denise Cometti. Lucía Torres. Gabriela Cepeda. Stefanía Cano.
URL:https://cultura.riocuarto.gob.ar/event/ciclo-musica-en-la-herradura-jaguar-roots/
CATEGORIES:EL ANDINO
ATTACH;FMTTYPE=image/jpeg:https://cultura.riocuarto.gob.ar/wp-content/uploads/2025/02/SAB-15.02-HERRADURA-FEED-scaled-e1739190857729.jpg
END:VEVENT
BEGIN:VEVENT
DTSTART;VALUE=DATE:20250216
DTEND;VALUE=DATE:20250217
DTSTAMP:20260424T181523
CREATED:20250210T123623Z
LAST-MODIFIED:20250210T123623Z
UID:4239-1739664000-1739750399@cultura.riocuarto.gob.ar
SUMMARY:CICLO PARQUEOKE
DESCRIPTION:DOMINGO 16 DE FEBRERO. A partir de las 19.00HS. PARQUE SUR. Entrada libre y gratuita.\nPARQUEOKE! Para pasar una tarde en familia y disfrutar cantando! Hay juegos\, música\, la calesita para los más chicos y mucho más! No te lo pierdas!!
URL:https://cultura.riocuarto.gob.ar/event/ciclo-parqueoke-6/
CATEGORIES:PARQUE SUR
ATTACH;FMTTYPE=image/jpeg:https://cultura.riocuarto.gob.ar/wp-content/uploads/2025/02/DOM-09-FEB-PARKEOKE-FEED-1-scaled-e1739190943871.jpg
END:VEVENT
BEGIN:VEVENT
DTSTART;VALUE=DATE:20250219
DTEND;VALUE=DATE:20250220
DTSTAMP:20260424T181523
CREATED:20250217T120732Z
LAST-MODIFIED:20250217T120732Z
UID:4452-1739923200-1740009599@cultura.riocuarto.gob.ar
SUMMARY:CICLO CANTORAS
DESCRIPTION:MIÉRCOLES 19 DE FEBRERO. 21.30HS. PLAZA DEL PUEBLO. VIEJO MERCADO. Entrada libre y gratuita. No se suspende por mal tiempo. Patio Gastronómico.\nSABRINA CISNEROS – ALEJANDRA SOAJE.\nHOMENAJE A LAS CANTORAS ARGENTINAS.
URL:https://cultura.riocuarto.gob.ar/event/ciclo-cantoras-6/
CATEGORIES:PLAZA DEL PUEBLO. VIEJO MERCADO.,VIEJO MERCADO
ATTACH;FMTTYPE=image/jpeg:https://cultura.riocuarto.gob.ar/wp-content/uploads/2025/02/MIE-19-02-25-CANTORAS-FEED-scaled-e1739794014550.jpg
END:VEVENT
BEGIN:VEVENT
DTSTART;VALUE=DATE:20250220
DTEND;VALUE=DATE:20250221
DTSTAMP:20260424T181523
CREATED:20250217T121043Z
LAST-MODIFIED:20250217T121043Z
UID:4458-1740009600-1740095999@cultura.riocuarto.gob.ar
SUMMARY:CICLO NOCHES BAJO EL MISMO CIELO
DESCRIPTION:JUEVES 20 DE FEBRERO. 21.30HS. PLAZA DEL PUEBLO. VIEJO MERCADO. Entrada libre y gratuita. No se suspende por mal tiempo. Patio Gastronómico.\nNATALIA BARRACO en saxo y DIEGO OYOLA en guitarra presentan “CANCIONES DE FOGÓN”. \n 
URL:https://cultura.riocuarto.gob.ar/event/ciclo-noches-bajo-el-mismo-cielo-7/
CATEGORIES:PLAZA DEL PUEBLO. VIEJO MERCADO.,VIEJO MERCADO
ATTACH;FMTTYPE=image/jpeg:https://cultura.riocuarto.gob.ar/wp-content/uploads/2025/02/JUE-20-02-25-NOCHES-FEED-scaled-e1739794234208.jpg
END:VEVENT
BEGIN:VEVENT
DTSTART;VALUE=DATE:20250221
DTEND;VALUE=DATE:20250222
DTSTAMP:20260424T181523
CREATED:20250211T135611Z
LAST-MODIFIED:20250211T135644Z
UID:4295-1740096000-1740182399@cultura.riocuarto.gob.ar
SUMMARY:LAS PEÑAS DEL ANFI
DESCRIPTION:VIERNES 21 DE FEBRERO a las 20.00HS en ANFITEATRO PARQUE SARMIENTO \n🎉20.00hs. Apertura Tierra y Tradición \n🎉20.30hs. Silvina Requelme y la Resistida \n🎉21.30hs. Tata Zalazar \n🎉🎉🎉 22.30hs. Gran cierre con PETECO CARABAJAL Junto a Riendas Libres \n🎟 Entradas en boletería del Teatro\, de lunes a sábado de 9 a 12.30hs.\nY en boletería del C.C. Viejo Mercado\, de miércoles a sábado\, de 18hs a 22hs.\n👉🏻 Por autoentrada.com\n🗣 Las primeras 1.000 entradas a $8.000.\n🧒🏻👧🏼 Menores de 14 años NO abonan entrada. \n🍔 Patio gastronómico.\n🎻Evento para toda la familia.\n🫵🏻 Vení con tu reposera!!
URL:https://cultura.riocuarto.gob.ar/event/las-penas-del-anfi/
CATEGORIES:PARQUE SARMIENTO
ATTACH;FMTTYPE=image/jpeg:https://cultura.riocuarto.gob.ar/wp-content/uploads/2025/02/peteco-carvajal-e1739282198228.jpg
END:VEVENT
BEGIN:VEVENT
DTSTART;VALUE=DATE:20250221
DTEND;VALUE=DATE:20250222
DTSTAMP:20260424T181523
CREATED:20250217T121152Z
LAST-MODIFIED:20250217T121352Z
UID:4461-1740096000-1740182399@cultura.riocuarto.gob.ar
SUMMARY:FOLKLORE “DE LA RAÍZ AL CORAZÓN”
DESCRIPTION:VIERNES 21 DE FEBRERO. 21.00HS. GALPÓN BLANCO. Entrada libre y gratuita. No se suspende por mal tiempo. Vení con tu reposera!!\nDÚO DE PIANOS. LLANES – BARREDA. Clásicos del folklore.
URL:https://cultura.riocuarto.gob.ar/event/folklore-de-la-raiz-al-corazon-8/
CATEGORIES:EL ANDINO,GALPÓN BLANCO. C.C ANDINO
ATTACH;FMTTYPE=image/jpeg:https://cultura.riocuarto.gob.ar/wp-content/uploads/2025/02/VIE-21-02-25-FOLKLORE-FEED-scaled-e1739794367669.jpg
END:VEVENT
BEGIN:VEVENT
DTSTART;VALUE=DATE:20250221
DTEND;VALUE=DATE:20250222
DTSTAMP:20260424T181523
CREATED:20250217T121522Z
LAST-MODIFIED:20250217T121522Z
UID:4464-1740096000-1740182399@cultura.riocuarto.gob.ar
SUMMARY:CICLO ROCA DE MÚSICA
DESCRIPTION:VIERNES 21 DE FEBRERO. 21.00HS. PLAZA ROCA. Entrada libre y gratuita. Patio gastronómico a partir de las 19.30hs.\nPAULO ARGUELLO SHOW DE BACHATA Y SALSA
URL:https://cultura.riocuarto.gob.ar/event/ciclo-roca-de-musica-8/
CATEGORIES:PLAZA ROCA
ATTACH;FMTTYPE=image/jpeg:https://cultura.riocuarto.gob.ar/wp-content/uploads/2025/02/VIE-21-02-25-ROCA-FEED-scaled-e1739794473416.jpg
END:VEVENT
BEGIN:VEVENT
DTSTART;VALUE=DATE:20250222
DTEND;VALUE=DATE:20250223
DTSTAMP:20260424T181523
CREATED:20250217T124807Z
LAST-MODIFIED:20250217T124807Z
UID:4477-1740182400-1740268799@cultura.riocuarto.gob.ar
SUMMARY:CICLO MÚSICA EN LA HERRADURA
DESCRIPTION:SÁBADO 22 DE FEBRERO.21.00HS. HERRADURA DEL ANDINO. Entrada libre y gratuita. No se suspende por mal tiempo. Vení con tu reposera!!\nIVAN SINGH & SHERYL YOUNGBLOOD en Río Cuarto !!!!!\nLuego de su presentación en el COSQUÍN ROCK 2025\, el cordobés IVÁN SINGH quien está haciendo historia en Chicago\, la cuna del Blues y la increíble y talentosa cantante SHERYL YOUNGBLOOD\, quien fuera ganadora del premio a Mejor Cantante de Blues Femenina en 2019 y miembro del Blues Hall Fame en Chicago\, visitan nuestra ciudad y este sábado 22 a las 21.00hs\, estarán con su magia en el exitoso ciclo “MÚSICA EN LA HERRADURA”
URL:https://cultura.riocuarto.gob.ar/event/ciclo-musica-en-la-herradura-7/
CATEGORIES:EL ANDINO,HERRADURA.C.C ANDINO
ATTACH;FMTTYPE=image/jpeg:https://cultura.riocuarto.gob.ar/wp-content/uploads/2025/02/SAB-22-02-25-HERRADURA-FEED-scaled-e1739796424825.jpg
END:VEVENT
BEGIN:VEVENT
DTSTART;VALUE=DATE:20250222
DTEND;VALUE=DATE:20250223
DTSTAMP:20260424T181523
CREATED:20250220T141311Z
LAST-MODIFIED:20250220T141311Z
UID:4557-1740182400-1740268799@cultura.riocuarto.gob.ar
SUMMARY:La Tintográfica Ed. Verano 2025
DESCRIPTION:Sábado 22/02 – de 18 a 23 h Constitución al 900 \n19 hs Coro Juvenil Municipal dirigido por Luciana Cazzola
URL:https://cultura.riocuarto.gob.ar/event/la-tintografica-coro-juvenil/
CATEGORIES:TINTORERIA JAPONESA
ATTACH;FMTTYPE=image/jpeg:https://cultura.riocuarto.gob.ar/wp-content/uploads/2025/02/tinto-2-e1740060765748.jpg
END:VEVENT
BEGIN:VEVENT
DTSTART;VALUE=DATE:20250222
DTEND;VALUE=DATE:20250223
DTSTAMP:20260424T181523
CREATED:20250220T141449Z
LAST-MODIFIED:20250220T141449Z
UID:4559-1740182400-1740268799@cultura.riocuarto.gob.ar
SUMMARY:La Tintográfica Ed. Verano 2025
DESCRIPTION:Sábado 22/02 – de 18 a 23 h Constitución al 900 \n21.30 hs Dúo Maxi Brito Riviere /Bruno Ponso + artistas invitados.
URL:https://cultura.riocuarto.gob.ar/event/la-tintografica-ed-verano-2025-2/
CATEGORIES:TINTORERIA JAPONESA
ATTACH;FMTTYPE=image/jpeg:https://cultura.riocuarto.gob.ar/wp-content/uploads/2025/02/tinto-3-e1740060874514.jpg
END:VEVENT
BEGIN:VEVENT
DTSTART;VALUE=DATE:20250223
DTEND;VALUE=DATE:20250224
DTSTAMP:20260424T181523
CREATED:20250217T124937Z
LAST-MODIFIED:20250217T124937Z
UID:4480-1740268800-1740355199@cultura.riocuarto.gob.ar
SUMMARY:CICLO PARQUEOKE
DESCRIPTION:DOMINGO 23 DE FEBRERO. 19.00HS. PARQUE SUR. Entrada libre y gratuita.\nPARQUEOKE! Para pasar una tarde en familia y disfrutar cantando! Hay juegos\, música\, la calesita para los más chicos y mucho más! No te lo pierdas!!
URL:https://cultura.riocuarto.gob.ar/event/ciclo-parqueoke-7/
CATEGORIES:PARQUE SUR
ATTACH;FMTTYPE=image/jpeg:https://cultura.riocuarto.gob.ar/wp-content/uploads/2025/02/DOM-09-FEB-PARKEOKE-FEED-1-scaled-e1739190943871.jpg
END:VEVENT
BEGIN:VEVENT
DTSTART;VALUE=DATE:20250226
DTEND;VALUE=DATE:20250227
DTSTAMP:20260424T181523
CREATED:20250224T161619Z
LAST-MODIFIED:20250224T161619Z
UID:4645-1740528000-1740614399@cultura.riocuarto.gob.ar
SUMMARY:CICLO CANTORAS
DESCRIPTION:MIÉRCOLES 26 DE FEBRERO. 21.30HS. PLAZA DEL PUEBLO. VIEJO MERCADO. Entrada libre y gratuita. No se suspende por mal tiempo. Patio Gastronómico. \nVERÓNICA CAMBÓN – DÚO FLORA.
URL:https://cultura.riocuarto.gob.ar/event/ciclo-cantoras-7/
CATEGORIES:PLAZA DEL PUEBLO. VIEJO MERCADO.
ATTACH;FMTTYPE=image/jpeg:https://cultura.riocuarto.gob.ar/wp-content/uploads/2025/02/CICLO-CANTORAS-scaled-e1740413766138.jpg
END:VEVENT
BEGIN:VEVENT
DTSTART;VALUE=DATE:20250227
DTEND;VALUE=DATE:20250228
DTSTAMP:20260424T181523
CREATED:20250217T135251Z
LAST-MODIFIED:20250217T135251Z
UID:4517-1740614400-1740700799@cultura.riocuarto.gob.ar
SUMMARY:TALLER DE EXPLORACIÓN MUSICAL - OÍR EL MUNDO
DESCRIPTION:JUEVES 27 de FEBRERO DE 18 a 20:30 hs. VALOR: $10.000\nInscripciones abiertas. Consultas: casadepoesia.bmc@gmail.com / 34671104533
URL:https://cultura.riocuarto.gob.ar/event/taller-de-exploracion-musical-oir-el-mundo/
CATEGORIES:CASA DE LA POESÍA
ATTACH;FMTTYPE=image/jpeg:https://cultura.riocuarto.gob.ar/wp-content/uploads/2025/02/oir-el-mundo-e1739800140519.jpg
END:VEVENT
BEGIN:VEVENT
DTSTART;VALUE=DATE:20250227
DTEND;VALUE=DATE:20250228
DTSTAMP:20260424T181523
CREATED:20250224T162202Z
LAST-MODIFIED:20250224T162202Z
UID:4648-1740614400-1740700799@cultura.riocuarto.gob.ar
SUMMARY:CICLO NOCHES DE TANGO
DESCRIPTION:JUEVES 27 DE FEBRERO. 20.30HS. HERRADURA DEL ANDINO. Entrada libre y gratuita. No se suspende por mal tiempo. Vení con tu reposera!! \nVoces: Sandra Solis. Juan C. Rodríguez. Nino Canonero. Raúl Hidalgo. Roberto Gogiano. Eduardo Bianco.  Músicos: Santiago Llanes en piano. Ramón López en bandoneón.
URL:https://cultura.riocuarto.gob.ar/event/ciclo-noches-de-tango-5/
CATEGORIES:HERRADURA.C.C ANDINO
ATTACH;FMTTYPE=image/jpeg:https://cultura.riocuarto.gob.ar/wp-content/uploads/2025/02/CICLO-NOCHE-DE-TANGO-scaled-e1740414112508.jpg
END:VEVENT
BEGIN:VEVENT
DTSTART;VALUE=DATE:20250227
DTEND;VALUE=DATE:20250228
DTSTAMP:20260424T181523
CREATED:20250224T162437Z
LAST-MODIFIED:20250224T162437Z
UID:4651-1740614400-1740700799@cultura.riocuarto.gob.ar
SUMMARY:CICLO NOCHES BAJO EL MISMO CIELO
DESCRIPTION:JUEVES 27 DE FEBRERO. 21.30HS. PLAZA DEL PUEBLO. VIEJO MERCADO. Entrada libre y gratuita. No se suspende por mal tiempo. Patio Gastronómico. \nDúo BRITO – PONSO. Jazz y música latinoamericana. \nDúo de guitarras y vientos con una mirada de improvisación hacia la música de jazz y latinoamericana utilizando loops y distintos instrumentos\, dándole una personalidad y  estética propia.
URL:https://cultura.riocuarto.gob.ar/event/ciclo-noches-bajo-el-mismo-cielo-8/
CATEGORIES:PLAZA DEL PUEBLO. VIEJO MERCADO.
ATTACH;FMTTYPE=image/jpeg:https://cultura.riocuarto.gob.ar/wp-content/uploads/2025/02/CICLO-NOCHES-BAJO-EL-MISMO-CIELO-scaled-e1740414261386.jpg
END:VEVENT
BEGIN:VEVENT
DTSTART;VALUE=DATE:20250228
DTEND;VALUE=DATE:20250301
DTSTAMP:20260424T181523
CREATED:20250225T140532Z
LAST-MODIFIED:20250225T140532Z
UID:4752-1740700800-1740787199@cultura.riocuarto.gob.ar
SUMMARY:FOLKLORE “DE LA RAÍZ AL CORAZÓN”
DESCRIPTION:VIERNES 28 DE FEBRERO. 21.00HS. GALPÓN BLANCO. Entrada libre y gratuita. No se suspende por mal tiempo. Vení con tu reposera!! \nARIEL ALBELO presenta “DANZA A LA VIDA”
URL:https://cultura.riocuarto.gob.ar/event/folklore-de-la-raiz-al-corazon-9/
CATEGORIES:GALPÓN BLANCO. C.C ANDINO
ATTACH;FMTTYPE=image/jpeg:https://cultura.riocuarto.gob.ar/wp-content/uploads/2025/02/CICLO-FOLKLORE-DE-LA-RAIZ-AL-CORAZON-scaled-e1740492325946.jpg
END:VEVENT
END:VCALENDAR