BEGIN:VCALENDAR
VERSION:2.0
PRODID:-//Cultura Río Cuarto - ECPv6.15.20//NONSGML v1.0//EN
CALSCALE:GREGORIAN
METHOD:PUBLISH
X-WR-CALNAME:Cultura Río Cuarto
X-ORIGINAL-URL:https://cultura.riocuarto.gob.ar
X-WR-CALDESC:Eventos para Cultura Río Cuarto
REFRESH-INTERVAL;VALUE=DURATION:PT1H
X-Robots-Tag:noindex
X-PUBLISHED-TTL:PT1H
BEGIN:VTIMEZONE
TZID:America/Argentina/Cordoba
BEGIN:STANDARD
TZOFFSETFROM:-0300
TZOFFSETTO:-0300
TZNAME:-03
DTSTART:20240101T000000
END:STANDARD
END:VTIMEZONE
BEGIN:VEVENT
DTSTART;VALUE=DATE:20250301
DTEND;VALUE=DATE:20250302
DTSTAMP:20260424T181621
CREATED:20250228T140825Z
LAST-MODIFIED:20250228T140825Z
UID:4885-1740787200-1740873599@cultura.riocuarto.gob.ar
SUMMARY:TIEMBLA DELIRIO ORQUESTA
DESCRIPTION:🔥 Se viene la primera fecha del año del Ciclo La Sala \nLa legendaria banda de Río Cuarto Tiembla Delirio Orquesta vuelve con un único show en su casa.\nHaciendo un recorrido por los dos discos que grabaron\, y juntando a todxs lxs musicxs que pasaron por la banda en una misma noche🫂 \nBanda invitada Avenida Los Incas\nDj Kuki \n🗓 Sábado 1 de Marzo.\n📍Viejo Mercado.\n🕘 21 a 3 am. \nPatio Gastronómico \nAnticipadas limitadas en www.imperiotickets.com \nhttps://cultura.riocuarto.gob.ar/wp-content/uploads/2025/02/Video-de-WhatsApp-2025-02-28-a-las-10.46.16_11dca7dd.mp4\n 
URL:https://cultura.riocuarto.gob.ar/event/tiembla-delirio-orquesta/
CATEGORIES:VIEJO MERCADO
ATTACH;FMTTYPE=image/jpeg:https://cultura.riocuarto.gob.ar/wp-content/uploads/2025/02/Imagen-de-WhatsApp-2025-02-28-a-las-10.46.16_a4330b37.jpg
END:VEVENT
BEGIN:VEVENT
DTSTART;VALUE=DATE:20250307
DTEND;VALUE=DATE:20250308
DTSTAMP:20260424T181621
CREATED:20250303T231330Z
LAST-MODIFIED:20250303T231330Z
UID:4969-1741305600-1741391999@cultura.riocuarto.gob.ar
SUMMARY:DEMIAN ´DE MAGO´S
DESCRIPTION:Demian ‘ de Mago’s\n[Concepto Acústico]\nMúsica Cantautora and Lectura Poética \nInvitadxs: Sol Sayago – Ana Ferrarese – y/o Amigxs \nViernes 7 de Marzo: 20:30 Hs.\nTintorería Japonesa (Constitución 947)\nA la Gorra
URL:https://cultura.riocuarto.gob.ar/event/demian-de-magos/
CATEGORIES:TINTORERIA JAPONESA
ATTACH;FMTTYPE=image/jpeg:https://cultura.riocuarto.gob.ar/wp-content/uploads/2025/03/Imagen-de-WhatsApp-2025-03-03-a-las-20.06.09_96dfd68a-e1741043587492.jpg
END:VEVENT
BEGIN:VEVENT
DTSTART;VALUE=DATE:20250315
DTEND;VALUE=DATE:20250316
DTSTAMP:20260424T181621
CREATED:20250311T152740Z
LAST-MODIFIED:20250311T152740Z
UID:5065-1741996800-1742083199@cultura.riocuarto.gob.ar
SUMMARY:60-70-80: REENCUENTRO ARTÍSTICO LOCAL
DESCRIPTION:Este sábado 15 de marzo\, de 16 a 24hs. en el Galpón Blanco del Andino\, con entrada gratuita\, se realiza el evento 60-70-80\, reencuentro y memoria. Tres décadas en el rock\, el arte y la cultura de Río Cuarto. Radio abierta. Teatro-humor. Proyecciones. Feria de Vinilos. Homenajes. Bandas en vivo.
URL:https://cultura.riocuarto.gob.ar/event/60-70-80-reencuentro-artistico-local/
CATEGORIES:GALPÓN BLANCO. C.C ANDINO
ATTACH;FMTTYPE=image/jpeg:https://cultura.riocuarto.gob.ar/wp-content/uploads/2025/03/607080-e1741706827715.jpeg
END:VEVENT
BEGIN:VEVENT
DTSTART;VALUE=DATE:20250329
DTEND;VALUE=DATE:20250330
DTSTAMP:20260424T181621
CREATED:20250326T160630Z
LAST-MODIFIED:20250326T160630Z
UID:5521-1743206400-1743292799@cultura.riocuarto.gob.ar
SUMMARY:ROCK EN EL OJO
DESCRIPTION:Sábado 29 de marzo. 22hs. C.C. Ojo de Barro (Bolívar 373). Se presentan las bandas rockeras Rabia Anekekea\, Los Malos\, Hell Collapse y Amigo Piedra. Anticipadas $5000. En puerta $6000.
URL:https://cultura.riocuarto.gob.ar/event/rock-en-el-ojo/
CATEGORIES:OJO DE BARRO
ATTACH;FMTTYPE=image/jpeg:https://cultura.riocuarto.gob.ar/wp-content/uploads/2025/03/Ojo-de-barro-e1743005160331.jpeg
END:VEVENT
END:VCALENDAR