BEGIN:VCALENDAR
VERSION:2.0
PRODID:-//Cultura Río Cuarto - ECPv6.15.20//NONSGML v1.0//EN
CALSCALE:GREGORIAN
METHOD:PUBLISH
X-WR-CALNAME:Cultura Río Cuarto
X-ORIGINAL-URL:https://cultura.riocuarto.gob.ar
X-WR-CALDESC:Eventos para Cultura Río Cuarto
REFRESH-INTERVAL;VALUE=DURATION:PT1H
X-Robots-Tag:noindex
X-PUBLISHED-TTL:PT1H
BEGIN:VTIMEZONE
TZID:America/Argentina/Cordoba
BEGIN:STANDARD
TZOFFSETFROM:-0300
TZOFFSETTO:-0300
TZNAME:-03
DTSTART:20240101T000000
END:STANDARD
END:VTIMEZONE
BEGIN:VEVENT
DTSTART;VALUE=DATE:20250404
DTEND;VALUE=DATE:20250405
DTSTAMP:20260424T132039
CREATED:20250403T125142Z
LAST-MODIFIED:20250403T125142Z
UID:5690-1743724800-1743811199@cultura.riocuarto.gob.ar
SUMMARY:ROCK EN EL OJO
DESCRIPTION:Viernes 4 de abril. 22hs. C.C. Ojo de Barro (Bolívar 373). Anticipadas $5000. \nSe presentan las bandas rockeras Tres Ventanas\, Verona Stress\, Moro y El cielo a través del agua. Intervención artística circo-danza por Antonella Frankel\, Virginia Giorgi\, Tamara Bruno y Sofía Pereda.
URL:https://cultura.riocuarto.gob.ar/event/rock-en-el-ojo-2/
CATEGORIES:OJO DE BARRO
ATTACH;FMTTYPE=image/jpeg:https://cultura.riocuarto.gob.ar/wp-content/uploads/2025/04/Ojo-viernes-e1743684685787.jpg
END:VEVENT
BEGIN:VEVENT
DTSTART;VALUE=DATE:20250411
DTEND;VALUE=DATE:20250412
DTSTAMP:20260424T132039
CREATED:20250403T134009Z
LAST-MODIFIED:20250403T134009Z
UID:5705-1744329600-1744415999@cultura.riocuarto.gob.ar
SUMMARY:JOTA FIGUEROA-JUAN MURUA-EDU GATTARI
DESCRIPTION:Viernes 11 de abril. Teatrino de la Trapalanda. 21hs. Entrada gral. $10000 \nUn encuentro de arte y música: Figueroa y Murua presentan un concierto de canciones propias\, mientras el artista plástico Gattari captura la esencia del momento con sus pinceladas.
URL:https://cultura.riocuarto.gob.ar/event/jota-figueroa-juan-murua-edu-gattari/
CATEGORIES:TEATRINO
ATTACH;FMTTYPE=image/jpeg:https://cultura.riocuarto.gob.ar/wp-content/uploads/2025/04/Encuentro-de-arte-y-musica-e1743687599959.jpg
END:VEVENT
BEGIN:VEVENT
DTSTART;VALUE=DATE:20250411
DTEND;VALUE=DATE:20250412
DTSTAMP:20260424T132039
CREATED:20250411T133844Z
LAST-MODIFIED:20250411T133844Z
UID:5809-1744329600-1744415999@cultura.riocuarto.gob.ar
SUMMARY:ROCK EN EL OJO
DESCRIPTION:Viernes 11 de abril. 22hs. C.C. Ojo de Barro (Bolívar 373). \nLa banda rockera Mala Madre presenta Melodrama\, junto a Rajatabla\, Shake Long (Cba) y Tinner. Musicaliza: DJ Mara Mussolini. Anticipadas $5000.
URL:https://cultura.riocuarto.gob.ar/event/rock-en-el-ojo-3/
CATEGORIES:OJO DE BARRO
ATTACH;FMTTYPE=image/jpeg:https://cultura.riocuarto.gob.ar/wp-content/uploads/2025/04/Ojo-viernes-e1744378713895.jpeg
END:VEVENT
BEGIN:VEVENT
DTSTART;VALUE=DATE:20250412
DTEND;VALUE=DATE:20250413
DTSTAMP:20260424T132039
CREATED:20250403T135226Z
LAST-MODIFIED:20250403T135226Z
UID:5714-1744416000-1744502399@cultura.riocuarto.gob.ar
SUMMARY:CICLO SOY: MIA SALAS
DESCRIPTION:Sábado 12 de abril. Teatrino de la Trapalanda. 20.30hs. Entrada gral. $3000. \nEn el inicio de un nuevo año del ciclo por la diversidad artística\, la destacada cantante local Mia Sala presenta el espectáculo Un canto a mi padre. \nMia Salas hace esta apertura con un show en homenaje a su padre (fallecido hace 1 mes)\, Eduardo Salas\, quien también tuvo su época de artista cantando y tocando en orquestas y bandas en diferentes salas y espacios de nuestra ciudad. \nEl espectáculo constará con repertorio de canciones\, las cuales de niña cantaba con su padre\, y otras interpretadas por él en su época. Será un viaje al recuerdo\, en canciones.
URL:https://cultura.riocuarto.gob.ar/event/ciclo-soy-mia-salas/
CATEGORIES:TEATRINO
ATTACH;FMTTYPE=image/jpeg:https://cultura.riocuarto.gob.ar/wp-content/uploads/2025/04/Ciclo-Soy-e1743688339581.jpg
END:VEVENT
BEGIN:VEVENT
DTSTART;VALUE=DATE:20250418
DTEND;VALUE=DATE:20250420
DTSTAMP:20260424T132039
CREATED:20250416T125025Z
LAST-MODIFIED:20250416T125025Z
UID:5944-1744934400-1745107199@cultura.riocuarto.gob.ar
SUMMARY:ROCK EN EL OJO X 2
DESCRIPTION:Este fin de semana sonará rock en el C.C. Ojo de Barro (Bolívar 373). \nEste viernes 18 de abril desde las 23hs tocan en vivo las bandas Soster\, Harrison y Reyna Calavera. Anticipadas $5000. \nEste sábado 19 de abril desde las 22hs. se presenta los grupos La Dr. y PPP (Post Punk Projet). Anticipadas $5000.
URL:https://cultura.riocuarto.gob.ar/event/rock-en-el-ojo-x-2/
CATEGORIES:OJO DE BARRO
ATTACH;FMTTYPE=image/jpeg:https://cultura.riocuarto.gob.ar/wp-content/uploads/2025/04/Ojo-vie-e1744807709749.jpg
END:VEVENT
BEGIN:VEVENT
DTSTART;VALUE=DATE:20250420
DTEND;VALUE=DATE:20250421
DTSTAMP:20260424T132039
CREATED:20250328T122709Z
LAST-MODIFIED:20250411T133253Z
UID:5568-1745107200-1745193599@cultura.riocuarto.gob.ar
SUMMARY:SÓNICO: ROVIRA 100
DESCRIPTION:Domingo 20 de abril. Teatro Municipal. 21hs. Entradas: $25000-22000-18000 \nSe presenta en la ciudad el espectáculo internacional que no solo busca revivir los últimos y más icónicos álbumes de Eduardo Rovira\, sino también reconstruir la vanguardia porteña a través de piezas menos conocidas y olvidadas de figuras como Astor Piazzolla\, Osvaldo Berlingieri\, Omar Luppi\, Alberto Caracciolo y Omar Valente. \nEste repertorio\, meticulosamente rescatado por el grupo mediante transcripciones y trabajo de archivo\, ha creado un programa único que\, acompañado de anécdotas que contextualiza esta música\, lleva al público a revivir los orígenes de la vanguardia en el tango como nunca antes. \nSobre ROVIRA \nEduardo Rovira (1925-1980) fue un compositor y bandoneonista argentino clave en la creación del «tango moderno». Frecuentemente comparado con Astor Piazzolla\, Rovira exploró caminos radicalmente originales dentro del género\, integrando elementos experimentales y desafiando las tradiciones establecidas. Aunque su música cayó en el olvido tras su muerte\, la labor de SONICO ha logrado redescubrir\, interpretar y reivindicar su obra. Según el propio Piazzolla: “Hubo un tiempo en que Rovira fue más revolucionario que yo”. \n\nSobre SONICO \nFundado en 2015 en Bruselas\, SONICO se ha consolidado como un referente internacional en la reinterpretación del tango de vanguardia. Sus presentaciones combinan investigación histórica y excelencia musical.  Desde su creación\,  la agrupación ha rescatado y transcrito más de 70 obras de Rovira a partir de manuscritos y grabaciones no comerciales.
URL:https://cultura.riocuarto.gob.ar/event/sonico-rovira-100/
CATEGORIES:TEATRO MUNICIPAL
ATTACH;FMTTYPE=image/png:https://cultura.riocuarto.gob.ar/wp-content/uploads/2025/03/rovira_feed-e1743164790211.png
END:VEVENT
BEGIN:VEVENT
DTSTART;VALUE=DATE:20250425
DTEND;VALUE=DATE:20250427
DTSTAMP:20260424T132039
CREATED:20250423T124233Z
LAST-MODIFIED:20250423T124233Z
UID:5998-1745539200-1745711999@cultura.riocuarto.gob.ar
SUMMARY:ROCK EN EL OJO X 2
DESCRIPTION:Este fin de semana sonará rock en el C.C. Ojo de Barro (Bolívar 373). \nEste viernes 25 de abril desde las 23hs tocan se realiza una nueva edición del Choko Manija Fest con las actuaciones en vivo de las bandas Sazon Funk\, Lazy Hets y Radio Kaos. Entrada libre\, salida a la gorra. \nEste sábado 26 de abril desde las 22hs. se presenta los grupos Los Monos\, Hijo Chimango\, Underboi (Villa Mercedes) y Zombie Loco. Anticipadas $5000.
URL:https://cultura.riocuarto.gob.ar/event/rock-en-el-ojo-x-2-2/
CATEGORIES:OJO DE BARRO
ATTACH;FMTTYPE=image/jpeg:https://cultura.riocuarto.gob.ar/wp-content/uploads/2025/04/Ojo-vie-e1745411969206.jpeg
END:VEVENT
BEGIN:VEVENT
DTSTART;VALUE=DATE:20250426
DTEND;VALUE=DATE:20250427
DTSTAMP:20260424T132039
CREATED:20250424T123910Z
LAST-MODIFIED:20250424T123910Z
UID:6001-1745625600-1745711999@cultura.riocuarto.gob.ar
SUMMARY:CICLO LA PEÑA DEL GALPÓN
DESCRIPTION:Sábado 26 de abril. 20hs. Galpón Blanco C.C Andino. Entrada Gral. $ 5.000\, en puerta. Menores de 12 años s/c. \nComienza el nuevo ciclo folklórico con las actuaciones de Los Riocuartenses\, Darío Romero\, Javier González (San Luis)\, Germán López\, Germán Rojas (Córdoba) y Ballets Invitados. \nServicio de cantina. Podés ingresar con tu mate.
URL:https://cultura.riocuarto.gob.ar/event/ciclo-la-pena-del-galpon/
CATEGORIES:GALPÓN BLANCO. C.C ANDINO
ATTACH;FMTTYPE=image/jpeg:https://cultura.riocuarto.gob.ar/wp-content/uploads/2025/04/Pena-e1745498339754.jpeg
END:VEVENT
BEGIN:VEVENT
DTSTART;VALUE=DATE:20250427
DTEND;VALUE=DATE:20250428
DTSTAMP:20260424T132039
CREATED:20250416T130350Z
LAST-MODIFIED:20250421T152030Z
UID:5950-1745712000-1745798399@cultura.riocuarto.gob.ar
SUMMARY:VUELVE BANCA AL ARTE
DESCRIPTION:Domingo 27 de abril. Teatro Municipal. 18hs. Entrada gratuita \nBanca al Arte inicia su temporada número 20 y presentará otro de sus programas que hacen hincapié en la música y la danza. \nUna de las grandes atracciones de este primer programa del año es la presentación del grupo Son de palo que con apenas algo más de un año de formación\, ha logrado ya una identidad dentro de la música latina. \nCon la experiencia adquirida en la exitosa gira que el año pasado realizaron por Italia\, y mientras se preparan para repetir esa experiencia Santiago Cofré\, Marcos Meroni\, David Giuliano y Lolo Pagliaricci mostrarán una parte de su repertorio que incluye salsa\, bachata\, y cuarteto Pop. \nSi la platea no se motiva con esa topadora rítmica que propone Son de Palo\, le queda el recurso de seguir y admirar a los dos elencos protagonistas del segmento de danza que propone el programa: el ballet de danzas árabes de Natalia Altamira y ese clásico que es Abriendo Surcos\, infaltables con su calidad en cada apertura de temporada del ciclo.
URL:https://cultura.riocuarto.gob.ar/event/vuelve-banca-al-arte/
CATEGORIES:TEATRO MUNICIPAL
ATTACH;FMTTYPE=image/png:https://cultura.riocuarto.gob.ar/wp-content/uploads/2025/04/banca-al-arte-e1745248822127.png
END:VEVENT
END:VCALENDAR