BEGIN:VCALENDAR
VERSION:2.0
PRODID:-//Cultura Río Cuarto - ECPv6.15.20//NONSGML v1.0//EN
CALSCALE:GREGORIAN
METHOD:PUBLISH
X-WR-CALNAME:Cultura Río Cuarto
X-ORIGINAL-URL:https://cultura.riocuarto.gob.ar
X-WR-CALDESC:Eventos para Cultura Río Cuarto
REFRESH-INTERVAL;VALUE=DURATION:PT1H
X-Robots-Tag:noindex
X-PUBLISHED-TTL:PT1H
BEGIN:VTIMEZONE
TZID:America/Argentina/Cordoba
BEGIN:STANDARD
TZOFFSETFROM:-0300
TZOFFSETTO:-0300
TZNAME:-03
DTSTART:20240101T000000
END:STANDARD
END:VTIMEZONE
BEGIN:VEVENT
DTSTART;VALUE=DATE:20250606
DTEND;VALUE=DATE:20250607
DTSTAMP:20260424T104718
CREATED:20250529T140647Z
LAST-MODIFIED:20250529T140647Z
UID:6639-1749168000-1749254399@cultura.riocuarto.gob.ar
SUMMARY:CICLO DE LA RAÍZ AL CORAZÓN
DESCRIPTION:Viernes 6 de junio. Galpón Blanco C.C Andino. 21hs. Entrada gratuita \nEn la continuidad del ciclo folklórico se presenta los artistas Dueños del Monte y Grupo Tradicional Santa Rosa.                 Servicio de cantina.
URL:https://cultura.riocuarto.gob.ar/event/ciclo-de-la-raiz-al-corazon-4/
CATEGORIES:GALPÓN BLANCO. C.C ANDINO
ATTACH;FMTTYPE=image/jpeg:https://cultura.riocuarto.gob.ar/wp-content/uploads/2025/05/raiz_fedd-e1748527588682.jpg
END:VEVENT
BEGIN:VEVENT
DTSTART;VALUE=DATE:20250606
DTEND;VALUE=DATE:20250608
DTSTAMP:20260424T104718
CREATED:20250605T133306Z
LAST-MODIFIED:20250605T133306Z
UID:6706-1749168000-1749340799@cultura.riocuarto.gob.ar
SUMMARY:ROCK x 2 EN EL OJO
DESCRIPTION:Este fin de semana hay doble fecha rockera en el C.C. Ojo de Barro (Bolívar 373). \nEl viernes 6 de junio a las 23hs. con entrada anticipada a $5000 ($7000 en puerta)\, el Club del Blues presenta en vivo a las bandas Tano Blues\, Gente de Barro (Bs. As.)\, Ave Negra (Villa Mercedes) y La Doble Problema. \nEl sábado 7 de junio desde las 23hs.\, con entrada anticipada a $6000\, se presentan las bandas IAH\, Cult Crypt y Cólera. Intervención teatral de Las Hijas de Susú.
URL:https://cultura.riocuarto.gob.ar/event/rock-x-2-en-el-ojo/
CATEGORIES:OJO DE BARRO
ATTACH;FMTTYPE=image/jpeg:https://cultura.riocuarto.gob.ar/wp-content/uploads/2025/06/Ojo-sabado-e1749130103365.jpeg
END:VEVENT
BEGIN:VEVENT
DTSTART;VALUE=DATE:20250607
DTEND;VALUE=DATE:20250608
DTSTAMP:20260424T104718
CREATED:20250530T131107Z
LAST-MODIFIED:20250530T143520Z
UID:6646-1749254400-1749340799@cultura.riocuarto.gob.ar
SUMMARY:MIGUEL CABRERA EN EL CICLO SOY
DESCRIPTION:Sábado 7 de junio. Teatrino de la Trapalanda. 20.30hs. Entrada gral. $4000. \nEn la continuidad del Ciclo Soy por la diversidad cultura\, el cantante Miguel Cabrera presenta su espectáculo La Voz Soñadora de Río Cuarto. Organizan: Subsecretaria de Género\, Diversidad y Discapacidad y Subsecretaría de Cultura.
URL:https://cultura.riocuarto.gob.ar/event/gabriel-cabrera-en-el-ciclo-soy/
CATEGORIES:TEATRINO
ATTACH;FMTTYPE=image/jpeg:https://cultura.riocuarto.gob.ar/wp-content/uploads/2025/05/Soy-2-e1748615702826.jpg
END:VEVENT
BEGIN:VEVENT
DTSTART;VALUE=DATE:20250608
DTEND;VALUE=DATE:20250609
DTSTAMP:20260424T104718
CREATED:20250603T141137Z
LAST-MODIFIED:20250603T141137Z
UID:6694-1749340800-1749427199@cultura.riocuarto.gob.ar
SUMMARY:BANCA AL ARTE
DESCRIPTION:Domingo 8 de junio. Teatro Municipal. 18hs. Entrada libre y gratuita. \nSe realiza una nueva edición del clásico ciclo local Banca al Arte. \nEn el comienzo de la programación de esta nueva entrega del ciclo que está desarrollando su vigésima temporada\, brillará ese gran guitarrista que es Gonzalo Antuña con un breve concierto de guitarra romántica\, realizado con un instrumento original de 1870. \nOtra de las atracciones será la presentación de Roque Fernández y Rodrigo Chena\, o sea ese estupendo dúo que es Cosa de Duendes\, que presentará en formato de recital comentado\, una breve selección de dos de los autores y compositores más destacado del folklore creado en Córdoba: Carlos Di Fulvio y El Chango Rodríguez. \nY otra de las destacadas actuaciones del programa supondrá el regreso al segundo gran escenario teatral de la provincia del ballet y otras formaciones de la Escuela de Danzas Atahualpa que desde General Cabrera y bajo la dirección de Marcelo Urquiza\, viene expandiendo por los escenarios del país un estilo inconfundible dentro de los bailes folclóricos.
URL:https://cultura.riocuarto.gob.ar/event/banca-al-arte-3/
CATEGORIES:TEATRO MUNICIPAL
ATTACH;FMTTYPE=image/jpeg:https://cultura.riocuarto.gob.ar/wp-content/uploads/2025/06/Banca-al-arte-e1748959888700.jpg
END:VEVENT
BEGIN:VEVENT
DTSTART;VALUE=DATE:20250611
DTEND;VALUE=DATE:20250612
DTSTAMP:20260424T104718
CREATED:20250609T152343Z
LAST-MODIFIED:20250609T152343Z
UID:6805-1749600000-1749686399@cultura.riocuarto.gob.ar
SUMMARY:MUSICARTE: PEÑA QUE SUENA
DESCRIPTION:Miércoles 11 de junio. Viejo Mercado. 21hs. Entrada gral. $4000 \nPresentación exclusiva de los 4 elencos corales y el ensamble de guitarras del Taller de Expresión Musical del PEAM. Artistas invitados: Silvina Requelme\, Fernando Mansilla y el cierre a cargo de Ivanna.
URL:https://cultura.riocuarto.gob.ar/event/musicarte-pena-que-suena/
CATEGORIES:VIEJO MERCADO
ATTACH;FMTTYPE=image/png:https://cultura.riocuarto.gob.ar/wp-content/uploads/2025/06/musiarte-e1749482612609.png
END:VEVENT
BEGIN:VEVENT
DTSTART;VALUE=DATE:20250612
DTEND;VALUE=DATE:20250613
DTSTAMP:20260424T104718
CREATED:20250421T151725Z
LAST-MODIFIED:20250421T151725Z
UID:5981-1749686400-1749772799@cultura.riocuarto.gob.ar
SUMMARY:CALÍGULA\, EL MUSICAL
DESCRIPTION:Jueves 12 de junio. Teatro Municipal. 21hs. Entradas: $35000-33000-30000. \nEn 1983\, la obra estrenó su versión original en los teatros de San Telmo\, con libro de Pepe Cibrián Campoy\, música de Martin Bianchedi y protagonizada por Cesar Pierri. Hoy\, 42 años después\, se vuelve a estrenar tal cual fuese estrenada por sus autores originales. \nLa obra narra la historia del poder absoluto y autocrático encarnado en la figura de Calígula. A través de su trama\, explora temas como la locura\, la miseria del pueblo\, la corrupción\, la intolerancia\, la opresión y la búsqueda de lo imposible. Además\, retrata la compleja relación entre dos hermanos\, Calígula y Drusila\, quienes ejercen una autoridad máxima sobre un pueblo y un imperio sometidos por el miedo. Como declara el protagonista al final de la obra: “Existo y existiré por los siglos de los siglos”.
URL:https://cultura.riocuarto.gob.ar/event/caligula-el-musical/
CATEGORIES:TEATRO MUNICIPAL
ATTACH;FMTTYPE=image/png:https://cultura.riocuarto.gob.ar/wp-content/uploads/2025/04/caligula_feed-e1745248628937.png
END:VEVENT
BEGIN:VEVENT
DTSTART;VALUE=DATE:20250612
DTEND;VALUE=DATE:20250613
DTSTAMP:20260424T104718
CREATED:20250609T152801Z
LAST-MODIFIED:20250609T152801Z
UID:6808-1749686400-1749772799@cultura.riocuarto.gob.ar
SUMMARY:CICLO DE TANGO EN EL GALPÓN
DESCRIPTION:Jueves 12 de junio. Galpón Blanco C. C Andino. 20.30hs. Entrada gratuita. \nComienza el ciclo tanguero con las voces de Carlos Palacios\, Seide Ceresole\, Leonela Livardi\, Jorge Sánchez\, Marcelo Griffa\, Aldo Di Cola\, Juan C. Megale\, Nino Canonero y Antonio José\, acompañados por los músicos Pablo Patta en piano y Juan Carlos Zabala en guitarra.
URL:https://cultura.riocuarto.gob.ar/event/ciclo-de-tango-en-el-galpon/
CATEGORIES:GALPÓN BLANCO. C.C ANDINO
ATTACH;FMTTYPE=image/jpeg:https://cultura.riocuarto.gob.ar/wp-content/uploads/2025/06/TANGO-FEDD-e1749482870188.jpg
END:VEVENT
BEGIN:VEVENT
DTSTART;VALUE=DATE:20250613
DTEND;VALUE=DATE:20250614
DTSTAMP:20260424T104718
CREATED:20250609T153001Z
LAST-MODIFIED:20250609T153001Z
UID:6811-1749772800-1749859199@cultura.riocuarto.gob.ar
SUMMARY:CICLO DE LA RAÍZ AL CORAZÓN
DESCRIPTION:Viernes 13 de junio. Galpón Blanco C.C Andino. 21hs. Entrada gratuita. \nEn la continuidad del ciclo folklórico local se presentan M&C Raíces Dúo y Ballet Compañía Celeste y Blanco. Servicio de cantina.
URL:https://cultura.riocuarto.gob.ar/event/ciclo-de-la-raiz-al-corazon-5/
CATEGORIES:GALPÓN BLANCO. C.C ANDINO
ATTACH;FMTTYPE=image/jpeg:https://cultura.riocuarto.gob.ar/wp-content/uploads/2025/06/RAIZ-e1749482992181.jpg
END:VEVENT
BEGIN:VEVENT
DTSTART;VALUE=DATE:20250614
DTEND;VALUE=DATE:20250615
DTSTAMP:20260424T104718
CREATED:20250609T153210Z
LAST-MODIFIED:20250609T153210Z
UID:6814-1749859200-1749945599@cultura.riocuarto.gob.ar
SUMMARY:LA GUL ROCK FESTIVAL
DESCRIPTION:Sábado 14 de junio. Teatrino de la Trapalanda. 21hs. Entrada gral. $10.000. \nSe realiza el Primer Festival de bandas de La Gul\, con las actuaciones en vivo de las bandas Harrison\, Los Sin Tono y Buscando a Dulcinea\, con temas propios y también con grandes clásicos del rock.
URL:https://cultura.riocuarto.gob.ar/event/la-gul-rock-festival/
CATEGORIES:TEATRINO
ATTACH;FMTTYPE=image/jpeg:https://cultura.riocuarto.gob.ar/wp-content/uploads/2025/06/La-Gul-e1749483119350.jpg
END:VEVENT
BEGIN:VEVENT
DTSTART;VALUE=DATE:20250614
DTEND;VALUE=DATE:20250615
DTSTAMP:20260424T104718
CREATED:20250609T155921Z
LAST-MODIFIED:20250609T155921Z
UID:6817-1749859200-1749945599@cultura.riocuarto.gob.ar
SUMMARY:MILONGA EN EL OJO
DESCRIPTION:Sábado 14 de junio. C.C. Ojo de Barro (Bolívar 373). 21hs. Entrada gral. $3000. \nSe realiza la Milonga Arrabalera con la musicalización de Eugenia Rivarola.
URL:https://cultura.riocuarto.gob.ar/event/milonga-en-el-ojo/
CATEGORIES:OJO DE BARRO
ATTACH;FMTTYPE=image/jpeg:https://cultura.riocuarto.gob.ar/wp-content/uploads/2025/06/Milonga-en-el-Ojo-e1749484751819.jpeg
END:VEVENT
BEGIN:VEVENT
DTSTART;VALUE=DATE:20250614
DTEND;VALUE=DATE:20250615
DTSTAMP:20260424T104718
CREATED:20250612T131938Z
LAST-MODIFIED:20250612T131938Z
UID:6923-1749859200-1749945599@cultura.riocuarto.gob.ar
SUMMARY:LA SALA
DESCRIPTION:Sábado 14 de junio. Galpón Blanco C.C. Andino. 21hs. Entradas: @lasala.ciclo \nEn una nueva edición del ciclo La Sala\, se presentan en vivo las bandas Gio Cebado\, Señorita Miel\, Mala Madre y Rabia Anekekea. Además\, competencia de skate e intervención artística a cargo del Gordo Ilustra. Patio gastronómico.
URL:https://cultura.riocuarto.gob.ar/event/la-sala/
CATEGORIES:GALPÓN BLANCO. C.C ANDINO
ATTACH;FMTTYPE=image/jpeg:https://cultura.riocuarto.gob.ar/wp-content/uploads/2025/06/La-sala-e1749734352135.jpeg
END:VEVENT
BEGIN:VEVENT
DTSTART;VALUE=DATE:20250619
DTEND;VALUE=DATE:20250620
DTSTAMP:20260424T104718
CREATED:20250618T131224Z
LAST-MODIFIED:20250618T131224Z
UID:6961-1750291200-1750377599@cultura.riocuarto.gob.ar
SUMMARY:MARIANA SUARES EN LA PEÑA DE LA RAÍZ AL CORAZÓN
DESCRIPTION:Jueves 19 de junio. Galpón Blanco del Andino. 21hs. Entrada gratuita. Servicio de cantina. \nEn la continuidad de la peña folklórica se presenta la reconocida cantante argentina Mariana Suárez\, premio Revelación Cosquín 2025. Con la participación de Ballet Imperio y Corazón de Bombo.
URL:https://cultura.riocuarto.gob.ar/event/mariana-suares-en-la-pena-de-la-raiz-al-corazon/
CATEGORIES:GALPÓN BLANCO. C.C ANDINO
ATTACH;FMTTYPE=image/jpeg:https://cultura.riocuarto.gob.ar/wp-content/uploads/2025/06/PENA-ok-e1750252309370.jpg
END:VEVENT
BEGIN:VEVENT
DTSTART;VALUE=DATE:20250620
DTEND;VALUE=DATE:20250621
DTSTAMP:20260424T104718
CREATED:20250618T151620Z
LAST-MODIFIED:20250618T151620Z
UID:6986-1750377600-1750463999@cultura.riocuarto.gob.ar
SUMMARY:BALLET SANTA CATALINA
DESCRIPTION:Viernes 20 de junio. Galpón Blanco del Andino. 20hs. Entrada gral. $3000 \nLa Escuela de Danza y Malambo Santa Catalina\, presenta el espectáculo Celebrando la patria con la participación de artistas invitados.
URL:https://cultura.riocuarto.gob.ar/event/ballet-santa-catalina/
CATEGORIES:GALPÓN BLANCO. C.C ANDINO
ATTACH;FMTTYPE=image/jpeg:https://cultura.riocuarto.gob.ar/wp-content/uploads/2025/06/SantaCatalina-e1750259775858.jpg
END:VEVENT
BEGIN:VEVENT
DTSTART;VALUE=DATE:20250620
DTEND;VALUE=DATE:20250622
DTSTAMP:20260424T104718
CREATED:20250619T131837Z
LAST-MODIFIED:20250619T131837Z
UID:6991-1750377600-1750550399@cultura.riocuarto.gob.ar
SUMMARY:ROCK X 2 EN EL OJO
DESCRIPTION:Este fin de semana doble jornada rockera en el C.C. Ojo de Barro (Bolívar 373). \nEste viernes 20 desde las 23hs\, con entrada gral. de $5000\, tocan en vivo Experiencia Oasis\, Nave Rock Fusión y El brazo de Perseo. \nEl sábado 21\, desde las 22hs. con anticipadas a $6000\, sonarán las bandas Súper Quercus\, Los Monos\, Aguas Tónicas (Rosario) y el debut de Farinelli.
URL:https://cultura.riocuarto.gob.ar/event/rock-x-2-en-el-ojo-2/
CATEGORIES:OJO DE BARRO
ATTACH;FMTTYPE=image/jpeg:https://cultura.riocuarto.gob.ar/wp-content/uploads/2025/06/Ojo-sabado-1-e1750339107701.jpeg
END:VEVENT
BEGIN:VEVENT
DTSTART;VALUE=DATE:20250622
DTEND;VALUE=DATE:20250623
DTSTAMP:20260424T104718
CREATED:20250618T145216Z
LAST-MODIFIED:20250618T145216Z
UID:6974-1750550400-1750636799@cultura.riocuarto.gob.ar
SUMMARY:BANCA AL ARTE
DESCRIPTION:Domingo 22 de junio. Teatro Municipal. 18hs. Entrada gratuita \nSe realiza una nueva edición de Banca al Arte con musical coral\, un especial de tango y la visita de un elenco de danzas del Gran Río Cuarto. \nPunto fuerte del encuentro de este domingo será la presentación de un excelente trabajo de recreación en torno a una época determinada del tango\, caracterizada especialmente por vocalistas y creadoras mujeres. \nCarito Gallo protagoniza ese encuentro con temas que hicieron época en voces como las de Azucena Maizani\, Ada Falcón\, Nelly Omar\, Mercedes Simone y Tita Merello\, que definieron una emergencia del género y un estilo. \nAcompañada por dos excelentes músicos sesionistas especializados en el género como lo son Pablo Patta en piano y Juan Carlos Zabala en guitarra\, la cantora local desarrollará ese repertorio en el contexto de un recital comentado. \nOtro animador de este encuentro es el Coro Juvenil Municipal\, dirigido por Luciana Cazzola\, que viene de presentar un concierto en el que define aspectos de la diversidad de su repertorio\, que reproducirá en este programa. \nFinalmente\, para continuar con la participación de elencos regionales\, en este caso del Gran Río Cuarto\, se presentará por primera vez en los 20 años del programa la Academia de Malambo y Ballet Santa Catalina\, Holmberg.
URL:https://cultura.riocuarto.gob.ar/event/banca-al-arte-4/
CATEGORIES:TEATRO MUNICIPAL
ATTACH;FMTTYPE=image/png:https://cultura.riocuarto.gob.ar/wp-content/uploads/2025/06/banca_feed-2-e1750258330995.png
END:VEVENT
BEGIN:VEVENT
DTSTART;VALUE=DATE:20250622
DTEND;VALUE=DATE:20250623
DTSTAMP:20260424T104718
CREATED:20250618T150128Z
LAST-MODIFIED:20250618T150128Z
UID:6980-1750550400-1750636799@cultura.riocuarto.gob.ar
SUMMARY:FESTI PARQUE SUR!
DESCRIPTION:Domingo 22 de junio. Parque Sur. De 15 a 18hs. Entrada gratuita. \nSe realiza una nueva edición del Festi Parque Sur! con la participación del Grupo Foclórico Concordia\, Dj Pablo Allende\, Dj y locución Marcelo Vidoret. Taller Día de la Bandera a cargo de la Biblioteca Vagón Reino del Revés\, feriantes\, juegos para infancias: autitos\, peloteros\, calesita y muchas cosas más!
URL:https://cultura.riocuarto.gob.ar/event/festi-parque-sur/
CATEGORIES:PARQUE SUR
ATTACH;FMTTYPE=image/png:https://cultura.riocuarto.gob.ar/wp-content/uploads/2025/06/Parque-sur-e1750258876679.png
END:VEVENT
BEGIN:VEVENT
DTSTART;VALUE=DATE:20250625
DTEND;VALUE=DATE:20250626
DTSTAMP:20260424T104718
CREATED:20250610T153537Z
LAST-MODIFIED:20250610T153537Z
UID:6886-1750809600-1750895999@cultura.riocuarto.gob.ar
SUMMARY:NOTA LIBRE
DESCRIPTION:Miércoles 25 de junio. Viejo Mercado. 20hs. Entrada gral. $10000 \nSe realiza la audición de la academia local con un espectáculo musical en el que se escucharán canciones populares interpretadas por ensambles formados por alumnos y profesores de la escuela. Habrá alrededor de 100 músicos en escena.
URL:https://cultura.riocuarto.gob.ar/event/nota-libre-2/
CATEGORIES:VIEJO MERCADO
ATTACH;FMTTYPE=image/png:https://cultura.riocuarto.gob.ar/wp-content/uploads/2025/06/notalibre-e1749569728255.png
END:VEVENT
BEGIN:VEVENT
DTSTART;VALUE=DATE:20250626
DTEND;VALUE=DATE:20250627
DTSTAMP:20260424T104718
CREATED:20250623T155904Z
LAST-MODIFIED:20250623T155904Z
UID:7138-1750896000-1750982399@cultura.riocuarto.gob.ar
SUMMARY:CICLO DE TANGO EN EL GALPÓN DEL 2X4
DESCRIPTION:Jueves 26 de junio. Galpón Blanco del Andino. 20.30hs. Entrada gratuita. \nEn la continuidad del ciclo tanguero se presentan las voces de Carito Gallo\, Luis Varea\, Tito Cabrera\, Jorge Maldonado\, Mario Quiroga\, Sergio Kogon y Eduardo Binaco\, acompañados por los músicos Pablo Patta en piano y Juan Carlos Zabala en guitarra.
URL:https://cultura.riocuarto.gob.ar/event/ciclo-de-tango-en-el-galpon-del-2x4/
CATEGORIES:GALPÓN BLANCO. C.C ANDINO
ATTACH;FMTTYPE=image/png:https://cultura.riocuarto.gob.ar/wp-content/uploads/2025/06/tango-ok-e1750694333188.png
END:VEVENT
BEGIN:VEVENT
DTSTART;VALUE=DATE:20250627
DTEND;VALUE=DATE:20250629
DTSTAMP:20260424T104718
CREATED:20250625T125120Z
LAST-MODIFIED:20250626T153821Z
UID:7169-1750982400-1751155199@cultura.riocuarto.gob.ar
SUMMARY:ROCK X 2 EN EL OJO
DESCRIPTION:Este fin de semana doble jornada rockera en el C.C. Ojo de Barro (Bolívar 373). \nEste viernes 27 de junio desde las 23hs\, tocan en vivo La Sucia Perra y Basofias. Anticipadas: $6.000 | En puerta: $8.000 \nLa Sucia Perra nace en el 2003\, cuando un grupo de amigos del barrio empezaba a mamar rock nacional entre mates\, charlas y primeros acordes. Con covers prestados y guitarras mal enchufadas\, arrancaron a tocar en donde se pudiera: un día del estudiante en un colegio\, el legendario Pizza Sport\, algún restobar con más humo que luces\, viajes con demos caseros y una pausa que pareció definitiva… hasta ahora. Vuelve La Sucia Perra a ladrar con fuerza. \nJunto a ellos\, Basofias\, otra banda que no necesita presentación para quienes el punk rock no tiene fecha de vencimiento para contemplar periferias con paisajes crudos y filosos\, con riffs que no piden permiso. \n \nEste sábado 28 de junio\, desde las 23hs. con anticipadas a $5000\, sonarán las bandas Undergrones (homenaje a 7º Regimiento)\, Reyna Calavera y Vegetal.
URL:https://cultura.riocuarto.gob.ar/event/rock-x-2-en-el-ojo-3/
CATEGORIES:OJO DE BARRO
ATTACH;FMTTYPE=image/jpeg:https://cultura.riocuarto.gob.ar/wp-content/uploads/2025/06/Ojo-viernes-e1750855726648.jpeg
END:VEVENT
BEGIN:VEVENT
DTSTART;VALUE=DATE:20250628
DTEND;VALUE=DATE:20250629
DTSTAMP:20260424T104718
CREATED:20250516T134635Z
LAST-MODIFIED:20250624T123703Z
UID:6458-1751068800-1751155199@cultura.riocuarto.gob.ar
SUMMARY:HÉROE LÍRICO POP: CINEMA LÍRICO. ENTRADAS AGOTADAS
DESCRIPTION:Sábado 28 de junio. Teatro Municipal. 21hs. Entradas agotadas. \nEl destacado trío argentino vuelve a la ciudad para presentar su nuevo show Cinema Lírico. \nUn espectáculo único que combina la potencia del Lírico Pop con la emoción del cine. \nA través de una puesta en escena innovadora y cautivante\, el show transporta al público a los momentos más icónicos del Séptimo Arte. En esta nueva propuesta podrán disfrutar de temas o imágenes de Casablanca\, Cinema Paradiso\, El Padrino\, Cantando Bajo la Lluvia\, Il Postino\, Mujer Bonita\, El Fantasma de la Ópera\, Titanic y muchos éxitos más. \nUna vez más la impronta del trío\, con ya más de 10 años de trayectoria\, despierta recuerdos\, risas\, lágrimas y esperanza. El humor\, la interacción con el público y la creación de momentos únicos\, harán revivir las historias que acompañaron nuestras vidas. \nIntegrantes: \nFederico Picone: Barítono-Brillante. \nAlejandro Falcone. Tenor Lírico-Spinto. \nSebastián Russo. Tenor Lirico-Ligero. \nAcompañados por banda conformada por teclado\, batería y guitarra. \nProducen: Imaginarium Contenidos y Héroe Lírico Pop.
URL:https://cultura.riocuarto.gob.ar/event/heroe-lirico-pop-cinema-lirico/
CATEGORIES:TEATRO MUNICIPAL
ATTACH;FMTTYPE=image/png:https://cultura.riocuarto.gob.ar/wp-content/uploads/2025/05/feed_heroe-e1747403148478.png
END:VEVENT
BEGIN:VEVENT
DTSTART;VALUE=DATE:20250629
DTEND;VALUE=DATE:20250630
DTSTAMP:20260424T104718
CREATED:20250624T130536Z
LAST-MODIFIED:20250624T130536Z
UID:7160-1751155200-1751241599@cultura.riocuarto.gob.ar
SUMMARY:CANCIONES EN CONCIERTO: DELFINA MANCARDO Y JUAN MARTÍN REGUEIRA
DESCRIPTION:Domingo 29 de junio. Casa de la Poesía-Museo Betty Medina Cabral (Echeverría 897). 19.30hs. Actividad arancelada. Consultas y venta de entradas: 34671104533 \nLos artistas Delfina Mancardo y Juan Martín Regueira presentan Canciones en concierto. \nDesde la Patagonia visitan la ciudad los artistas que vienen a compartir sus canciones en un encuentro íntimo. Las canciones de ambos están atravesadas por las montañas y los lagos que los rodean. \nDelfina Mancardo acaba de lanzar su segundo disco\, “Azulago”. Un álbum a tres guitarras\, muy crudo y minimalista. La sensibilidad es el común denominador en todas las canciones compuestas desde la intimidad de su guitarra y voz.
URL:https://cultura.riocuarto.gob.ar/event/canciones-en-concierto-delfina-mancardo-y-juan-martin-regueira/
CATEGORIES:CASA DE LA POESÍA
ATTACH;FMTTYPE=image/jpeg:https://cultura.riocuarto.gob.ar/wp-content/uploads/2025/06/Canciones-en-concierto-scaled-e1750770329413.jpg
END:VEVENT
END:VCALENDAR