BEGIN:VCALENDAR
VERSION:2.0
PRODID:-//Cultura Río Cuarto - ECPv6.15.20//NONSGML v1.0//EN
CALSCALE:GREGORIAN
METHOD:PUBLISH
X-ORIGINAL-URL:https://cultura.riocuarto.gob.ar
X-WR-CALDESC:Eventos para Cultura Río Cuarto
REFRESH-INTERVAL;VALUE=DURATION:PT1H
X-Robots-Tag:noindex
X-PUBLISHED-TTL:PT1H
BEGIN:VTIMEZONE
TZID:America/Argentina/Cordoba
BEGIN:STANDARD
TZOFFSETFROM:-0300
TZOFFSETTO:-0300
TZNAME:-03
DTSTART:20240101T000000
END:STANDARD
END:VTIMEZONE
BEGIN:VEVENT
DTSTART;VALUE=DATE:20250704
DTEND;VALUE=DATE:20250705
DTSTAMP:20260422T125325
CREATED:20250611T135209Z
LAST-MODIFIED:20250611T135209Z
UID:6902-1751587200-1751673599@cultura.riocuarto.gob.ar
SUMMARY:TALLER COMADRE CANTORA A CARGO DE LUNA MONTI
DESCRIPTION:Viernes 4 de julio. Galpón Blanco del Andino. 14hs. \nSe realiza el taller a cargo de la reconocida cantora argentina Luna Monti. Destinado a mujeres y disidencias\, mayores de 18 años. Requisitos ganas de cantar con/sin experiencia. Modalidad Taller intensivo presencial de 3.30/4.00hs. Arancelado: $30000. Informe e inscripciones 3586019203. \nCONTENIDO  \n\nMi VOZ / Mis VOCES Exploración en diferentes territorios (escritura\, declamación\, artes plásticas\, movimiento\, canción\, etc)\nMi VOZ / CUERPO. Mi voz en el espacio. Sinestesia sonido y movimiento. Emoción\, expresividad y gesto.\nMi CUERPO TAMBOR. Ejercicios de disociación rítmica. Percusión corporal.\nMI VOZ CON/EN OTRAS Escucha activa. Conexión. Vínculo. Contención.\nLA VOZ DE TODAS Canto ritual\, honrando lo femenino.\nREPERTORIO de diferentes tradiciones. Arreglos vocales a 2 o 3 voces.\n\nQUÉ TRAER                                                                        \n\nRopa y calzado cómodo.\nAgua para hidratarte\nAlgo para escribir/colorear y una foto tuya de tu infancia (puede ser en el celu).\nEstaremos sentadas preferentemente en piso (podes traer almohadón)\nCompartiremos una merienda a la canasta. Trae lo que gustes.
URL:https://cultura.riocuarto.gob.ar/event/taller-comadre-cantora-a-cargo-de-luna-monti/
CATEGORIES:GALPÓN BLANCO. C.C ANDINO
ATTACH;FMTTYPE=image/jpeg:https://cultura.riocuarto.gob.ar/wp-content/uploads/2025/06/cantoras_fedd-e1749649900602.jpg
END:VEVENT
BEGIN:VEVENT
DTSTART;VALUE=DATE:20250705
DTEND;VALUE=DATE:20250706
DTSTAMP:20260422T125325
CREATED:20250522T132703Z
LAST-MODIFIED:20250630T144633Z
UID:6518-1751673600-1751759999@cultura.riocuarto.gob.ar
SUMMARY:SOBREDOSIS DE SODA
DESCRIPTION:Sábado 5 de julio. Viejo Mercado. 21hs. Entradas: $40000-35000 \nSe presenta en la ciudad Sobredosis de Soda\, la banda tributo oficial más destacada de Latinoamérica\, que sigue conquistando corazones y escenarios con su impecable homenaje a Soda Stereo. En 2025\, el grupo celebra dos décadas de trayectoria\, consolidándose como el puente perfecto entre la esencia de una de las bandas más icónicas del rock en español y nuevas generaciones de fanáticos. Un show que revive la leyenda\, Sobredosis de Soda no es solo un tributo; es una experiencia única. Su puesta en escena\, meticulosamente cuidada\, transporta al público a los años dorados de Soda Stereo. Con un repertorio que incluye himnos como De Música Ligera\, Persiana Americana y Cuando Pase el Temblor\, la banda captura cada acorde\, cada verso y cada emoción con una pasión y precisión que hacen vibrar a todos los presentes. \nSobredosis de Soda ha recorrido escenarios en países como Chile\, Uruguay\, México y Colombia\, consolidándose como un referente del legado de Soda Stereo. Su misión es clara: mantener viva la música que marcó una época y que sigue siendo una influencia para millones.
URL:https://cultura.riocuarto.gob.ar/event/sobredosis-de-soda/
CATEGORIES:VIEJO MERCADO
ATTACH;FMTTYPE=image/png:https://cultura.riocuarto.gob.ar/wp-content/uploads/2025/05/sobredosis_feed-e1747920409179.png
END:VEVENT
BEGIN:VEVENT
DTSTART;VALUE=DATE:20250705
DTEND;VALUE=DATE:20250706
DTSTAMP:20260422T125325
CREATED:20250630T143110Z
LAST-MODIFIED:20250630T143110Z
UID:7215-1751673600-1751759999@cultura.riocuarto.gob.ar
SUMMARY:INSTITUTO VITILLO ABALOS: TIERRA DE AGUA
DESCRIPTION:Sábado 5 de julio. Teatro Municipal. 21hs. Entrada gral. $8000 \nEl Instituto Vitillo Abalos presenta Tierra de Agua\, un espectáculo que refleja a través de danzas\, música y canto el compromiso de respeto hacia nuestra madre naturaleza\, hacia nuestra Pachamama. Es esta oportunidad el tema abordado es el agua\, elemento vital. \nCon elencos del instituto recorreremos nuestra tierra argentina con canciones\, letras y movimientos que nos cuentan historias\, secretos y necesidades del agua.
URL:https://cultura.riocuarto.gob.ar/event/instituto-vitillo-abalos-tierra-de-agua/
CATEGORIES:TEATRO MUNICIPAL
ATTACH;FMTTYPE=image/png:https://cultura.riocuarto.gob.ar/wp-content/uploads/2025/06/feed_tierraAgua-e1751293849925.png
END:VEVENT
BEGIN:VEVENT
DTSTART;VALUE=DATE:20250705
DTEND;VALUE=DATE:20250706
DTSTAMP:20260422T125325
CREATED:20250704T130036Z
LAST-MODIFIED:20250704T130036Z
UID:7438-1751673600-1751759999@cultura.riocuarto.gob.ar
SUMMARY:FESTI DE SONIDO EN EL OJO
DESCRIPTION:Sábado 5 de julio. Desde las 18hs. C.C. Ojo de Barro (Bolívar 373) \nSe realiza el festival con feria con las actuaciones en vivo de Rocket Jam\, Ledmi\, Sazón Funk\, Amigo Piedra (Cba)\, Molly\, Volárbol y Av. de los Incas.
URL:https://cultura.riocuarto.gob.ar/event/festi-de-sonido-en-el-ojo/
CATEGORIES:OJO DE BARRO
ATTACH;FMTTYPE=image/jpeg:https://cultura.riocuarto.gob.ar/wp-content/uploads/2025/07/Festi-sonido-e1751634028201.jpg
END:VEVENT
BEGIN:VEVENT
DTSTART;VALUE=DATE:20250706
DTEND;VALUE=DATE:20250707
DTSTAMP:20260422T125325
CREATED:20250701T203028Z
LAST-MODIFIED:20250701T203104Z
UID:7251-1751760000-1751846399@cultura.riocuarto.gob.ar
SUMMARY:BANCA AL ARTE EN EL TEATRO MUNICIPAL
DESCRIPTION:Domingo 6 de julio – teatro municipal – 18hs. – Entrada libre y gratuita\nEn al continuidad del clásico cíclo local\, se presentan La Cantoría San Ignacio\, Carrizal Duo y Tierra y Tradición
URL:https://cultura.riocuarto.gob.ar/event/banca-al-arte-en-el-teatro-municipal/
LOCATION:teatro municipal\, Constitución 945\, Río Cuarto\, CÓRDOBA\, Argentina
CATEGORIES:TEATRO MUNICIPAL
ATTACH;FMTTYPE=image/jpeg:https://cultura.riocuarto.gob.ar/wp-content/uploads/2025/07/Imagen-de-WhatsApp-2025-07-01-a-las-14.58.35_1652c652-e1751401854446.jpg
END:VEVENT
BEGIN:VEVENT
DTSTART;VALUE=DATE:20250708
DTEND;VALUE=DATE:20250709
DTSTAMP:20260422T125325
CREATED:20250704T154637Z
LAST-MODIFIED:20250704T154637Z
UID:7441-1751932800-1752019199@cultura.riocuarto.gob.ar
SUMMARY:VELADA DE GALA DÍA DE LA INDEPENDENCIA
DESCRIPTION:Martes 8 de julio. Teatro Municipal. 21hs. Entrada gratuita (Retirar en boletería del teatro) \nSe realiza la tradicional Velada de Gala por el 9 de julio con la actuación del reconocido grupo folclórico Ceibo de la localidad de Cosquín.
URL:https://cultura.riocuarto.gob.ar/event/velada-de-gala-dia-de-la-independencia/
CATEGORIES:TEATRO MUNICIPAL
ATTACH;FMTTYPE=image/png:https://cultura.riocuarto.gob.ar/wp-content/uploads/2025/07/feed_8julio-e1751643987862.png
END:VEVENT
BEGIN:VEVENT
DTSTART;VALUE=DATE:20250710
DTEND;VALUE=DATE:20250711
DTSTAMP:20260422T125325
CREATED:20250707T154758Z
LAST-MODIFIED:20250707T154758Z
UID:7512-1752105600-1752191999@cultura.riocuarto.gob.ar
SUMMARY:INSTITUTO DE ARTES FOLKLÓRICO VITILLO ABALOS
DESCRIPTION:Jueves 10 de julio. Teatrino de la Trapalanda. 21hs. Entrada gral. $7000. \nEl Instituto de Artes Folklórico Vitillo Abalos presenta la obra colectiva de alumnos Jolibud.
URL:https://cultura.riocuarto.gob.ar/event/instituto-de-artes-folklorico-vitillo-abalos/
CATEGORIES:TEATRINO
ATTACH;FMTTYPE=image/jpeg:https://cultura.riocuarto.gob.ar/wp-content/uploads/2025/07/Jolibud-e1751903271157.jpg
END:VEVENT
BEGIN:VEVENT
DTSTART;VALUE=DATE:20250710
DTEND;VALUE=DATE:20250711
DTSTAMP:20260422T125325
CREATED:20250707T155156Z
LAST-MODIFIED:20250707T155156Z
UID:7515-1752105600-1752191999@cultura.riocuarto.gob.ar
SUMMARY:CICLO DE TANGO EN EL GALPÓN DEL 2X4
DESCRIPTION:Jueves 10 de julio. Galpón Blanco C.C. Andino. 20.30hs. Entrada gratuita. Ambiente climatizado. \nContinúa el ciclo tanguero con las voces de Juan Carlos Rodríguez\, Juan Carlos Ameri\, Leonela Libardi\, Megale-Dicola (Dúo)\, Said Safadi\, Roberto Gogiano\, Pancho Parra\, Héctor Beguet y Oscar Casari\, acompañados de los músicos Pablo Patta en piano y Juan Carlos Zabala en guitarra.
URL:https://cultura.riocuarto.gob.ar/event/ciclo-de-tango-en-el-galpon-del-2x4-2/
CATEGORIES:GALPÓN BLANCO. C.C ANDINO
ATTACH;FMTTYPE=image/png:https://cultura.riocuarto.gob.ar/wp-content/uploads/2025/07/tango2x4-e1751903503785.png
END:VEVENT
BEGIN:VEVENT
DTSTART;VALUE=DATE:20250711
DTEND;VALUE=DATE:20250713
DTSTAMP:20260422T125325
CREATED:20250710T124151Z
LAST-MODIFIED:20250710T124151Z
UID:7598-1752192000-1752364799@cultura.riocuarto.gob.ar
SUMMARY:ROCK EN EL OJO X 2
DESCRIPTION:Este fin de semana suena doble propuesta rockera en el C.C. Ojo de Barro (Bolívar 373): \nViernes 11 de julio. 21hs. Noche de Barro con la actuación en vivo de las bandas Kanek (Neuquén)\, Pale y Ruido Triste. Entrada gral. $5000. \n \nSábado 12 de julio. 21hs. Cría Quimeras Vol. VI con la presentación en vivo de los grupos Moreno\, Mantarraya\, Baphometa (Bs.As.)\, El Mal Humano (Bs. As.) y Santa Hipocresía. Anticipadas $5000.
URL:https://cultura.riocuarto.gob.ar/event/rock-en-el-ojo-x-2-3/
ATTACH;FMTTYPE=image/jpeg:https://cultura.riocuarto.gob.ar/wp-content/uploads/2025/07/Ojo-viernes-e1752150857393.jpeg
END:VEVENT
BEGIN:VEVENT
DTSTART;VALUE=DATE:20250712
DTEND;VALUE=DATE:20250713
DTSTAMP:20260422T125325
CREATED:20250704T160711Z
LAST-MODIFIED:20250704T160711Z
UID:7444-1752278400-1752364799@cultura.riocuarto.gob.ar
SUMMARY:FERIA DE VINILOS
DESCRIPTION:Sábado 12 de julio. Galpón Blanco del Andino. De 15 a 20hs. Entrada gratuita \nSe realiza la 18ª edición de la feria de compra-venta y canje de vinilos\, cd\, dvd y cassettes. Revistas\, posters\, libros y stickers. Con expositores de todo el país. DJ’s en vivo.
URL:https://cultura.riocuarto.gob.ar/event/feria-de-vinilos-2/
CATEGORIES:GALPÓN BLANCO. C.C ANDINO
ATTACH;FMTTYPE=image/jpeg:https://cultura.riocuarto.gob.ar/wp-content/uploads/2025/07/Vinilos-e1751645226763.jpeg
END:VEVENT
BEGIN:VEVENT
DTSTART;VALUE=DATE:20250718
DTEND;VALUE=DATE:20250719
DTSTAMP:20260422T125325
CREATED:20250702T004729Z
LAST-MODIFIED:20250703T141623Z
UID:7350-1752796800-1752883199@cultura.riocuarto.gob.ar
SUMMARY:GRAN PEÑA AMIGA
DESCRIPTION:VIERNES 18 DE JULIO 21hs. EN EL GALPÓN BLANCO DEL ANDINO – ANTIS: $ 8000 \nparticipación de Emiliano Zerbibi y otros artistas invitados \nPuntos de venta Alberdi 145 (Club Gorriones) Lunes a Jueves de 18hs. a 22hs. \nhttps://cultura.riocuarto.gob.ar/wp-content/uploads/2025/07/Video-de-WhatsApp-2025-07-03-a-las-11.11.22_2fa3ecc6.mp4
URL:https://cultura.riocuarto.gob.ar/event/gran-pena-amiga/
ATTACH;FMTTYPE=image/jpeg:https://cultura.riocuarto.gob.ar/wp-content/uploads/2025/07/Imagen-de-WhatsApp-2025-07-01-a-las-21.26.32_5dfb2464.jpg
END:VEVENT
BEGIN:VEVENT
DTSTART;VALUE=DATE:20250719
DTEND;VALUE=DATE:20250720
DTSTAMP:20260422T125325
CREATED:20250716T003901Z
LAST-MODIFIED:20250716T003901Z
UID:7715-1752883200-1752969599@cultura.riocuarto.gob.ar
SUMMARY:ROCK EN EL GALPÓN!
DESCRIPTION:Pasarela Gótica Vinilo Club Reyna Calavera Sábado 19 de Julio.\n20hs. Galpón Blanco Entrada gratuita.
URL:https://cultura.riocuarto.gob.ar/event/rock-en-el-galpon/
CATEGORIES:GALPÓN BLANCO. C.C ANDINO
ATTACH;FMTTYPE=image/jpeg:https://cultura.riocuarto.gob.ar/wp-content/uploads/2025/07/Imagen-de-WhatsApp-2025-07-15-a-las-19.36.23_7e020b5f.jpg
END:VEVENT
BEGIN:VEVENT
DTSTART;VALUE=DATE:20250720
DTEND;VALUE=DATE:20250721
DTSTAMP:20260422T125325
CREATED:20250716T003638Z
LAST-MODIFIED:20250716T003638Z
UID:7712-1752969600-1753055999@cultura.riocuarto.gob.ar
SUMMARY:BANCA EL ARTE
DESCRIPTION:Banca al Arte. \nDomingo 20 de julio. \n 18 horas \nTeatro Municipal “Carlos A. Granado”. \nSe realizará una nueva edición de Banca al Arte\, que se ofrece como es habitual con entrada libre y gratuita. \nEl programa destaca la presentación de su trabajo titulado “Mi sentir”\, un desarrllo para mostrar canciones ligadas a la danza representativas de distintas regiones del país. \nPara ese recital comentado contará con la presentación de Silvina Chialvo acompañada por Gabriel Speziale en violín\, Renzo Rodríguez y Alejandro Quiroga en guitarra y de Nahuel Cisneros en percusión. \nOtra atracción del encuentro es la presentación de Santiago Gerasimchuk y de su abuelo\, Oscar “Cacho” Di Tocco\, bandoneonistas ambos acompañados por Alejandro Quiroga en guitarra. \nParte de una familia de músicos\, nieto y abuelo subirán por primera vez juntos a un escenarios para expresar esa cadena de amor por la música expresada a través de un variado repertorio. \nLa tercera atracción del programa será la visita de la Escuela de Danzas “El Rocío” que viene desarrollando una tarea de formación en la danza para niñas muy pequeñas. \nPresentarán trabajos coreográficos surgidos del repertorio que han llevado por diversos escenarios bajo conducción de Verónica Fernández preparadora junto a Morena Acosta.
URL:https://cultura.riocuarto.gob.ar/event/banca-el-arte/
CATEGORIES:TEATRO MUNICIPAL
ATTACH;FMTTYPE=image/jpeg:https://cultura.riocuarto.gob.ar/wp-content/uploads/2025/07/Imagen-de-WhatsApp-2025-07-15-a-las-19.33.51_f847ce2b.jpg
END:VEVENT
BEGIN:VEVENT
DTSTART;VALUE=DATE:20250724
DTEND;VALUE=DATE:20250725
DTSTAMP:20260422T125325
CREATED:20250623T143744Z
LAST-MODIFIED:20250625T142323Z
UID:7135-1753315200-1753401599@cultura.riocuarto.gob.ar
SUMMARY:HILDA CANTA CHARLY 2: GIRA DESPEDIDA
DESCRIPTION:Jueves 24 de julio. Teatro Municipal. 21hs. Entradas: $49500-38500-27000 \nLa cantante Hilda Lizarazu vuelve a la ciudad con Enmascarando el fin\, gira despedida de su notable concierto homenaje a Charly García\, titulado “Hilda Canta Charly”. Con dirección musical de Lito Vitale\, el espectáculo recorre la obra de Charly García desde la mirada de quien fuera su vocalista\, colaboradora y compañera de escenario en distintas etapas. Lizarazu interpreta clásicos del repertorio de García con una nueva sensibilidad.
URL:https://cultura.riocuarto.gob.ar/event/hilda-canta-charly-2-gira-despedida/
CATEGORIES:TEATRO MUNICIPAL
ATTACH;FMTTYPE=image/png:https://cultura.riocuarto.gob.ar/wp-content/uploads/2025/06/feed_hilda-e1750689439862.png
END:VEVENT
BEGIN:VEVENT
DTSTART;VALUE=DATE:20250724
DTEND;VALUE=DATE:20250725
DTSTAMP:20260422T125325
CREATED:20250721T151844Z
LAST-MODIFIED:20250721T151844Z
UID:7890-1753315200-1753401599@cultura.riocuarto.gob.ar
SUMMARY:CICLO DE TANGO EN EL GALPÓN DEL 2X4
DESCRIPTION:Jueves 24 de julio. Galpón Blanco del Andino. 20.30hs. Entrada gratuita. Ambiente climatizado. \nEn la continuidad del ciclo tanguero\, se presentan las voces de Carlos Palacios\, Seide Ceresole\, Jorge Sánchez\, Marcelo Griffa\, Jorge Maldonado\, Nino Canonero\, Hector Beguet y Aldo Di Cola\, acompañados por los músicos Pablo Patta en piano y Juan Zabala en guitarra.
URL:https://cultura.riocuarto.gob.ar/event/ciclo-de-tango-en-el-galpon-del-2x4-3/
CATEGORIES:GALPÓN BLANCO. C.C ANDINO
ATTACH;FMTTYPE=image/jpeg:https://cultura.riocuarto.gob.ar/wp-content/uploads/2025/07/Tango-e1753111101561.jpeg
END:VEVENT
BEGIN:VEVENT
DTSTART;VALUE=DATE:20250725
DTEND;VALUE=DATE:20250727
DTSTAMP:20260422T125325
CREATED:20250724T123811Z
LAST-MODIFIED:20250724T123811Z
UID:7919-1753401600-1753574399@cultura.riocuarto.gob.ar
SUMMARY:ROCK EN EL OJO X 2
DESCRIPTION:Este fin de semana suena doble propuesta rockera en el C.C. Ojo de Barro (Bolívar 373): el viernes 25 de julio desde las 22.30hs. suena Ruido Humano Rock con las bandas Verona Stress\, Hombres Simulados\, Farsantes y Miyelfaifer. Anticipadas $5000\, en puerta $6000. \n \nEl sábado 26 de julio desde las 23hs. se lleva a cabo el Hell Metal Fest Vol. 5 con las actuaciones de Hell Colapse\, Post Eme (Cba) y Máscara de Demetrio. Anticipadas $5000\, en puerta $7000.
URL:https://cultura.riocuarto.gob.ar/event/rock-en-el-ojo-x-2-4/
CATEGORIES:OJO DE BARRO
ATTACH;FMTTYPE=image/jpeg:https://cultura.riocuarto.gob.ar/wp-content/uploads/2025/07/Viernes-ojo-e1753360619672.jpeg
END:VEVENT
BEGIN:VEVENT
DTSTART;VALUE=DATE:20250726
DTEND;VALUE=DATE:20250727
DTSTAMP:20260422T125325
CREATED:20250710T143315Z
LAST-MODIFIED:20250710T152346Z
UID:7632-1753488000-1753574399@cultura.riocuarto.gob.ar
SUMMARY:VALERY: UNA VOZ\, UN SUEÑO
DESCRIPTION:Sábado 26 de julio. Teatrino de la Trapalanda. 20hs. Entrada gral. $5000. \nLa cantante local Valery presenta su espectáculo Una voz\, un sueño\, 22 años de canciones\, cantando con el alma y por la memoria de quienes soñaron antes que ella. Con la participación de artistas Invitados: Danny Antuña\, Jimena Riquelme\, Natalia Felici\, Ezequiel Galarza y Marcela Cuello.
URL:https://cultura.riocuarto.gob.ar/event/valeri-una-voz-un-sueno/
CATEGORIES:TEATRINO
ATTACH;FMTTYPE=image/jpeg:https://cultura.riocuarto.gob.ar/wp-content/uploads/2025/07/valery_fedd-e1752157985636.jpg
END:VEVENT
BEGIN:VEVENT
DTSTART;VALUE=DATE:20250730
DTEND;VALUE=DATE:20250731
DTSTAMP:20260422T125325
CREATED:20250724T125812Z
LAST-MODIFIED:20250724T125812Z
UID:7923-1753833600-1753919999@cultura.riocuarto.gob.ar
SUMMARY:LATINOAMERICA SINFONICA
DESCRIPTION:Miércoles 30 de julio. Teatro Municipal. 21hs. Entrada gral. $6000 \nLa Orquesta Filarmónica Río Cuarto\, dirigida por el profesor Eduardo Lhez\, presenta el concierto Latinoamérica Sinfónica\, un repertorio compuesto por obras de autores latinoamericanos como Revueltas\, Márquez\, Ginastera\, Moncayo y otros\, con la intención de invitar al público a disfrutar de la música de América Latina con su riqueza y variedad rítmica. \nLa Orquesta Filarmónica reúne a la Orquesta Municipal\, con docentes y estudiantes del Conservatorio Julián Aguirre y músicos locales invitados quienes bajo la Dirección del Eduardo Lhez proponen\, desde su creación\, un formato sinfónico único en la ciudad con variados repertorios.
URL:https://cultura.riocuarto.gob.ar/event/latinoamerica-sinfonica/
CATEGORIES:TEATRO MUNICIPAL
ATTACH;FMTTYPE=image/png:https://cultura.riocuarto.gob.ar/wp-content/uploads/2025/07/filarmonica-e1753361872675.png
END:VEVENT
END:VCALENDAR