BEGIN:VCALENDAR
VERSION:2.0
PRODID:-//Cultura Río Cuarto - ECPv6.15.20//NONSGML v1.0//EN
CALSCALE:GREGORIAN
METHOD:PUBLISH
X-WR-CALNAME:Cultura Río Cuarto
X-ORIGINAL-URL:https://cultura.riocuarto.gob.ar
X-WR-CALDESC:Eventos para Cultura Río Cuarto
REFRESH-INTERVAL;VALUE=DURATION:PT1H
X-Robots-Tag:noindex
X-PUBLISHED-TTL:PT1H
BEGIN:VTIMEZONE
TZID:America/Argentina/Cordoba
BEGIN:STANDARD
TZOFFSETFROM:-0300
TZOFFSETTO:-0300
TZNAME:-03
DTSTART:20240101T000000
END:STANDARD
END:VTIMEZONE
BEGIN:VEVENT
DTSTART;VALUE=DATE:20251204
DTEND;VALUE=DATE:20251205
DTSTAMP:20260424T091944
CREATED:20251201T162512Z
LAST-MODIFIED:20251201T162512Z
UID:10654-1764806400-1764892799@cultura.riocuarto.gob.ar
SUMMARY:LA GUL ROCKHOUSE
DESCRIPTION:Jueves 4 de diciembre. Teatrino de la Trapalanda. 20.30hs. Entrada gral. $12.000 \nLa academia de música local presenta la Audición de Fin de Año. \n“Audición de estudiantes de La Gul Rockhouse\, una invitación a ser parte de un concierto lleno de emociones\, dónde la música nos une y nos llena de energía para seguir aprendiendo y creando”.
URL:https://cultura.riocuarto.gob.ar/event/la-gul-rockhouse/
CATEGORIES:TEATRINO
ATTACH;FMTTYPE=image/jpeg:https://cultura.riocuarto.gob.ar/wp-content/uploads/2025/12/La-Gul-e1764606305390.jpg
END:VEVENT
BEGIN:VEVENT
DTSTART;VALUE=DATE:20251205
DTEND;VALUE=DATE:20251206
DTSTAMP:20260424T091944
CREATED:20251201T161538Z
LAST-MODIFIED:20251201T161538Z
UID:10636-1764892800-1764979199@cultura.riocuarto.gob.ar
SUMMARY:THE BEATLES-TRIBUTO SINFÓNICO
DESCRIPTION:Viernes 5 de diciembre. Teatro Municipal. 21hs. Entrada gral. $8.000 \nLa Orquesta Filarmónica de Río Cuarto\, dirigida por el Eduardo Lhez\, presenta All you need is love\, un espectáculo imperdible de música de Los Beatles en formato Sinfónico. Los clásicos de siempre adaptados a este formato por el prof. Diego Seitz y con el guitarrista Antonio “Pichi” Pérez como música invitado\, además de Sebastián Tornatore.
URL:https://cultura.riocuarto.gob.ar/event/the-beatles-tributo-sinfonico/
CATEGORIES:TEATRO MUNICIPAL
ATTACH;FMTTYPE=image/png:https://cultura.riocuarto.gob.ar/wp-content/uploads/2025/12/Beatles-Sinfonico-e1764605727221.png
END:VEVENT
BEGIN:VEVENT
DTSTART;VALUE=DATE:20251205
DTEND;VALUE=DATE:20251206
DTSTAMP:20260424T091944
CREATED:20251202T121952Z
LAST-MODIFIED:20251202T121952Z
UID:10666-1764892800-1764979199@cultura.riocuarto.gob.ar
SUMMARY:PEÑA DE LA RAÍZ AL CORAZÓN
DESCRIPTION:Viernes 5 de diciembre. Galpón Blanco del Andino. 21hs. Entrada gratuita. \nEn la continuidad de la peña folklórica local se presentan De Amanecidas. Andrés Prado y sus cumpas. Danzas: Leandro Elizondo y Florencia Alcaraz. Marcha de los Bombos a cargo de Marcelo Iruata. Servicio de cantina.
URL:https://cultura.riocuarto.gob.ar/event/pena-de-la-raiz-al-corazon-10/
CATEGORIES:GALPÓN BLANCO. C.C ANDINO
ATTACH;FMTTYPE=image/png:https://cultura.riocuarto.gob.ar/wp-content/uploads/2025/12/Pena-raiz-e1764677981312.png
END:VEVENT
BEGIN:VEVENT
DTSTART;VALUE=DATE:20251206
DTEND;VALUE=DATE:20251207
DTSTAMP:20260424T091944
CREATED:20251203T143120Z
LAST-MODIFIED:20251203T143120Z
UID:10675-1764979200-1765065599@cultura.riocuarto.gob.ar
SUMMARY:Rock en el Ojo
DESCRIPTION:Sábado 6 de diciembre. Ojo de Barro (Bolívar 373). 22hs. Anticipadas $6000 \nSe realiza el festival Cría Quimeras Vol IX\, con las actuaciones en vivo de las banas Cult Cryp\, Undergrones\, Los Muertos (Cba) y Demonator.
URL:https://cultura.riocuarto.gob.ar/event/rock-en-el-ojo-11/
CATEGORIES:OJO DE BARRO
ATTACH;FMTTYPE=image/jpeg:https://cultura.riocuarto.gob.ar/wp-content/uploads/2025/12/Ojo-saba.jpeg
END:VEVENT
BEGIN:VEVENT
DTSTART;VALUE=DATE:20251211
DTEND;VALUE=DATE:20251212
DTSTAMP:20260424T091944
CREATED:20251204T153742Z
LAST-MODIFIED:20251204T153742Z
UID:10704-1765411200-1765497599@cultura.riocuarto.gob.ar
SUMMARY:INSTITUTO VITILLOS ABALOS
DESCRIPTION:Jueves 11 de diciembre. Viejo Mercado. 18.30hs. Entrada gral. $10.000 \nGala de alumnos: Muestra integral de los diferentes elencos y talleres que se dictan en la institución y que mostrarán en el escenario todo el trabajo de un año: Acordeón\, Guitarra\, Piano\, Danza contemporánea y Folklore de niños\, jóvenes y adultos.
URL:https://cultura.riocuarto.gob.ar/event/instituto-vitillos-abalos/
CATEGORIES:VIEJO MERCADO
ATTACH;FMTTYPE=image/png:https://cultura.riocuarto.gob.ar/wp-content/uploads/2025/12/Inst-Vitillo-Abalos-e1764862638568.png
END:VEVENT
BEGIN:VEVENT
DTSTART;VALUE=DATE:20251211
DTEND;VALUE=DATE:20251212
DTSTAMP:20260424T091944
CREATED:20251209T153803Z
LAST-MODIFIED:20251209T153803Z
UID:10802-1765411200-1765497599@cultura.riocuarto.gob.ar
SUMMARY:DÍA NACIONAL DEL TANGO
DESCRIPTION:Jueves 11 de diciembre. Salón Blanco del Palacio Municipal y Conservatorio Julián Aguirre \nCon el objetivo de poner en valor a los artistas locales y su contribución a la cultura tanguera\, se realizan los festejos en el marco del Día Nacional del Tango. \nA las 12hs\, en el Salón Blanco del Palacio Municipal\, se realiza un reconocimiento a los artistas locales bajo el nombre “Orgullo Tanguero Riocuartense”. \nA partir de las 19hs\, en las instalaciones del Conservatorio de Música Julián Aguirre\, se realiza la función Gala del 2×4\, con la actuación musical de La Orquesta Típica Fandango\, dirigida por Diego Seitz.
URL:https://cultura.riocuarto.gob.ar/event/dia-nacional-del-tango/
CATEGORIES:SALÓN BLANCO DEL PALACIO MUNICIPAL
ATTACH;FMTTYPE=image/jpeg:https://cultura.riocuarto.gob.ar/wp-content/uploads/2025/12/4f2eb9ee-af57-4a13-9a49-511114e403e9-e1765294671613.jpg
END:VEVENT
BEGIN:VEVENT
DTSTART;VALUE=DATE:20251211
DTEND;VALUE=DATE:20251212
DTSTAMP:20260424T091944
CREATED:20251209T154013Z
LAST-MODIFIED:20251209T154013Z
UID:10805-1765411200-1765497599@cultura.riocuarto.gob.ar
SUMMARY:NOTA LIBRE
DESCRIPTION:Jueves 11 de diciembre. Teatrino de la Trapalanda. 20hs. Entrada gral. $12.000. \nAudición de los alumnos de la escuela del profesor Federico Vergnano.
URL:https://cultura.riocuarto.gob.ar/event/nota-libre-3/
CATEGORIES:TEATRINO
ATTACH;FMTTYPE=image/jpeg:https://cultura.riocuarto.gob.ar/wp-content/uploads/2025/12/NOTALIBRE_FEDD-e1765294802539.jpg
END:VEVENT
BEGIN:VEVENT
DTSTART;VALUE=DATE:20251213
DTEND;VALUE=DATE:20251214
DTSTAMP:20260424T091944
CREATED:20251204T152322Z
LAST-MODIFIED:20251204T152322Z
UID:10698-1765584000-1765670399@cultura.riocuarto.gob.ar
SUMMARY:MILONGA DEL RIEL
DESCRIPTION:Sábado 13 de diciembre. Galpón Blanco del Andino. 23hs. Anticipadas: 3585133454-358 4865253. Consultas 3584187239 \nEn el marco de los festejos por el Día Nacional del tango se realiza la última Milonga del año\, en su edición número 18. Estarán presentes los elencos de tango de la UNRC y del Instituto Vitillo Abalos. Docentes: Delvis Iglesias\, Luciana Mussi y Fabián Giusiano. Tdj Gabriel La Rosa. Coordina: Laureano Cobos. Esmerado Servicio de cantina.
URL:https://cultura.riocuarto.gob.ar/event/milonga-del-riel-7/
CATEGORIES:GALPÓN BLANCO. C.C ANDINO
ATTACH;FMTTYPE=image/png:https://cultura.riocuarto.gob.ar/wp-content/uploads/2025/12/Milonga-e1764861767929.png
END:VEVENT
BEGIN:VEVENT
DTSTART;VALUE=DATE:20251213
DTEND;VALUE=DATE:20251214
DTSTAMP:20260424T091944
CREATED:20251209T161444Z
LAST-MODIFIED:20251209T161444Z
UID:10823-1765584000-1765670399@cultura.riocuarto.gob.ar
SUMMARY:MILONGA DEL RIEL
DESCRIPTION:Sábado 13 de diciembre. Galpón Blanco del Andino. 23hs. Anticipadas: 3585133454-358 4865253. Consultas 3584187239 \nEn el marco de los festejos por el Día Nacional del tango se realiza la última Milonga del año\, en su edición número 18. Estarán presentes los elencos de tango de la UNRC y del Instituto Vitillo Abalos. Docentes: Delvis Iglesias\, Luciana Mussi y Fabián Giusiano. Tdj Gabriel La Rosa. Coordina: Laureano Cobos. Esmerado Servicio de cantina.
URL:https://cultura.riocuarto.gob.ar/event/milonga-del-riel-8/
CATEGORIES:GALPÓN BLANCO. C.C ANDINO
ATTACH;FMTTYPE=image/jpeg:https://cultura.riocuarto.gob.ar/wp-content/uploads/2025/12/b8f76d13-582c-4c57-9e08-be38e500c4bc-e1765296875936.jpg
END:VEVENT
BEGIN:VEVENT
DTSTART;VALUE=DATE:20251214
DTEND;VALUE=DATE:20251215
DTSTAMP:20260424T091944
CREATED:20251204T151810Z
LAST-MODIFIED:20251204T151810Z
UID:10695-1765670400-1765756799@cultura.riocuarto.gob.ar
SUMMARY:PENTAGRAMA
DESCRIPTION:Domingo 14 de diciembre. Teatrino de la Trapalanda. 21hs. Entrada general $10.000. \nPresentación de la muestra anual de Pentagrama\, Escuela de Tecladistas y Pianistas. Profesor y director Daniel Requena.
URL:https://cultura.riocuarto.gob.ar/event/pentagrama/
CATEGORIES:TEATRINO
ATTACH;FMTTYPE=image/jpeg:https://cultura.riocuarto.gob.ar/wp-content/uploads/2025/12/PENTAGRAMA-e1764861475966.jpg
END:VEVENT
BEGIN:VEVENT
DTSTART;VALUE=DATE:20251216
DTEND;VALUE=DATE:20251217
DTSTAMP:20260424T091944
CREATED:20251215T184430Z
LAST-MODIFIED:20251215T184430Z
UID:10857-1765843200-1765929599@cultura.riocuarto.gob.ar
SUMMARY:GRUPO DEL SUR
DESCRIPTION:Martes 16 de diciembre. Teatro Municipal. 20hs. Entradas: $17.000-15.000-$13.000 \nLa academia local presenta la Es nuestra voz\, muestra de alumnos de comedia musical de la\nescuela de comedia: “Una Sorpresa Musical. ¡Una explosión de talento en escena! Los grupos\njóvenes\, adultos e infantil de la escuela Unidos\, presentan su Muestra Anual con actuaciones\,\ncoreografías y canciones que celebran un año de aprendizaje y de creación colectiva. Desde\nBroadway hasta composiciones originales\, cada número es una joya. Una cita imperdible para\nemocionarse y aplaudir el arte en su forma más pura. El aprendizaje de la Comedia Musical es\nun viaje transformador donde el canto\, la actuación y el baile se amalgaman para ofrecernos\nun espectáculo que moviliza las emociones”. Con coreografías de Lucía Castro. \nDirigido por Santiago Oga y Patricio López Tobares.
URL:https://cultura.riocuarto.gob.ar/event/grupo-del-sur-3/
CATEGORIES:TEATRO MUNICIPAL
ATTACH;FMTTYPE=image/jpeg:https://cultura.riocuarto.gob.ar/wp-content/uploads/2025/12/1000606920-e1765824191137.jpg
END:VEVENT
BEGIN:VEVENT
DTSTART;VALUE=DATE:20251216
DTEND;VALUE=DATE:20251217
DTSTAMP:20260424T091944
CREATED:20251215T184626Z
LAST-MODIFIED:20251215T184649Z
UID:10875-1765843200-1765929599@cultura.riocuarto.gob.ar
SUMMARY:VITTORIA MODELS
DESCRIPTION:Martes 16 de diciembre. Teatrino de la Trapalanda. 20.30hs. Entrada: un litro de leche que\nserá destinado a un Centro Comunitario.\nSe realiza VM19 Aniversario Vittoria Models (Moda Música Arte)
URL:https://cultura.riocuarto.gob.ar/event/vittoria-models/
CATEGORIES:TEATRINO
ATTACH;FMTTYPE=image/jpeg:https://cultura.riocuarto.gob.ar/wp-content/uploads/2025/12/1000606921-1-e1765824317661.jpg
END:VEVENT
BEGIN:VEVENT
DTSTART;VALUE=DATE:20251217
DTEND;VALUE=DATE:20251218
DTSTAMP:20260424T091944
CREATED:20251215T184822Z
LAST-MODIFIED:20251215T184843Z
UID:10877-1765929600-1766015999@cultura.riocuarto.gob.ar
SUMMARY:ESCUELA DE BATERÍA HERNÁN TENREYRO
DESCRIPTION:Miércoles 17 de diciembre. Teatrino de la Trapalanda. 21hs. Entrada gral. $9.000.\nMuestra anual de los alumnos de la escuela de música local.
URL:https://cultura.riocuarto.gob.ar/event/escuela-de-bateria-hernan-tenreyro-2/
CATEGORIES:TEATRINO
ATTACH;FMTTYPE=image/jpeg:https://cultura.riocuarto.gob.ar/wp-content/uploads/2025/12/1000606922-e1765824513144.jpg
END:VEVENT
BEGIN:VEVENT
DTSTART;VALUE=DATE:20251217
DTEND;VALUE=DATE:20251218
DTSTAMP:20260424T091944
CREATED:20251215T185048Z
LAST-MODIFIED:20251215T185048Z
UID:10879-1765929600-1766015999@cultura.riocuarto.gob.ar
SUMMARY:NOTA LIBRE
DESCRIPTION:Miércoles 17 de diciembre. Viejo Mercado. 20hs. Entrada gral. $12.000\nAudición de la escuela de música local. “El espectáculo reunirá a diversos ensambles formados\npor estudiantes de la escuela\, quienes ofrecerán un recorrido por unas treinta obras\ncuidadosamente preparadas a lo largo del año”.
URL:https://cultura.riocuarto.gob.ar/event/nota-libre-4/
ATTACH;FMTTYPE=image/jpeg:https://cultura.riocuarto.gob.ar/wp-content/uploads/2025/12/1000606923-e1765824581328.jpg
END:VEVENT
BEGIN:VEVENT
DTSTART;VALUE=DATE:20251221
DTEND;VALUE=DATE:20251222
DTSTAMP:20260424T091944
CREATED:20251215T193611Z
LAST-MODIFIED:20251215T194142Z
UID:10904-1766275200-1766361599@cultura.riocuarto.gob.ar
SUMMARY:CONCIERTO DE FIN DE AÑO: IN PARADISUM
DESCRIPTION:Domingo 21 de diciembre. Iglesia San Francisco. 21hs. Entrada gratuita.\nLa Orquesta de Cámara Municipal de Río Cuarto y Coro Polifónico Municipal de Río Cuarto\,\nbajo la dirección de Eduardo Lhez\, con la participación de la solista Valeria Alcántara y músicos\ninvitados\, realiza el concierto para despedir el 2025.
URL:https://cultura.riocuarto.gob.ar/event/concierto-de-fin-de-ano-in-paradisum/
CATEGORIES:IGLESIA SAN FRANCISCO
ATTACH;FMTTYPE=image/jpeg:https://cultura.riocuarto.gob.ar/wp-content/uploads/2025/12/IMG-20251213-WA0014-e1765827344467.jpg
END:VEVENT
END:VCALENDAR