BEGIN:VCALENDAR
VERSION:2.0
PRODID:-//Cultura Río Cuarto - ECPv6.15.20//NONSGML v1.0//EN
CALSCALE:GREGORIAN
METHOD:PUBLISH
X-ORIGINAL-URL:https://cultura.riocuarto.gob.ar
X-WR-CALDESC:Eventos para Cultura Río Cuarto
REFRESH-INTERVAL;VALUE=DURATION:PT1H
X-Robots-Tag:noindex
X-PUBLISHED-TTL:PT1H
BEGIN:VTIMEZONE
TZID:America/Argentina/Cordoba
BEGIN:STANDARD
TZOFFSETFROM:-0300
TZOFFSETTO:-0300
TZNAME:-03
DTSTART:20230101T000000
END:STANDARD
END:VTIMEZONE
BEGIN:VEVENT
DTSTART;VALUE=DATE:20241129
DTEND;VALUE=DATE:20241201
DTSTAMP:20260424T220958
CREATED:20241124T152222Z
LAST-MODIFIED:20241129T153637Z
UID:1784-1732838400-1733011199@cultura.riocuarto.gob.ar
SUMMARY:ROCK X 2 EN OJO DE BARRO
DESCRIPTION:Este fin de semana doble propuesta en el C.C. Ojo de Barro (Bolívar 373). \nEste viernes 29 de noviembre a las 23hs. con una entrada gral. de $3000\, la banda local Mantarraya presenta Desarmadero. Un desarmadero es un espacio donde lo viejo no termina\, sino que se transforma o se reinventa. Desarmadero es un  laboratorio\,  un espacio diseñado para realizar experimentos\, Mantarraya  reúne a los artistas Freytes\, Mare y Ulcan. Este lugar parte de elementos establecidos\,  observa\, escucha\,  prueba y descubre. \nSegundo Freytes es una artista radicado en Río Cuarto que trabaja desde materiales como maderas y objetos encontrados utilizando la técnica de ensamblaje hacia una búsqueda introspectiva que empuja los límites entre el material artístico y cotidiano. \nCristian Mare es una artista radicado en Córdoba\, utilizando técnicas diversas y materiales reciclados elabora un discurso que irrumpe\, provoca e interpela nuestra relación entre el arte y la materia. \n \nEste sábado 30 de noviembre a las 22hs. con una entrada gral. de $4000 tocan en vivo las bandas Harrison\, Reyna Calavera\, Verona Stress y Chaos Pantheon (Cba).
URL:https://cultura.riocuarto.gob.ar/event/rock-x-2-en-ojo-de-barro-2/
LOCATION:ojo de barro\, Bolívar 373\, Río Cuarto\, CÓRDOBA\, 5800\, Argentina
CATEGORIES:OJO DE BARRO
ATTACH;FMTTYPE=image/jpeg:https://cultura.riocuarto.gob.ar/wp-content/uploads/Ojovie-e1732807324875.jpeg
END:VEVENT
BEGIN:VEVENT
DTSTART;VALUE=DATE:20241130
DTEND;VALUE=DATE:20241201
DTSTAMP:20260424T220958
CREATED:20241127T143631Z
LAST-MODIFIED:20241128T164649Z
UID:1758-1732924800-1733011199@cultura.riocuarto.gob.ar
SUMMARY:25 ANIVERSARIO SOLO CANTO
DESCRIPTION:Este sábado 30 de noviembre a las 21hs. en el Teatro Municipal\, con entradas a $9000-7000\, se realiza el 25 Aniversario de Solo Canto\, celebración del certamen de nuevos valores\, con la actuación de 18 cantores no profesionales.
URL:https://cultura.riocuarto.gob.ar/event/25-aniversario-solo-canto/
CATEGORIES:TEATRO MUNICIPAL
ATTACH;FMTTYPE=image/png:https://cultura.riocuarto.gob.ar/wp-content/uploads/canto_feed-e1732718163952.png
END:VEVENT
BEGIN:VEVENT
DTSTART;VALUE=DATE:20241130
DTEND;VALUE=DATE:20241201
DTSTAMP:20260424T220958
CREATED:20241128T122055Z
LAST-MODIFIED:20241128T164628Z
UID:1775-1732924800-1733011199@cultura.riocuarto.gob.ar
SUMMARY:JUNTOS Y REVUELTOS
DESCRIPTION:Sábado 30 de noviembre a las 18.30hs. en el Galpón Blanco del Andino\, con entrada gratuita\, Los Talleres de la Caja de Profesionales de la Salud presentan el cierre de las actividades del año denominado Juntos y Revueltos. Invitados: A viva voz-Espacios de canto compartido\, Taller de Folclore del Colegio Médico\, \nTalleres de Maroma/Percusión.
URL:https://cultura.riocuarto.gob.ar/event/juntos-y-revueltos/
CATEGORIES:EL ANDINO
ATTACH;FMTTYPE=image/jpeg:https://cultura.riocuarto.gob.ar/wp-content/uploads/juntos-y-revueltod_fedd-e1732796341552.jpg
END:VEVENT
END:VCALENDAR