BEGIN:VCALENDAR
VERSION:2.0
PRODID:-//Cultura Río Cuarto - ECPv6.15.20//NONSGML v1.0//EN
CALSCALE:GREGORIAN
METHOD:PUBLISH
X-ORIGINAL-URL:https://cultura.riocuarto.gob.ar
X-WR-CALDESC:Eventos para Cultura Río Cuarto
REFRESH-INTERVAL;VALUE=DURATION:PT1H
X-Robots-Tag:noindex
X-PUBLISHED-TTL:PT1H
BEGIN:VTIMEZONE
TZID:America/Argentina/Cordoba
BEGIN:STANDARD
TZOFFSETFROM:-0300
TZOFFSETTO:-0300
TZNAME:-03
DTSTART:20240101T000000
END:STANDARD
END:VTIMEZONE
BEGIN:VEVENT
DTSTART;VALUE=DATE:20250121
DTEND;VALUE=DATE:20250201
DTSTAMP:20260424T194546
CREATED:20250121T150848Z
LAST-MODIFIED:20250121T150910Z
UID:3667-1737417600-1738367999@cultura.riocuarto.gob.ar
SUMMARY:CONVOCATORIA CORO JUVENIL MUNICIPAL
DESCRIPTION:Temporada 2025 \nRequisitos 14 a 25 años –asistencia a los ensayos-. Inscripciones: @corojuvenilmunicipal. 3584114861 \nElenco formado por jóvenes desde los 14 años\, grupos diferenciados según trayectoria\, experiencia y edades. Entrevistas y audiciones la primera semana de febrero. \nInscribite y comenzá a formar parte del Coro Juvenil Municipal. \nSi te gusta cantar\, ¡éste es tu lugar!! \nhttps://forms.gle/Dj4nmyHPuRj5HraJ7
URL:https://cultura.riocuarto.gob.ar/event/convocatoria-coro-juvenil-municipal/
ATTACH;FMTTYPE=image/jpeg:https://cultura.riocuarto.gob.ar/wp-content/uploads/2025/01/convocatoria-e1737472119815.jpg
END:VEVENT
BEGIN:VEVENT
DTSTART;VALUE=DATE:20250131
DTEND;VALUE=DATE:20250201
DTSTAMP:20260424T194546
CREATED:20250115T113725Z
LAST-MODIFIED:20250127T123712Z
UID:3460-1738281600-1738367999@cultura.riocuarto.gob.ar
SUMMARY:LAS PEÑAS DEL ANFI: RALY BARRIONUEVO
DESCRIPTION:VIERNES 31 DE ENERO. 20HS. ANFITEATRO DEL PARQUE SARMIENTO. Primeras 1000 entradas a $8000 a la venta por autoentrada.com y en boletería del Viejo Mercado\, de miércoles a sábado de 18 a 22hs. Menores de 5 años entrada gratuita. \nSe realiza la primera edición de las Peñas del Anfi con la actuación estelar de Raly Barrionuevo. Artistas invitados: Ballet Concordia\, De Amanecidas\, El Patio Santiagueño y Deolinda Sosa. Patio gastronómico. Evento para toda la familia. \nConseguí tu entrada: \nhttps://ventas.autoentrada.com/events/las-penas-del-anfi-raly-barrionuevo-y-artistas-invitados-2025-01-31-20-00-00-0300
URL:https://cultura.riocuarto.gob.ar/event/las-penas-del-anfi-raly-barrionuevo/
CATEGORIES:ANFITEATRO DEL PARQUE SARMIENTO
ATTACH;FMTTYPE=image/jpeg:https://cultura.riocuarto.gob.ar/wp-content/uploads/2025/01/raly-ok-e1736941025328.jpg
END:VEVENT
BEGIN:VEVENT
DTSTART;VALUE=DATE:20250131
DTEND;VALUE=DATE:20250201
DTSTAMP:20260424T194546
CREATED:20250127T124035Z
LAST-MODIFIED:20250127T124155Z
UID:3774-1738281600-1738367999@cultura.riocuarto.gob.ar
SUMMARY:FOLKLORE “DE LA RAÍZ AL CORAZÓN”
DESCRIPTION:VIERNES 31 DE ENERO. 21.00HS. GALPÓN BLANCO DEL ANDINO. Entrada libre y gratuita. No se suspende por mal tiempo. Vení con tu reposera!!\nActúan LOS ANIMALES DEL FOLKLORE y MARTÍN ZANOTTI. \n 
URL:https://cultura.riocuarto.gob.ar/event/folklore-de-la-raiz-al-corazon-5/
CATEGORIES:EL ANDINO,GALPÓN BLANCO. C.C ANDINO
ATTACH;FMTTYPE=image/jpeg:https://cultura.riocuarto.gob.ar/wp-content/uploads/2025/01/VIE-31-01-25-FOLK-FEED-scaled-e1737981726599.jpg
END:VEVENT
BEGIN:VEVENT
DTSTART;VALUE=DATE:20250131
DTEND;VALUE=DATE:20250201
DTSTAMP:20260424T194546
CREATED:20250127T124430Z
LAST-MODIFIED:20250127T124430Z
UID:3780-1738281600-1738367999@cultura.riocuarto.gob.ar
SUMMARY:CICLO ROCA DE MÚSICA
DESCRIPTION:VIERNES 31 DE ENERO. 21.00HS. PLAZA ROCA. Entrada libre y gratuita. Patio gastronómico a partir de las 19.30hs.\nIVÁN CONIGLIO.
URL:https://cultura.riocuarto.gob.ar/event/ciclo-roca-de-musica-5/
CATEGORIES:PLAZA ROCA
ATTACH;FMTTYPE=image/jpeg:https://cultura.riocuarto.gob.ar/wp-content/uploads/2025/01/VIE-31-01-25-ROCA-FEED-scaled-e1737981841727.jpg
END:VEVENT
END:VCALENDAR