BEGIN:VCALENDAR
VERSION:2.0
PRODID:-//Cultura Río Cuarto - ECPv6.15.20//NONSGML v1.0//EN
CALSCALE:GREGORIAN
METHOD:PUBLISH
X-WR-CALNAME:Cultura Río Cuarto
X-ORIGINAL-URL:https://cultura.riocuarto.gob.ar
X-WR-CALDESC:Eventos para Cultura Río Cuarto
REFRESH-INTERVAL;VALUE=DURATION:PT1H
X-Robots-Tag:noindex
X-PUBLISHED-TTL:PT1H
BEGIN:VTIMEZONE
TZID:America/Argentina/Cordoba
BEGIN:STANDARD
TZOFFSETFROM:-0300
TZOFFSETTO:-0300
TZNAME:-03
DTSTART:20240101T000000
END:STANDARD
END:VTIMEZONE
BEGIN:VEVENT
DTSTART;VALUE=DATE:20250425
DTEND;VALUE=DATE:20250427
DTSTAMP:20260424T143304
CREATED:20250423T124233Z
LAST-MODIFIED:20250423T124233Z
UID:5998-1745539200-1745711999@cultura.riocuarto.gob.ar
SUMMARY:ROCK EN EL OJO X 2
DESCRIPTION:Este fin de semana sonará rock en el C.C. Ojo de Barro (Bolívar 373). \nEste viernes 25 de abril desde las 23hs tocan se realiza una nueva edición del Choko Manija Fest con las actuaciones en vivo de las bandas Sazon Funk\, Lazy Hets y Radio Kaos. Entrada libre\, salida a la gorra. \nEste sábado 26 de abril desde las 22hs. se presenta los grupos Los Monos\, Hijo Chimango\, Underboi (Villa Mercedes) y Zombie Loco. Anticipadas $5000.
URL:https://cultura.riocuarto.gob.ar/event/rock-en-el-ojo-x-2-2/
CATEGORIES:OJO DE BARRO
ATTACH;FMTTYPE=image/jpeg:https://cultura.riocuarto.gob.ar/wp-content/uploads/2025/04/Ojo-vie-e1745411969206.jpeg
END:VEVENT
BEGIN:VEVENT
DTSTART;VALUE=DATE:20250426
DTEND;VALUE=DATE:20250427
DTSTAMP:20260424T143304
CREATED:20250424T123910Z
LAST-MODIFIED:20250424T123910Z
UID:6001-1745625600-1745711999@cultura.riocuarto.gob.ar
SUMMARY:CICLO LA PEÑA DEL GALPÓN
DESCRIPTION:Sábado 26 de abril. 20hs. Galpón Blanco C.C Andino. Entrada Gral. $ 5.000\, en puerta. Menores de 12 años s/c. \nComienza el nuevo ciclo folklórico con las actuaciones de Los Riocuartenses\, Darío Romero\, Javier González (San Luis)\, Germán López\, Germán Rojas (Córdoba) y Ballets Invitados. \nServicio de cantina. Podés ingresar con tu mate.
URL:https://cultura.riocuarto.gob.ar/event/ciclo-la-pena-del-galpon/
CATEGORIES:GALPÓN BLANCO. C.C ANDINO
ATTACH;FMTTYPE=image/jpeg:https://cultura.riocuarto.gob.ar/wp-content/uploads/2025/04/Pena-e1745498339754.jpeg
END:VEVENT
END:VCALENDAR