BEGIN:VCALENDAR
VERSION:2.0
PRODID:-//Cultura Río Cuarto - ECPv6.15.20//NONSGML v1.0//EN
CALSCALE:GREGORIAN
METHOD:PUBLISH
X-WR-CALNAME:Cultura Río Cuarto
X-ORIGINAL-URL:https://cultura.riocuarto.gob.ar
X-WR-CALDESC:Eventos para Cultura Río Cuarto
REFRESH-INTERVAL;VALUE=DURATION:PT1H
X-Robots-Tag:noindex
X-PUBLISHED-TTL:PT1H
BEGIN:VTIMEZONE
TZID:America/Argentina/Cordoba
BEGIN:STANDARD
TZOFFSETFROM:-0300
TZOFFSETTO:-0300
TZNAME:-03
DTSTART:20240101T000000
END:STANDARD
END:VTIMEZONE
BEGIN:VEVENT
DTSTART;VALUE=DATE:20250510
DTEND;VALUE=DATE:20250511
DTSTAMP:20260424T113153
CREATED:20250505T133958Z
LAST-MODIFIED:20250505T133958Z
UID:6257-1746835200-1746921599@cultura.riocuarto.gob.ar
SUMMARY:FERIA DE VINILOS
DESCRIPTION:Sábado 10 de mayo. Galpón Blanco del C.C Andino. De 16 a 21hs. Entrada gratuita. \nSe realiza la 17° edición de la feria de compra-venta y canje de vinilos\, cd\, cassettes y dvd. También revistas\, libros\, posters\, stickers y mucho más! Con la participación de expositores de todo el país. DJ’s. Patio de comidas con Food Trucks Sabores Argentinos y Dulce Vibra Pastelería.
URL:https://cultura.riocuarto.gob.ar/event/feria-de-vinilos/
CATEGORIES:GALPÓN BLANCO. C.C ANDINO
ATTACH;FMTTYPE=image/jpeg:https://cultura.riocuarto.gob.ar/wp-content/uploads/2025/05/Vinilos-e1746452385747.jpeg
END:VEVENT
BEGIN:VEVENT
DTSTART;VALUE=DATE:20250510
DTEND;VALUE=DATE:20250511
DTSTAMP:20260424T113153
CREATED:20250505T134457Z
LAST-MODIFIED:20250505T134457Z
UID:6260-1746835200-1746921599@cultura.riocuarto.gob.ar
SUMMARY:CICLO SOY: EL GRAN PASTEL
DESCRIPTION:Sábado 10 de mayo. Teatrino de la Trapalanda (Colón 149). 20hs. Entrada gral. $5000 \nEn el ciclo Soy y en el marco del 13° aniversario de la Sanción de la Ley de Identidad de Género\, se presenta El Gran Pastel\, un espectáculo de Vicky Sagárnaga y Moni Medina\, quienes ofrecerán un repertorio que rescata a las grandes compositoras rioplatenses que asumieron públicamente como su opción erótico-afectiva el amor y el placer entre mujeres y algunas otras intérpretes o canciones que popularizaron la no heterosexualidad como un gesto político desde los escenarios. \nOrganiza: Subsecretaria de Género\, Diversidad y Discapacidad y Subsecretaría de Cultura.
URL:https://cultura.riocuarto.gob.ar/event/ciclo-soy-el-gran-pastel/
CATEGORIES:TEATRINO
ATTACH;FMTTYPE=image/jpeg:https://cultura.riocuarto.gob.ar/wp-content/uploads/2025/05/ciclo-soy-e1746452682786.jpg
END:VEVENT
END:VCALENDAR