BEGIN:VCALENDAR
VERSION:2.0
PRODID:-//Cultura Río Cuarto - ECPv6.15.20//NONSGML v1.0//EN
CALSCALE:GREGORIAN
METHOD:PUBLISH
X-WR-CALNAME:Cultura Río Cuarto
X-ORIGINAL-URL:https://cultura.riocuarto.gob.ar
X-WR-CALDESC:Eventos para Cultura Río Cuarto
REFRESH-INTERVAL;VALUE=DURATION:PT1H
X-Robots-Tag:noindex
X-PUBLISHED-TTL:PT1H
BEGIN:VTIMEZONE
TZID:America/Argentina/Cordoba
BEGIN:STANDARD
TZOFFSETFROM:-0300
TZOFFSETTO:-0300
TZNAME:-03
DTSTART:20240101T000000
END:STANDARD
END:VTIMEZONE
BEGIN:VEVENT
DTSTART;VALUE=DATE:20250523
DTEND;VALUE=DATE:20250524
DTSTAMP:20260424T133207
CREATED:20250520T142314Z
LAST-MODIFIED:20250520T142314Z
UID:6482-1747958400-1748044799@cultura.riocuarto.gob.ar
SUMMARY:CICLO DE LA RAÍZ AL CORAZÓN
DESCRIPTION:Viernes 23 de  mayo. Galpón Blanco del Andino. 21hs. Entrada gratuita \nContinúa el ciclo folklórico De la raíz al corazón\, con las actuaciones del Grupo Folclórico Concordia\, Dúo Darío Aluen y Cacho Bittoco presentan “Bailanta Folklórica” y Almita Aluen.
URL:https://cultura.riocuarto.gob.ar/event/ciclo-de-la-raiz-al-corazon-2/
CATEGORIES:GALPÓN BLANCO. C.C ANDINO
ATTACH;FMTTYPE=image/jpeg:https://cultura.riocuarto.gob.ar/wp-content/uploads/2025/05/ciclo_fedd-e1747750984647.jpg
END:VEVENT
BEGIN:VEVENT
DTSTART;VALUE=DATE:20250523
DTEND;VALUE=DATE:20250524
DTSTAMP:20260424T133207
CREATED:20250520T151959Z
LAST-MODIFIED:20250520T151959Z
UID:6486-1747958400-1748044799@cultura.riocuarto.gob.ar
SUMMARY:BARRO DISIDENTE
DESCRIPTION:Viernes 23 de mayo. C.C. Ojo de Barro (Bolívar 373). 20hs. Entrada gral. a $4000. \nSe realiza el segundo encuentro de Barro Disidente\, en que continúan “con lo que nos hemos propuesto\, mostrar las producciones artísticas de mujeres y disidencias\, en cualquiera de las formas\, que desarrollan en el ámbito de Río Cuarto. En este caso\, contaremos con música en vivo de las Molly\, acústico de Palevadula\, Jam Session libre para vengas a cantar o tocar (trae tu instrumento)\, dúo musical de Vicky Sagárnag y Moni Singer\, rap con Gal4tea\, intervención teatral de Las hijas de Susú\, intervención artística danza circo con Anto Frankel\, La Vir y Hewa Circus. Expo/feria de Sofía Schneider\, Paloma Carbo\, Agna lencería y Vieja loca rockería.
URL:https://cultura.riocuarto.gob.ar/event/barro-disidente/
CATEGORIES:OJO DE BARRO
ATTACH;FMTTYPE=image/jpeg:https://cultura.riocuarto.gob.ar/wp-content/uploads/2025/05/Barro-disidente-e1747754373208.jpeg
END:VEVENT
END:VCALENDAR