BEGIN:VCALENDAR
VERSION:2.0
PRODID:-//Cultura Río Cuarto - ECPv6.15.20//NONSGML v1.0//EN
CALSCALE:GREGORIAN
METHOD:PUBLISH
X-ORIGINAL-URL:https://cultura.riocuarto.gob.ar
X-WR-CALDESC:Eventos para Cultura Río Cuarto
REFRESH-INTERVAL;VALUE=DURATION:PT1H
X-Robots-Tag:noindex
X-PUBLISHED-TTL:PT1H
BEGIN:VTIMEZONE
TZID:America/Argentina/Cordoba
BEGIN:STANDARD
TZOFFSETFROM:-0300
TZOFFSETTO:-0300
TZNAME:-03
DTSTART:20240101T000000
END:STANDARD
END:VTIMEZONE
BEGIN:VEVENT
DTSTART;VALUE=DATE:20250530
DTEND;VALUE=DATE:20250531
DTSTAMP:20260424T122047
CREATED:20250526T150717Z
LAST-MODIFIED:20250526T150717Z
UID:6601-1748563200-1748649599@cultura.riocuarto.gob.ar
SUMMARY:CICLO DE LA RAÍZ AL CORAZÓN
DESCRIPTION:Viernes 30 de mayo. Galpón Blanco. C.C Andino. 21hs. Entrada gratuita. \nEn la continuidad del ciclo folklórico De la raíz al corazón\, se presentan los artistas locales Dúo Amatista y Ballet Imperio. Servicio de cantina.
URL:https://cultura.riocuarto.gob.ar/event/ciclo-de-la-raiz-al-corazon-3/
CATEGORIES:GALPÓN BLANCO. C.C ANDINO
ATTACH;FMTTYPE=image/jpeg:https://cultura.riocuarto.gob.ar/wp-content/uploads/2025/05/DUA_FEDD-e1748272029666.jpg
END:VEVENT
BEGIN:VEVENT
DTSTART;VALUE=DATE:20250530
DTEND;VALUE=DATE:20250531
DTSTAMP:20260424T122047
CREATED:20250526T150959Z
LAST-MODIFIED:20250526T150959Z
UID:6604-1748563200-1748649599@cultura.riocuarto.gob.ar
SUMMARY:CORO JUVENIL MUNICIPAL
DESCRIPTION:Viernes 30 de mayo. Teatrino de la Trapalanda. 21hs. Entrada general $5000. \nEl Coro Juvenil Municipal presenta el espectáculo Un toque bilingüe\, música que une hemisferios\, un concierto donde la música cruza fronteras. \nUn toque bilingüe es un recorrido sonoro por géneros folklóricos y populares de América\, desde el sur hasta el norte\, en un entramado de estilos y climas que abrazan generaciones\, tradiciones y nuevas miradas. La propuesta se enriquece con la participación del dúo Mati Leyes & Clara Altamirano\, el grupo Abajo del Puente\, y más artistas invitados que\, además de formar parte del coro\, despliegan su arte en distintas bandas de la escena local. Una experiencia colectiva que celebra el talento joven y la riqueza cultural de nuestro territorio.
URL:https://cultura.riocuarto.gob.ar/event/coro-juvenil-municipal/
CATEGORIES:TEATRINO
ATTACH;FMTTYPE=image/jpeg:https://cultura.riocuarto.gob.ar/wp-content/uploads/2025/05/Coro-juvenil-e1748272173930.jpg
END:VEVENT
BEGIN:VEVENT
DTSTART;VALUE=DATE:20250530
DTEND;VALUE=DATE:20250531
DTSTAMP:20260424T122047
CREATED:20250526T152913Z
LAST-MODIFIED:20250526T152913Z
UID:6613-1748563200-1748649599@cultura.riocuarto.gob.ar
SUMMARY:ROCK EN EL OJO
DESCRIPTION:Viernes 30 de mayo. C.C. Ojo de Barro (Bolívar 373). 23hs. Anticipadas $5000. \nSuena rock en el Ojo con las bandas rockeras Rocket Jam\, Moro y Amerita.
URL:https://cultura.riocuarto.gob.ar/event/rock-en-el-ojo-5/
CATEGORIES:OJO DE BARRO
ATTACH;FMTTYPE=image/jpeg:https://cultura.riocuarto.gob.ar/wp-content/uploads/2025/05/Rock-en-el-Ojo-1-e1748273345685.jpeg
END:VEVENT
END:VCALENDAR