BEGIN:VCALENDAR
VERSION:2.0
PRODID:-//Cultura Río Cuarto - ECPv6.15.20//NONSGML v1.0//EN
CALSCALE:GREGORIAN
METHOD:PUBLISH
X-ORIGINAL-URL:https://cultura.riocuarto.gob.ar
X-WR-CALDESC:Eventos para Cultura Río Cuarto
REFRESH-INTERVAL;VALUE=DURATION:PT1H
X-Robots-Tag:noindex
X-PUBLISHED-TTL:PT1H
BEGIN:VTIMEZONE
TZID:America/Argentina/Cordoba
BEGIN:STANDARD
TZOFFSETFROM:-0300
TZOFFSETTO:-0300
TZNAME:-03
DTSTART:20240101T000000
END:STANDARD
END:VTIMEZONE
BEGIN:VEVENT
DTSTART;VALUE=DATE:20250830
DTEND;VALUE=DATE:20250831
DTSTAMP:20260422T114318
CREATED:20250813T133221Z
LAST-MODIFIED:20250813T133221Z
UID:8391-1756512000-1756598399@cultura.riocuarto.gob.ar
SUMMARY:JUNTOS Y REVUELTOS 2
DESCRIPTION:Sábado 30 de agosto. Teatrino de la Trapalanda. 20hs. Entrada gral. $5000. \nEl grupo coral Otra Trama y el grupo de percusión Cajoneando\, presentan el espectáculo Juntos y revueltos 2° Edición. \nEn un mundo de vorágine digital deshumanizada\, renacen grupos humanos que apuestan\, y se animan\, al encuentro\, hermanados en el arte. Vinculados a la Caja de Profesionales de la Salud\, el grupo coral Otra Trama\, a cargo del profesor Javier Toto Romero\, y Cajoneando\, grupo de percusión dirigido por el profesor Máximo Federice\, brindan una muestra de lo trabajado en la primera parte del año. La música\, el canto y el disfrute son los verdaderos protagonistas.
URL:https://cultura.riocuarto.gob.ar/event/juntos-y-revueltos-2/
CATEGORIES:TEATRINO
ATTACH;FMTTYPE=image/jpeg:https://cultura.riocuarto.gob.ar/wp-content/uploads/2025/08/Juntos-y-revueltos-e1755091934645.jpg
END:VEVENT
END:VCALENDAR